BEGIN:VCALENDAR
VERSION:2.0
PRODID:-//G-TAC - ECPv6.15.20//NONSGML v1.0//EN
CALSCALE:GREGORIAN
METHOD:PUBLISH
X-ORIGINAL-URL:https://g-tac.ca
X-WR-CALDESC:Events for G-TAC
REFRESH-INTERVAL;VALUE=DURATION:PT1H
X-Robots-Tag:noindex
X-PUBLISHED-TTL:PT1H
BEGIN:VTIMEZONE
TZID:America/Toronto
BEGIN:DAYLIGHT
TZOFFSETFROM:-0500
TZOFFSETTO:-0400
TZNAME:EDT
DTSTART:20220313T070000
END:DAYLIGHT
BEGIN:STANDARD
TZOFFSETFROM:-0400
TZOFFSETTO:-0500
TZNAME:EST
DTSTART:20221106T060000
END:STANDARD
BEGIN:DAYLIGHT
TZOFFSETFROM:-0500
TZOFFSETTO:-0400
TZNAME:EDT
DTSTART:20230312T070000
END:DAYLIGHT
BEGIN:STANDARD
TZOFFSETFROM:-0400
TZOFFSETTO:-0500
TZNAME:EST
DTSTART:20231105T060000
END:STANDARD
BEGIN:DAYLIGHT
TZOFFSETFROM:-0500
TZOFFSETTO:-0400
TZNAME:EDT
DTSTART:20240310T070000
END:DAYLIGHT
BEGIN:STANDARD
TZOFFSETFROM:-0400
TZOFFSETTO:-0500
TZNAME:EST
DTSTART:20241103T060000
END:STANDARD
END:VTIMEZONE
BEGIN:VEVENT
DTSTART;TZID=America/Toronto:20230801T090000
DTEND;TZID=America/Toronto:20230801T090000
DTSTAMP:20260421T053748
CREATED:20231113T032252Z
LAST-MODIFIED:20231113T032252Z
UID:4716-1690880400-1690880400@g-tac.ca
SUMMARY:加拿大出/租房的那些事
DESCRIPTION:作为新移民租客如何租到适合的房子\, 签订租约的时候应该注意什么?\n作为房东，怎么找到那个省心的好租客，如何尽量避免不良租客？\n一旦发生租房纠纷，该如何处理？ \n加拿大人口总数近期达到了历史新高，突破了4千万。这为加拿大经济发展注入了极大的活力，同时也加剧了出租房市场的价格攀升。另外，你知道吗?根据加拿大最近的统计报告，在加拿大有大约8%的家庭有出租房收入。房东与租客就像一枚硬币的两面，共生共存。移民来到加拿大，每个人的生活理念不同境遇不同。 有的人乐于投资，当起了物主房东。有的人或者在择机等候，或者为了孩子上学，为了靠近工作单位，或者只是为了追求生活简单，选择租房。 总之，房主与租客共生共存，双方都应该了解各自的权利和义务，做好基本的预期准备，才能适得其所，安居乐业。出租房还是租房都是为了更好的生活，减少不必要的麻烦是双方的共同需要。\n加拿大的法律关于房东与房客的权责有较为完善的规定，如果缺乏必要的了解，可能会给自己的生活产生很多烦恼。本期讲座我们很高兴地邀请到来自大多地区WIN&WIN team的Sofia Wu以及Edward Xin，两位常年是公司的金牌地产经纪，他们将根据各自的多年经验，从实际操作的角度，为新移民朋友介绍加拿大有关出租房的那些事， 希望大家做好知识储备以及预期准备，顺顺利利地在加拿大安居生活。\n 
URL:https://g-tac.ca/event/%e5%8a%a0%e6%8b%bf%e5%a4%a7%e5%87%ba-%e7%a7%9f%e6%88%bf%e7%9a%84%e9%82%a3%e4%ba%9b%e4%ba%8b/
ATTACH;FMTTYPE=image/jpeg:https://g-tac.ca/wp-content/uploads/2023/07/111.jpg
END:VEVENT
BEGIN:VEVENT
DTSTART;TZID=America/Toronto:20230803T110000
DTEND;TZID=America/Toronto:20230803T110000
DTSTAMP:20260421T053748
CREATED:20231113T032251Z
LAST-MODIFIED:20231113T032251Z
UID:4715-1691060400-1691060400@g-tac.ca
SUMMARY:? BCCA Newcomer Services: Empowering your journey to success in Canada! ?
DESCRIPTION:Did you know that the construction sector in Canada is booming like never before?\nHave you ever wondered what exciting pathways this dynamic industry holds for newcomers like you?\nWhat are the services/programs to help you kickstart your journey in Canada’s construction sector? \n \n? Join us for an exciting webinar hosted by BCCA Integrating Newcomer Services\, where we unravel the thriving construction sector in Canada and the career opportunities it offers for individuals with diverse backgrounds!\n? Our expert speakers\, Alice Calmettes\, Program Manager and Louise Nichol\, Skills Assessor\, both are well-versed in the industry and dedicated to serving newcomers\, will provide you with up-to-date insights into the ever-evolving landscape of the Canadian construction sector. Uncover the hottest trends\, skill demands\, and growth projections that will empower you to make informed decisions about your career path.\n? Whether you come from engineering\, architecture\, finance\, IT\, or any other background\, the construction sector has a place for you! Explore diverse roles such as project management\, sustainability specialists\, skilled trades\, technology integration\, and more. The opportunities are boundless\, and we’re here to guide you every step of the way.\n? Don’t miss this chance to pave your way towards a rewarding career in Canada’s thriving construction sector. Register now\, and let us be your guide in turning your dreams into reality! ?\n 
URL:https://g-tac.ca/event/%f0%9f%8d%81-bcca-newcomer-services-empowering-your-journey-to-success-in-canada-%f0%9f%8d%81/
ATTACH;FMTTYPE=image/jpeg:https://g-tac.ca/wp-content/uploads/2023/07/28.jpg
END:VEVENT
BEGIN:VEVENT
DTSTART;TZID=America/Toronto:20230815T090000
DTEND;TZID=America/Toronto:20230815T090000
DTSTAMP:20260421T053748
CREATED:20231113T032251Z
LAST-MODIFIED:20231113T032251Z
UID:4714-1692090000-1692090000@g-tac.ca
SUMMARY:徐徐道来(2 )- 新移民登陆NB省，如何少走弯路，快速适应
DESCRIPTION:• 您想了解NB省和省会弗莱的基本情况吗？• 开始新生活，新移民如何准备如何安顿，有哪些注意事项？\n• 既来之则安之，移民生活怎样才能有滋有味，尽快融入当地社会呢？\n此心安处是吾乡。欢迎您，New Brunswick（NB）省的新移民！是不是对这个新家的名字还有点陌生呢？其实，这些年来NB省定居的新移民越来越多了。弗莱（Fredericton）是NB省的省会，离蒙克多（Moncton）和圣约翰城都很近，那里的生活方便吗？枫叶卡，医疗卡，买房买车，申请福利，一系列登陆后面临的问题怎么解决呢？\n如果您有这样的担忧和困惑，欢迎您来听听新移民老徐的分享， 2022年她登陆NB省，并快速找到专业工作，是一个做事有准备、生活有目标的人。她的经验分享及当地生活体验，一定可以为您在NB省的衣食住行提供多快好省的借鉴和tips。让我们共同期待吧。\n 
URL:https://g-tac.ca/event/%e5%be%90%e5%be%90%e9%81%93%e6%9d%a52-%e6%96%b0%e7%a7%bb%e6%b0%91%e7%99%bb%e9%99%86nb%e7%9c%81%ef%bc%8c%e5%a6%82%e4%bd%95%e5%b0%91%e8%b5%b0%e5%bc%af%e8%b7%af%ef%bc%8c%e5%bf%ab%e9%80%9f%e9%80%82/
ATTACH;FMTTYPE=image/jpeg:https://g-tac.ca/wp-content/uploads/2023/07/ME-calendar-1.jpg
END:VEVENT
BEGIN:VEVENT
DTSTART;TZID=America/Toronto:20230817T090000
DTEND;TZID=America/Toronto:20230817T090000
DTSTAMP:20260421T053748
CREATED:20231113T032241Z
LAST-MODIFIED:20231113T032241Z
UID:4711-1692262800-1692262800@g-tac.ca
SUMMARY:Green Jobs and Their Rising Demand in Canada by ECO Canada
DESCRIPTION:– Are you curious about the booming world of green jobs and their increasing demand in Canada?– Do you want to discover how you can be a part of this sustainable and impactful movement?\nJoin us for an enlightening webinar hosted by ECO Canada\, where we will delve into the exciting realm of environmental work and explore the promising job outlook in the country.\nOver the past decade\, Canada has witnessed a significant surge in environmental priorities\, regulations\, and investments\, leading to a remarkable growth in green jobs. As we move forward\, the impact of this development will be felt in every region and across nearly every occupation in the nation\, making environmental work a prime career choice. By 2025\, the demand for environmental workers is expected to create as many as 173\,000 net openings.\nBecoming an environmental worker may seem daunting\, but fear not! Our webinar will guide you through the process of entering this thriving sector. We will uncover the paths to becoming an environmental worker and discuss the free programs and trainings available to assist you in your journey.\nECO Canada is dedicated to supporting individuals like you who are passionate about making a difference in the environmental field. During the webinar\, our experts will provide valuable insights on how you can access hand-on training\, gain essential accreditations and certifications\, and connect with potential employers.\nAbout the Speakers:\nBrenden Stephen. Brenden has been finding creative solutions to training and Human Resources needs for 10 years now. Having grown up in the small town of Vanderhoof\, BC\, Brenden understands the need for clear communication and teamwork. After attending the University of Alberta\, Brenden continued to educate himself and endears to be a lifelong learner. Brenden is committed to helping improve the environmental industry and works hard to live with an intentional focus on renewability and sustainability.\nMarsha Ord. Marsha is a Project Administrative Assistant for the Employment Programs team at ECO Canada. Specifically working on wage funding\, Marsha supports our Regional Coordinators in providing organizations and environmental professionals with wage subsidy support to further their environmental careers. With a Bachelor of Arts in Political Science and over 6 years of experience in administrative work\, customer service\, and podcast production\, Marsha brings a wide range of unique skills and passion to educate the workforce about green careers and the opportunities available to support environmental professionals.\nDon’t miss this fantastic webinar that could shape the course of your career in environmental work. Register now!\n 
URL:https://g-tac.ca/event/green-jobs-and-their-rising-demand-in-canada-by-eco-canada/
ATTACH;FMTTYPE=image/jpeg:https://g-tac.ca/wp-content/uploads/2023/07/5.jpg
END:VEVENT
BEGIN:VEVENT
DTSTART;TZID=America/Toronto:20230822T090000
DTEND;TZID=America/Toronto:20230822T090000
DTSTAMP:20260421T053748
CREATED:20231113T032240Z
LAST-MODIFIED:20231113T032240Z
UID:4710-1692694800-1692694800@g-tac.ca
SUMMARY:Job Search Strategies and Tips to Landing My First Accounting Job in Canada
DESCRIPTION:Are you eager to launch or re-launch your career in the accounting field in Canada but unsure of where to begin?Come and join Chelsea Liu\, a Chartered Professional Accountant (CPA) of Canada\, Senior Financial Analyst\, for an empowering webinar that will equip you with the knowledge\, strategies\, and resources needed to navigate the path to a successful accounting career in Canada. From strategic job search techniques to interview preparation and in-demand skills\, She will guide you through the essential steps towards your standing out from the competition.\nKey Topics include: \nStrategizing Your Job Search: learn how to target your job search\, leverage online platforms\, and network effectively to increase your chances of getting noticed by employers.\nInterview preparation: getting prepared for common interview questions\, presenting your strengths confidently\, and showcasing your adaptability.\nIn-Demand Skills and Certifications: gain insights into the skills and certifications favored by employers in the Canadian accounting landscape.\nThe Power of Bridging Programs/Trainings: uncover how bridging programs/trainings can be your shortcut to success. \nThis webinar is open to all accounting enthusiasts\, graduates\, and professionals who aspire to launch their career in the Canadian job market.\nMark your calendars and seize this opportunity to unlock your potential and pave the way for a flourishing accounting career in Canada.\n 
URL:https://g-tac.ca/event/job-search-strategies-and-tips-to-landing-my-first-accounting-job-in-canada/
ATTACH;FMTTYPE=image/jpeg:https://g-tac.ca/wp-content/uploads/2023/07/8.jpg
END:VEVENT
BEGIN:VEVENT
DTSTART;TZID=America/Toronto:20230824T090000
DTEND;TZID=America/Toronto:20230824T090000
DTSTAMP:20260421T053748
CREATED:20231113T032251Z
LAST-MODIFIED:20231113T032251Z
UID:4713-1692867600-1692867600@g-tac.ca
SUMMARY:? Accelerate Your Career in London\, Canada: Unleashing Opportunities in a Thriving Hub ?
DESCRIPTION:Are you ready to take your career to new heights and seize the abundance of opportunities in one of Canada’s most vibrant cities? Join us for an inspiring webinar that delves into the economic landscape of London\, Canada\, and discover how this dynamic city can become your gateway to success!Nestled in the heart of Ontario\, London is a city renowned for its robust economy and diverse industries. With a population that embraces innovation and creativity\, London has evolved into a thriving economic hub\, playing a pivotal role in Canada’s prosperity.\n? Key Industries and their Importance ?\nLondon boasts a diverse range of key industries that have been instrumental in its growth and Canada’s economy as a whole. From advanced manufacturing and technology to healthcare and life sciences\, each sector offers unique opportunities for professionals seeking to shape their careers. In addition\,  the city’s burgeoning technology startups\, renewable energy ventures\, and digital media companies are creating a demand for skilled talent\, making London a hotspot for innovation-driven careers.\n? Why London is Your Ideal Place to Live and Work ? \nVibrant Community: London’s welcoming and diverse community fosters an environment where individuals from all walks of life can flourish personally and professionally.\nEducation and Research: Home to renowned institutions and research centers\, London offers access to top-notch education and a culture of continuous learning.\nAffordable Living: Compared to other major cities\, London boasts a lower cost of living\, allowing you to make the most of your hard-earned income.\nProximity to Major Cities: Situated just a few hours away from Toronto and other major cities\, London offers the best of both worlds – a close-knit community with access to big city amenities. \n? Your Path to Success Starts Here ?\nIn this webinar\, industry experts and successful professionals will share invaluable insights\, providing you with a roadmap to accelerate your career in London\, Canada. Whether you are a recent graduate or a seasoned professional looking for a change\, this webinar will inspire you to embark on a transformative journey towards a fulfilling and prosperous future.\n? Mark Your Calendar ?  See you at the webinar!\n 
URL:https://g-tac.ca/event/%f0%9f%8c%9f-accelerate-your-career-in-london-canada-unleashing-opportunities-in-a-thriving-hub-%f0%9f%8c%9f/
ATTACH;FMTTYPE=image/jpeg:https://g-tac.ca/wp-content/uploads/2023/07/ME-calendar-3.jpg
END:VEVENT
BEGIN:VEVENT
DTSTART;TZID=America/Toronto:20230829T090000
DTEND;TZID=America/Toronto:20230829T090000
DTSTAMP:20260421T053748
CREATED:20231113T032240Z
LAST-MODIFIED:20231113T032240Z
UID:4709-1693299600-1693299600@g-tac.ca
SUMMARY:How to Craft an Impressive Resume for the Canadian Labour Market
DESCRIPTION:In today’s competitive job market\, a powerful resume can be the key to unlocking new opportunities and securing your dream job. Join us for an insightful webinar on “Resume Workshop” led by Shaw Quan\, a seasoned Employment Consultant.During this engaging session\, you will gain valuable insights on how to create a professional resume tailored for the Canadian Labour Market. We will cover essential topics\, including:\n1. Incorporating Keywords: Learn the importance of “keywords” and how to strategically integrate them into your resume. Discover how these words can enhance your chances of getting noticed by hiring managers.\n2. Crafting a Compelling Summary: Your resume’s summary is the gateway to making a strong first impression. We will guide you in creating a captivating summary that captures an employer’s attention and showcases your unique strengths.\n3. Showcasing Your Qualifications: Highlighting your skills and experience effectively is crucial. We will provide you with practical tips to present your qualifications in the most impactful way possible.\nShaw brings a wealth of experience from working for newcomer jobseekers for decades. His passion for helping individuals achieve their goals shines through\, making him the perfect guide in this journey to crafting a winning resume.\nThroughout the webinar\, you will have access to various examples\, giving you the best possible assistance in writing your resume. The session will also include a Q&A segment\, where you can ask specific questions and gain personalized advice.\nSecure your spot now!
URL:https://g-tac.ca/event/how-to-craft-an-impressive-resume-for-the-canadian-labour-market/
ATTACH;FMTTYPE=image/jpeg:https://g-tac.ca/wp-content/uploads/2023/04/10.jpg
END:VEVENT
BEGIN:VEVENT
DTSTART;TZID=America/Toronto:20230831T110000
DTEND;TZID=America/Toronto:20230831T110000
DTSTAMP:20260421T053748
CREATED:20231113T032241Z
LAST-MODIFIED:20231113T032241Z
UID:4712-1693479600-1693479600@g-tac.ca
SUMMARY:Career Paths for Skilled Immigrants
DESCRIPTION:Are you a professional newcomer ready to reignite your career in your new homeland? ? Do you ever wonder how to bridge the gap between your aspirations and local job market demands? ? Are you eager to connect with like-minded professionals and potential employers in your area? If these questions resonate with you\, then you’re in for an informative and empowering experience at the upcoming ISSofBC Career Paths webinar!We understand the unique challenges you face as a newcomer\, and we’re here to help you navigate the journey to reclaiming your professional identity.\n? Discover how our Personalized one-on-one career support and coaching can give you the tailored guidance you need to map out your career trajectory in a new environment.\n? Ever thought about acquiring new skills or updating your credentials? Uncover how our Funding for skills upgrading and re-credentialing can open doors to endless possibilities and enhance your competitiveness in the job market.\n? Networking is often the key to unlocking hidden job opportunities. Learn about the exciting Opportunities we offer to connect you with local networks and employers\, helping you establish a strong professional presence in your adopted community.\n \nRegister now to this webinar to connect with fellow professionals\, gain insights from industry experts\, and take the first step towards your enriched career journey.\n 
URL:https://g-tac.ca/event/career-paths-for-skilled-immigrants/
ATTACH;FMTTYPE=image/jpeg:https://g-tac.ca/wp-content/uploads/2023/07/ME-calendar-5.jpg
END:VEVENT
END:VCALENDAR