BEGIN:VCALENDAR
VERSION:2.0
PRODID:-//G-TAC - ECPv6.15.20//NONSGML v1.0//EN
CALSCALE:GREGORIAN
METHOD:PUBLISH
X-WR-CALNAME:G-TAC
X-ORIGINAL-URL:https://g-tac.ca
X-WR-CALDESC:Events for G-TAC
REFRESH-INTERVAL;VALUE=DURATION:PT1H
X-Robots-Tag:noindex
X-PUBLISHED-TTL:PT1H
BEGIN:VTIMEZONE
TZID:America/Toronto
BEGIN:DAYLIGHT
TZOFFSETFROM:-0500
TZOFFSETTO:-0400
TZNAME:EDT
DTSTART:20220313T070000
END:DAYLIGHT
BEGIN:STANDARD
TZOFFSETFROM:-0400
TZOFFSETTO:-0500
TZNAME:EST
DTSTART:20221106T060000
END:STANDARD
BEGIN:DAYLIGHT
TZOFFSETFROM:-0500
TZOFFSETTO:-0400
TZNAME:EDT
DTSTART:20230312T070000
END:DAYLIGHT
BEGIN:STANDARD
TZOFFSETFROM:-0400
TZOFFSETTO:-0500
TZNAME:EST
DTSTART:20231105T060000
END:STANDARD
BEGIN:DAYLIGHT
TZOFFSETFROM:-0500
TZOFFSETTO:-0400
TZNAME:EDT
DTSTART:20240310T070000
END:DAYLIGHT
BEGIN:STANDARD
TZOFFSETFROM:-0400
TZOFFSETTO:-0500
TZNAME:EST
DTSTART:20241103T060000
END:STANDARD
END:VTIMEZONE
BEGIN:VEVENT
DTSTART;TZID=America/Toronto:20230704T090000
DTEND;TZID=America/Toronto:20230704T090000
DTSTAMP:20260421T070657
CREATED:20231113T032321Z
LAST-MODIFIED:20231113T032321Z
UID:4724-1688461200-1688461200@g-tac.ca
SUMMARY:业内人士分享：在加拿大， IT岗位现状及如何高效找到相关工作
DESCRIPTION:– 加拿大IT岗位的主要分布在哪里？求职渠道有哪些？– 非IT专业人士考虑转行到IT岗位，有哪些需要考虑的要素？有哪些值得考虑programs？\n– IT专业人士，如何快速找到工作，海投的效果怎么样？\n– 如何应对面试中可能遇到的英语口音问题？\n有没有被最近科技业裁员的新闻吓到？高科技行业起起伏伏，但始终是我们新移民热捧的职业方向。加拿大的多伦多在近几年里不动声色地发展成为及美国湾区/硅谷， 西雅图之后的第三大科技中心，为有科技背景的专业人士提供了丰富的就业机会和优厚的薪资待遇。那么对于我们华人新移民，如何做好自己的职业规划，是否需要跟风转行学习与IT相关的专业，如何顺应形式势得到更大的职业提升，G-TAC很荣幸地请到了Carlos， 从专业人士的角度分享他的个人经历与思考，抛砖引玉，希望帮助新移民朋友开拓思路快速找到专业工作，尽早在加拿大职场发光发热大展宏图。\n主讲人介绍：\nCarlos， 来加拿大前任职世界知名高科技企业业务经理，现居住多伦多，任职游戏公司高级软件开发工程师，startup创业者。\n 
URL:https://g-tac.ca/event/%e4%b8%9a%e5%86%85%e4%ba%ba%e5%a3%ab%e5%88%86%e4%ba%ab%ef%bc%9a%e5%9c%a8%e5%8a%a0%e6%8b%bf%e5%a4%a7%ef%bc%8c-it%e5%b2%97%e4%bd%8d%e7%8e%b0%e7%8a%b6%e5%8f%8a%e5%a6%82%e4%bd%95%e9%ab%98%e6%95%88/
ATTACH;FMTTYPE=image/jpeg:https://g-tac.ca/wp-content/uploads/2023/06/3.jpg
END:VEVENT
BEGIN:VEVENT
DTSTART;TZID=America/Toronto:20230706T110000
DTEND;TZID=America/Toronto:20230706T110000
DTSTAMP:20260421T070657
CREATED:20231113T032321Z
LAST-MODIFIED:20231113T032321Z
UID:4723-1688641200-1688641200@g-tac.ca
SUMMARY:Fast-tracking Employment in Canada for Skilled Immigrants: Introducing the FAST Program
DESCRIPTION:• Do you want to gain insights into the practice of your occupation in Canada?• Do you want to learn the resources to fast launch your career in Canada?\nIf you are a newcomer to Canada\, or in the process of get the permanent resident status\, welcome to learn more of the FAST program\, which is funded by the Government of Canada.\nFAST (Facilitating Access to Skilled Talent) is a FREE\, online\, self-competency assessment program for skilled immigrants in IT & Data Services\, Biotech & Life Sciences\, Accounting & Finance\, Culinary Arts\, Skilled Trades and Seniors Care. FAST can not only help you understand how your work experience and training meets Canadian standards in your sector but will also provide you with access to a variety of free resources such as networking events\, professional designations\, and much more to help you reach your employment goals in Canada!\nAbout the Speaker: Tobin Bio – She is a Project Coordinator for the FAST program\, and its subprogram SPRINT\, with the Immigrant Employment Council of BC (IEC-BC). Kim works daily to ensure that newcomers to Canada reach their employment goals by providing additional resources and tools to ensure that newcomers are as prepare as possible to enter the Canadian workforce.\n 
URL:https://g-tac.ca/event/fast-tracking-employment-in-canada-for-skilled-immigrants-introducing-the-fast-program/
ATTACH;FMTTYPE=image/jpeg:https://g-tac.ca/wp-content/uploads/2023/06/4.jpg
END:VEVENT
BEGIN:VEVENT
DTSTART;TZID=America/Toronto:20230711T110000
DTEND;TZID=America/Toronto:20230711T110000
DTSTAMP:20260421T070657
CREATED:20231113T032307Z
LAST-MODIFIED:20231113T032307Z
UID:4722-1689073200-1689073200@g-tac.ca
SUMMARY:新移民如何职业规划: 找到新的起点\, 树立新的职业目标
DESCRIPTION:• 如何才能在加拿大的就业市场中脱颖而出？• 应该采取哪些方法步骤才会充分利用自己积累的的技能和经验？\n• 如何通过职业规划不仅解决就业问题道更能在日后的职场上有更长远的进步?\n移民好像我们人生的reset。在陌生的国家开始新的生活，还要重新找工作，不是容易的事。但是移民生活也为我们打开了一扇新的门，让我们有机会整理以往的经历和才能，在新的环境里尝试不同的生活和职业。 而工作当然是移民新生活的重要组成部分。无论您是否满意您移民前的职业，移民来到加拿大，面临重新进入新的职场，这都是一次宝贵的机会，因为您可以更主动地计划和安排自己今后的职业方向和发展的目标。\nG-TAC有荣幸邀请到有20+年工作和创业经验的多伦多second Career的就业顾问，Cathy Qin女士，作为本次讲座的主讲人，通过互动式讨论、实用贴士和真实案例分析，帮助您了解专门针对新移民的职业规划及要点， 以及如何制定个性化职业行动计划，从而可以有步骤有目的地进入加拿大职场，发挥自己的优势，实现长远的职场目标。\n欢迎参加！\n 
URL:https://g-tac.ca/event/%e6%96%b0%e7%a7%bb%e6%b0%91%e5%a6%82%e4%bd%95%e8%81%8c%e4%b8%9a%e8%a7%84%e5%88%92-%e6%89%be%e5%88%b0%e6%96%b0%e7%9a%84%e8%b5%b7%e7%82%b9-%e6%a0%91%e7%ab%8b%e6%96%b0%e7%9a%84%e8%81%8c%e4%b8%9a/
ATTACH;FMTTYPE=image/jpeg:https://g-tac.ca/wp-content/uploads/2023/06/5.jpg
END:VEVENT
BEGIN:VEVENT
DTSTART;TZID=America/Toronto:20230713T090000
DTEND;TZID=America/Toronto:20230713T090000
DTSTAMP:20260421T070657
CREATED:20231113T032307Z
LAST-MODIFIED:20231113T032307Z
UID:4721-1689238800-1689238800@g-tac.ca
SUMMARY:Hiring Info Session – Exploring Tech Sector Opportunities in Ottawa\, Canada
DESCRIPTION:Are you eager to discover exciting career opportunities in the booming tech sector of Ottawa\, Canada? Join us for an engaging webinar where we will delve into the dynamic landscape of the tech job market\, learn about the skills and experience employers seek\, and explore how you can stand out as a candidate in this competitive industry.During this information-packed session\, we will cover the following topics\, including:\n– Overview of the tech labor market in Ottawa: Gain insights into the current state of the tech industry in Ottawa.\n– Job and skill requirements: Understand the specific job and skill requirements for various tech roles\, e.g. front-end and back-end software development\, data scientist\, hardware engineer\, antenna engineer\, and more. Gain valuable insights into the technical skills\, programming languages\, certifications\, and educational backgrounds that can enhance your chances of landing your dream job.\n– Standing out as a candidate: Learn strategies to make a strong impression during the hiring process. We’ll discuss resume and cover letter tips\, interview techniques\, and ways to showcase your skills and experience effectively.\n– Q&A session: We value your curiosity! Following the presentation\, we will have a live Q&A session where you can ask any questions about the tech job market\, job requirements\, or strategies to succeed in your career.\nWhether you are a recent graduate\, a seasoned professional\, or considering a career transition into the tech sector\, this webinar is designed to provide you with the information and insights you need to navigate the exciting opportunities available in Ottawa’s tech industry.\n 
URL:https://g-tac.ca/event/hiring-info-session-exploring-tech-sector-opportunities-in-ottawa-canada/
ATTACH;FMTTYPE=image/jpeg:https://g-tac.ca/wp-content/uploads/2023/06/6.jpg
END:VEVENT
BEGIN:VEVENT
DTSTART;TZID=America/Toronto:20230718T110000
DTEND;TZID=America/Toronto:20230718T110000
DTSTAMP:20260421T070657
CREATED:20231113T032307Z
LAST-MODIFIED:20231113T032307Z
UID:4720-1689678000-1689678000@g-tac.ca
SUMMARY:在加拿大找到专业工作没有那么难！
DESCRIPTION:加拿大近些年一直在持续大规模引入新移民， 主要的原因就是要应对人口老龄化所带来的劳动力短缺的社会问题。那么新移民来了以后容易找到专业工作吗？对于这个问题其实没有简单的答案。找工作因人而异，同时跟专业背景和所在地区的经济结构和发展水平相关，有时也跟运气有点关系。但是不能否认的是：找工作确实有方法和技巧， 了解学习了这些方法和技巧，可以有效地帮助我们打开局面，加快找到专业工作。本期讲座的主讲人是G-TAC的讲座听众，NB省新移民老徐。她登陆不到一年的时间，成功地在加拿大RBC银行找到了工作，总结了一些实用技巧，并且愿意分享给大家，我们很感谢老徐的热心，也相信她的分享一定会给大家带来启发和帮助（或许还有惊喜），欢迎您的参加。讲座的主要内容包括：\n• 如何在加拿大零售银行业（retail bank）申请工作机会：包括岗位介绍\n• 如何在简历中突出相关的技能、资格和经验，从而得到面试机会\n• 如何为零售银行业的面试做好准备并脱颖而出\n 
URL:https://g-tac.ca/event/%e5%9c%a8%e5%8a%a0%e6%8b%bf%e5%a4%a7%e6%89%be%e5%88%b0%e4%b8%93%e4%b8%9a%e5%b7%a5%e4%bd%9c%e6%b2%a1%e6%9c%89%e9%82%a3%e4%b9%88%e9%9a%be%ef%bc%81/
ATTACH;FMTTYPE=image/jpeg:https://g-tac.ca/wp-content/uploads/2023/06/7.jpg
END:VEVENT
BEGIN:VEVENT
DTSTART;TZID=America/Toronto:20230720T090000
DTEND;TZID=America/Toronto:20230720T090000
DTSTAMP:20260421T070657
CREATED:20231113T032306Z
LAST-MODIFIED:20231113T032306Z
UID:4719-1689843600-1689843600@g-tac.ca
SUMMARY:Mastering the Canadian Job Market: Strategies for Success in Your Job Search
DESCRIPTION:Join our exclusive webinar on “Job Search Strategy in Canada” and uncover the secrets to landing your dream job in the Canadian job market. Are you ready to take your job search to the next level? Ask yourself:– Struggling to find job opportunities that match your skills and experience?\n– Confused about the Canadian job market and its unique requirements?\n– Unsure about the best strategies to stand out among other candidates?\n– Wondering how to optimize your resume and cover letter for Canadian employers?\n– Want to master networking techniques to tap into the hidden job market?\n– Curious about the latest online job search tools and platforms in Canada?\nIf you answered “yes” to any of these questions\, this webinar is perfect for you! Our experienced career coach will share invaluable insights\, practical tips\, and proven strategies to help you succeed in your job search journey in Canada.\nDon’t miss out on this opportunity to gain a competitive edge and unlock the doors to career advancement.\n 
URL:https://g-tac.ca/event/mastering-the-canadian-job-market-strategies-for-success-in-your-job-search/
ATTACH;FMTTYPE=image/jpeg:https://g-tac.ca/wp-content/uploads/2023/02/2.jpg
END:VEVENT
BEGIN:VEVENT
DTSTART;TZID=America/Toronto:20230725T110000
DTEND;TZID=America/Toronto:20230725T110000
DTSTAMP:20260421T070657
CREATED:20231113T032306Z
LAST-MODIFIED:20231113T032306Z
UID:4718-1690282800-1690282800@g-tac.ca
SUMMARY:Accelerating Your Accounting Career: Insights\, Skills\, and Opportunities By Welch LLP
DESCRIPTION:Are you ready to fast-track your accounting career in Canada? Curious about the strategies and tools that can propel you towards success? Join our exclusive webinar as we dive into the key elements that will help you accelerate your journey in the world of accounting.The demand for accounting professionals is increasing at a steady pace. Accounting is often regarded as the “language of business\,” and the application of its principles is critical to a company’s success. Professional accountants can serve in a variety of roles\, from individual proprietors to upper management positions within an organization.\nThe webinar will be presented by Jessica Zhang-Chapman\, Sr. Manager|Tax & Accounting and Miguel Gonzalez\, Sr. Cloud Bookkeeper from Welch LLP\, a Chartered Public Accounting (CPA) firm based in Ottawa that has deep roots in the communities it services for more than 100 years! Welch offers a full range of audit\, accounting\, tax and advisory services.\n           \nBy participating in this webinar\, you will:\n• Obtain valuable insights into the labor market for accounting and finance occupations\n• Welch LLP services and what a CPA firm looking for in newcomer hires\n• Success story featuring Miguel Gonzalez\, Sr. Cloud Bookkeeper\, arrived in Canada in Jan. 2020; joined Welch LLP in Feb. 2022\n• How G-TAC could make a difference for newcomer professionals?\nWe look forward to seeing you in the webinar!\n 
URL:https://g-tac.ca/event/accelerating-your-accounting-career-insights-skills-and-opportunities-by-welch-llp/
ATTACH;FMTTYPE=image/jpeg:https://g-tac.ca/wp-content/uploads/2023/06/ME-calendar.jpg
END:VEVENT
BEGIN:VEVENT
DTSTART;TZID=America/Toronto:20230727T110000
DTEND;TZID=America/Toronto:20230727T110000
DTSTAMP:20260421T070657
CREATED:20231113T032252Z
LAST-MODIFIED:20231113T032252Z
UID:4717-1690455600-1690455600@g-tac.ca
SUMMARY:Mastering the Maze: A Guide to Successful Applications in the Canadian Public Sector
DESCRIPTION:• Ever wondered what it takes to secure a position in the Canadian public sector?• Are you struggling to navigate the complex application process?\n• Curious about the insider secrets and tips that can make your application stand out from the rest?\nLook no further! Our esteemed speaker\, with decades of invaluable HR experience in the Canadian government\, will be sharing her expertise to help you navigate the competitive landscape and secure your dream job in the public sector.\nDuring this webinar\, you will learn:\n• The key qualities and skills that Canadian government employers seek in candidates\n• Strategies for tailoring your resume and cover letter to stand out from other applicants\n• Insider tips on tackling the online application process with confidence\n• Insights into the interview and selection process and how to make a lasting impression\n• Advice on networking and building relationships within the public sector\nDon’t miss this opportunity to gain a competitive edge and enhance your chances of landing a rewarding career in the Canadian public sector. Register now for our exclusive webinar and unlock the doors to a world of professional possibilities!\nAbout the speaker:\nDoris Haddad\, MEd Career Counsellor and Master Certified Career Coach (MCCC) has 30 years experience as a Career Counsellor from both the public and private sectors. After graduating from her Bachelor of Commerce Degree and Master in Education with a Career Counselling designation\, Doris worked as an HR Advisor and Career Counsellor in the federal government and now a Career Coaching Consultant\, Mentor and Career Coach for various Career Coaching and Employment organizations specializing in Internationally Trained Professionals \, Doris finds this experience rewarding and inspiring as she meets individuals from various experiences\, assisting them in strategizing their career journey .\n 
URL:https://g-tac.ca/event/mastering-the-maze-a-guide-to-successful-applications-in-the-canadian-public-sector/
ATTACH;FMTTYPE=image/jpeg:https://g-tac.ca/wp-content/uploads/2023/06/9.jpg
END:VEVENT
END:VCALENDAR