BEGIN:VCALENDAR
VERSION:2.0
PRODID:-//G-TAC - ECPv6.15.20//NONSGML v1.0//EN
CALSCALE:GREGORIAN
METHOD:PUBLISH
X-ORIGINAL-URL:https://g-tac.ca
X-WR-CALDESC:Events for G-TAC
REFRESH-INTERVAL;VALUE=DURATION:PT1H
X-Robots-Tag:noindex
X-PUBLISHED-TTL:PT1H
BEGIN:VTIMEZONE
TZID:America/Toronto
BEGIN:DAYLIGHT
TZOFFSETFROM:-0500
TZOFFSETTO:-0400
TZNAME:EDT
DTSTART:20220313T070000
END:DAYLIGHT
BEGIN:STANDARD
TZOFFSETFROM:-0400
TZOFFSETTO:-0500
TZNAME:EST
DTSTART:20221106T060000
END:STANDARD
BEGIN:DAYLIGHT
TZOFFSETFROM:-0500
TZOFFSETTO:-0400
TZNAME:EDT
DTSTART:20230312T070000
END:DAYLIGHT
BEGIN:STANDARD
TZOFFSETFROM:-0400
TZOFFSETTO:-0500
TZNAME:EST
DTSTART:20231105T060000
END:STANDARD
BEGIN:DAYLIGHT
TZOFFSETFROM:-0500
TZOFFSETTO:-0400
TZNAME:EDT
DTSTART:20240310T070000
END:DAYLIGHT
BEGIN:STANDARD
TZOFFSETFROM:-0400
TZOFFSETTO:-0500
TZNAME:EST
DTSTART:20241103T060000
END:STANDARD
END:VTIMEZONE
BEGIN:VEVENT
DTSTART;TZID=America/Toronto:20230601T090000
DTEND;TZID=America/Toronto:20230601T090000
DTSTAMP:20260421T085153
CREATED:20231113T032517Z
LAST-MODIFIED:20231113T032517Z
UID:4734-1685610000-1685610000@g-tac.ca
SUMMARY:Bridging the Gap to Employment in Ontario\, Canada
DESCRIPTION:Looking to restart your IT or Supply Chain career in Ontario? Join Humber College to learn how “Bridging Programs” help newcomers bridge the gap to employment in their field.Humber College offers 3 Bridging Programs for internationally-trained professionals:\n• IT Infrastructure\n• Full Stack .NET Cloud Developer\n• Supply Chain\nBridging Programs are specialized\, short-term\, training programs that help new immigrants to:\n Develop the technical skills & soft skills being demanded by Canadian employers\n Connect with employers through targeted hiring events\n Build your professional network in Canada\nYou will also learn more about valuable resources and supports available in the community to help newcomers pursue training/licensing/certification programs to achieve your career goals.\nAbout the Speaker: Thomas Puthenmadhom (Outreach & Communications Coordinator\, Humber College)\nThomas is an outreach professional with over 8 years of experience in the newcomer employment sector. He currently works as the Marketing Coordinator for the Community Outreach and Workforce Development department of Humber College. As part of this role\, he develops and executes marketing strategies to promote programs & services for newcomers\, refugees\, youth\, and other equity-seeking groups in the community.
URL:https://g-tac.ca/event/bridging-the-gap-to-employment-in-ontario-canada/
ATTACH;FMTTYPE=image/jpeg:https://g-tac.ca/wp-content/uploads/2023/05/3.jpg
END:VEVENT
BEGIN:VEVENT
DTSTART;TZID=America/Toronto:20230606T110000
DTEND;TZID=America/Toronto:20230606T110000
DTSTAMP:20260421T085153
CREATED:20231113T032516Z
LAST-MODIFIED:20231113T032516Z
UID:4733-1686049200-1686049200@g-tac.ca
SUMMARY:Career Paths for Internationally Trained Healthcare Professionals/Nurses
DESCRIPTION:Canada\, a country renowned for its comprehensive healthcare system\, is currently grappling with an unprecedented surge in demand for healthcare professionals. As the nation’s population continues to grow and age\, coupled with the emergence of new health challenges\, the need for skilled medical personnel has reached critical levels.A recent report found that job vacancies in Canada’s health sector have reached a new record of over 100\,000 unfilled positions.\nIn this webinar\, we will cover the following topics:\n– Overview of the job demand of nursing related occupations in Canada\n– How to leverage international experience to enter the healthcare sector\n– What are the requirement credentials for career advancement?\nAbout the Speaker: \nBen Benny\, an Ultimate Generalist with vast life experience in Nursing ( RPN and RN). Very expendable\, with Skills and education in Nursing\, Financial\, Accounting\, and Payroll. Excellent communicator\, instructor\, Mentor\, and a Nursing Tutor. Presently work at two career colleges teaching PSW students\, Accounting students\, and various Health care program students.\n 
URL:https://g-tac.ca/event/career-paths-for-internationally-trained-healthcare-professionals-nurses/
ATTACH;FMTTYPE=image/jpeg:https://g-tac.ca/wp-content/uploads/2023/05/4.jpg
END:VEVENT
BEGIN:VEVENT
DTSTART;TZID=America/Toronto:20230608T110000
DTEND;TZID=America/Toronto:20230608T110000
DTSTAMP:20260421T085153
CREATED:20231113T032503Z
LAST-MODIFIED:20231113T032503Z
UID:4732-1686222000-1686222000@g-tac.ca
SUMMARY:Unlock A World Of Possibilities In The Construction Sector Of Canada
DESCRIPTION:– Exciting News! The construction sector is booming in Canada. Join us for an enlightening event dedicated to bridging the gap in the construction sector across Canada! Are you ready to explore rewarding career paths\, understand certification requirements\, and dive into the process? Let’s start with three captivating questions:• Seeking a fulfilling career in construction? Curious about the skills in demand? Wondering how you can excel in this thriving industry?\n• Are you a newcomer eager to break into the construction sector? Looking to connect with experienced professionals who can guide you towards success?\n• Confused about the certification requirements and the overall process to establish yourself in the construction field?\nThroughout the event\, you’ll have the opportunity to explore diverse career paths\, discover the skills in high demand\, and gain insights into certification requirements and processes. Our panel of experts will share their experiences\, provide guidance\, and offer practical tips on how to kick-start your construction career in Canada.\nRegister now to unlock a world of possibilities in the construction sector. Let’s build a brighter future together! —\n 
URL:https://g-tac.ca/event/unlock-a-world-of-possibilities-in-the-construction-sector-of-canada/
ATTACH;FMTTYPE=image/jpeg:https://g-tac.ca/wp-content/uploads/2023/05/5.jpg
END:VEVENT
BEGIN:VEVENT
DTSTART;TZID=America/Toronto:20230613T090000
DTEND;TZID=America/Toronto:20230613T090000
DTSTAMP:20260421T085153
CREATED:20231113T032323Z
LAST-MODIFIED:20231113T032323Z
UID:4727-1686646800-1686646800@g-tac.ca
SUMMARY:大多伦多地区的学区及学区房介绍
DESCRIPTION:加拿大国土面积位居世界第二，人口只有3800万，而其中50% 的人居住在安省。另外每年登陆加拿大的新移民中有33%左右会选择安省。作为安省的省会多伦多首当其冲成为新移民的首选之地。多伦多近些年更是成长为纽约之后的第二大北美金融中心，同时，它还不动声色地依托众多优质大学，成为了一个不断扩大的科技中心。过硬的硬实力加上配套完善的社会服务体系，使得多伦多在加拿大所有大城市群中独领风骚，发展后劲十足。\n城市大了，选择多了，需要考量的因素就多了。置业安家，是每一个家庭的重中之重，不仅关系当下的起居生活，也影响自己日后的职业发展以及子女教育。\n如果您和家人也准备充分享用多伦多所提供的便捷生活和丰富的学习与工作机会，欢迎您参加G-TAC的合作伙伴大多地区WIN&WIN team的SOFIA WU/FORREST WANG 合作推出的魅力多伦多之学区及学区房系列讲座，本期讲座的主要内容包括：\n• 学校排名对我们选择学区房有怎样的指导意义？\n• 学区会不会经常变化，买了房子后会被划分到别的学区的学校呢？\n• 租住好学区的房子是不是购买更划算？\n 
URL:https://g-tac.ca/event/%e5%a4%a7%e5%a4%9a%e4%bc%a6%e5%a4%9a%e5%9c%b0%e5%8c%ba%e7%9a%84%e5%ad%a6%e5%8c%ba%e5%8f%8a%e5%ad%a6%e5%8c%ba%e6%88%bf%e4%bb%8b%e7%bb%8d/
ATTACH;FMTTYPE=image/jpeg:https://g-tac.ca/wp-content/uploads/2023/05/10.jpg
END:VEVENT
BEGIN:VEVENT
DTSTART;TZID=America/Toronto:20230615T090000
DTEND;TZID=America/Toronto:20230615T090000
DTSTAMP:20260421T085153
CREATED:20231113T032503Z
LAST-MODIFIED:20231113T032503Z
UID:4731-1686819600-1686819600@g-tac.ca
SUMMARY:Hiring Info Session – Sunlife
DESCRIPTION:Are you ready to unlock a career that recognizes your efforts\, unleashes your earning potential\, and fuels your professional and personal growth? Look no further\, because the answer is a resounding YES! Introducing the exhilarating world of being a Financial Advisor at Sunlife.Join us for an exclusive hiring event where seasoned managers\, Bachir Yassine\, Advisor Recruitment Consultant\, and Christina Ruan\, Business Development Partner from Sunlife will unveil the incredible opportunities that await you in this dynamic role. Prepare to be amazed as they delve into the following topics:\n– Qualifications Required: Discover the essential skills and qualifications needed to kickstart your journey as a Financial Advisor.\n– The Hiring Process: Gain invaluable insights into the rigorous selection process that Sunlife employs to find the best and brightest individuals to join their esteemed team of Financial Advisors.\n– Support for Success: Get ready to be blown away by the unparalleled support and resources that Sunlife provides to ensure your triumph as a Financial Advisor. From comprehensive training programs to ongoing mentorship\, you’ll have everything you need to thrive in this exhilarating role.\n– Advancement Opportunities: Dream big and envision a future where your entrepreneurial spirit soars to new heights. Discover the limitless possibilities for growth and advancement as a Financial Advisor at Sunlife.\nGet ready to transform your life and embrace a career that empowers you to make a difference. See you there!\n 
URL:https://g-tac.ca/event/hiring-info-session-sunlife/
ATTACH;FMTTYPE=image/jpeg:https://g-tac.ca/wp-content/uploads/2023/05/6.jpg
END:VEVENT
BEGIN:VEVENT
DTSTART;TZID=America/Toronto:20230615T200000
DTEND;TZID=America/Toronto:20230615T200000
DTSTAMP:20260421T085153
CREATED:20231113T032322Z
LAST-MODIFIED:20231113T032322Z
UID:4725-1686859200-1686859200@g-tac.ca
SUMMARY:Power Up with Cyber Security Fundamentals – Unleash Your Next Career Leap!
DESCRIPTION:Join us for an engaging webinar that will supercharge your career prospects in the dynamic world of cyber security! As the digital landscape continues to evolve\, cyber security has become more critical than ever\, impacting governments\, organizations\, employees\, customers\, and citizens alike. Don’t miss this opportunity to\ngain a comprehensive understanding of the cyber threat landscape\nexplore the latest industry norms\nuncover exciting career paths\, and\ndiscover the plethora of job opportunities awaiting you in the realm of cyber security. \n Topics to Cover: \nOverview of the Cyber Threat Landscape: Gain insights into the evolving tactics employed by threat actor groups and the technical capabilities that drive their actions. Develop a defensive posture to safeguard data confidentiality\, integrity\, and availability.\nUpdated Cyber Security Industry Norms and Requirements: Stay ahead of the curve by exploring the latest industry norms\, technology trends\, and the tools employed to combat cyber threats.\nDiscover the cutting-edge skills and knowledge that organizations seek in their cyber security professionals.\nCareer Paths and Job Opportunities: From digital forensics to ethical hacking and beyond\, explore the diverse range of cyber security-related occupations that are in high demand.\nDon’t miss out on this exhilarating opportunity to shape your future. Register now and embark on an adventure that will set you on the path to cyber security excellence! \n About the Speaker:\nWith more than 20 years of experience within the Information Technology domain\, Mr. Nesrallah has focused his work on providing leading edge Labour Market Intelligence (LMI) to the private sector\, government\, education and the greater employment services sector.\nCurrently\, Mr. Nesrallah is acting as a lead strategist providing insight into the development of next generation talent acquisition strategies.\n 
URL:https://g-tac.ca/event/power-up-with-cyber-security-fundamentals-unleash-your-next-career-leap/
ATTACH;FMTTYPE=image/png:https://g-tac.ca/wp-content/uploads/2022/07/ME-calendar-10.png
END:VEVENT
BEGIN:VEVENT
DTSTART;TZID=America/Toronto:20230620T090000
DTEND;TZID=America/Toronto:20230620T090000
DTSTAMP:20260421T085153
CREATED:20231113T032501Z
LAST-MODIFIED:20231113T032501Z
UID:4728-1687251600-1687251600@g-tac.ca
SUMMARY:为自己而学，由政府买单 – 蒙特利尔政府资助的成人培训介绍
DESCRIPTION:移民打开了一扇奇妙的门。 如果你不是学霸，不是少年立志，不是有周密自我规划的人，你一定会爱上蒙特利尔为新移民提供的各种培训课程，你可以尝试转行，可以尝试创业，可以加强原有技能，而且不用为学费心烦意乱。蒙特利尔政府资助的成人培训项目将在你的每一步中提供支持。从各种不同的课程到丰厚的补贴和丰富的就业机会，蒙特利尔的培训计划旨在帮助新移民释放他们真正的潜能。\n本期讲座我们邀请G-TAC的志愿者陆纯，根据她在蒙城参加不同成人培训课程的经历为大家介绍实用信息，帮助新移民朋友们有效利用政府资源提升自己的语言和职业技能，更好地享受加拿大的好山好水好生活，讲座主要内容包括：\n本地的专业证书值不值得花时间去读\n岗位平移还是强化可转化技能\n如何申请参加政府资助的培训课程\n法语水平有限也可以参加这个培训吗\n成功完成培训后，对找到工作有多大帮助\n主讲人：陆纯。\n“2018年初移民到加拿大后一个多月，偶然的契机我进入了全新的领域工作，开始了移民生活的新篇章，也为我后来考取相关专业证书奠定了基础。在移民前我就开始参加G-TAC（In-TAC）的讲座，也参加了In-TAC线上招聘会，获取了很多第一手信息。因为我曾经在法国以及在中国的法企工作，我发现虽然同是法语国家，魁北克和法国的工作环境状态非常不同，当然和中国的工作环境更是不同。我们作为移民，如何在新的国家重新找到自己的位置？有哪些可以选择的方向？是追求岗位平移还是强化可转化技能？除了找工作还有什么自雇和创业可能性？\n在加拿大最大的感受是年龄不是问题，一个班上经常有从二十到五十多各个年龄段的学生，在人生的每个阶段都有重新选择人生方向的权力和机会，加拿大人也充分享受这种选择的自由。魁省也为新老移民和本地人提供了很多免费甚至有补助的教育机会，为我们在加拿大自我提高和融入社会提供了很多支持。\n我希望把我自己这五年的经验和我观察到身边移民的就业和创业经验在这里分享给大家，通过借鉴别人的经验，一步步顺利融入当地生活。” \n 
URL:https://g-tac.ca/event/%e4%b8%ba%e8%87%aa%e5%b7%b1%e8%80%8c%e5%ad%a6%ef%bc%8c%e7%94%b1%e6%94%bf%e5%ba%9c%e4%b9%b0%e5%8d%95-%e8%92%99%e7%89%b9%e5%88%a9%e5%b0%94%e6%94%bf%e5%ba%9c%e8%b5%84%e5%8a%a9%e7%9a%84%e6%88%90/
ATTACH;FMTTYPE=image/jpeg:https://g-tac.ca/wp-content/uploads/2023/05/9.jpg
END:VEVENT
BEGIN:VEVENT
DTSTART;TZID=America/Toronto:20230622T110000
DTEND;TZID=America/Toronto:20230622T110000
DTSTAMP:20260421T085153
CREATED:20231113T032502Z
LAST-MODIFIED:20231113T032502Z
UID:4730-1687431600-1687431600@g-tac.ca
SUMMARY:Hiring Info Session – PurposeMed
DESCRIPTION:Join PurposeMed’s exclusive hiring info session and unlock your career potential in the healthcare industry!Are you passionate about making a difference in people’s lives? Do you want to work in a dynamic and innovative environment that values collaboration and growth? PurposeMed\, a leading healthcare company dedicated to transforming patient care\, is actively seeking talented individuals like you to join their team.\nDuring this interactive info session\, you will have the opportunity to explore Exciting Career Opportunities: Discover the diverse range of roles available at PurposeMed\, from healthcare providers to research analysts\, IT specialists to marketing experts. Whether you’re an experienced professional or just starting your career\, PurposeMed offers a variety of positions to suit your skills and interests.\nRegister today and get ready to discover your purpose in the world of healthcare!\nAbout the speaker: Pascal Theriault\nPascal brings roughly 6 years of recruitment and selection experience across energy\, agriculture\, engineering systems integration\, online grocery\, software\, and health-tech businesses. He has reviewed thousands of resumes\, and has hired and negotiated job offers with hundreds of candidates ranging from interns and new graduates up to VP-level executives across all teams and departments in these organizations.\nCurrently\, Pascal works as a Talent Acquisition Partner with PurposeMed\, a Calgary-based telemedicine startup whose mission is to improve access to complex care for underserved communities across Canada. Outside of his day job\, he also engages in various 1-on-1 career coaching gigs with candidates. Pascal is passionate about DEIB in the workplace (and as it relates to hiring)\, providing an excellent and equitable Candidate Experience\, advocating for the benefits of networking\, building his personal brand\, and helping others to build theirs!\n 
URL:https://g-tac.ca/event/hiring-info-session-purposemed/
ATTACH;FMTTYPE=image/jpeg:https://g-tac.ca/wp-content/uploads/2023/05/7.jpg
END:VEVENT
BEGIN:VEVENT
DTSTART;TZID=America/Toronto:20230627T090000
DTEND;TZID=America/Toronto:20230627T090000
DTSTAMP:20260421T085153
CREATED:20231113T032322Z
LAST-MODIFIED:20231113T032322Z
UID:4726-1687856400-1687856400@g-tac.ca
SUMMARY:Explore Careers in the Renewable Energy Sector
DESCRIPTION:As Canada takes bold steps toward achieving its climate goals\, there is a growing demand for skilled professionals who can contribute to the nation’s transition to a net-zero economy. Numerous employment opportunities are emerging in sectors such as renewable energy\, clean transportation\, energy efficiency\, and sustainable resource management.The Net-Zero Pathways Program is an ambitious and forward-thinking initiative Funded by the Government of Canada. Its primary goal is to address the urgent need to transition to a sustainable\, low-carbon economy while creating abundant employment opportunities. By equipping individuals with the necessary skills\, this program opens doors to a wide range of exciting and rewarding careers.\nIn this webinar\, subject matter experts from Iron and Earth\, will cover the following topics:\n– The job outlook in the renewable energy sector in Canada\n– How the Net-Zero Pathways Program will help you find jobs in the renewable energy sector\n– What are the benefits of the Program and How to be qualified for the Program\n  \n 
URL:https://g-tac.ca/event/explore-careers-in-the-renewable-energy-sector/
ATTACH;FMTTYPE=image/jpeg:https://g-tac.ca/wp-content/uploads/2023/05/ME-calendar-11.jpg
END:VEVENT
BEGIN:VEVENT
DTSTART;TZID=America/Toronto:20230629T090000
DTEND;TZID=America/Toronto:20230629T090000
DTSTAMP:20260421T085153
CREATED:20231113T032502Z
LAST-MODIFIED:20231113T032502Z
UID:4729-1688029200-1688029200@g-tac.ca
SUMMARY:Settle in Northern Ontario with the Rural and Northern Immigration Pilot
DESCRIPTION:Are you interested in living in an affordable region with short commute times and lots of job opportunities?\nWould you like to learn about the Rural and Northern Immigration Pilot and how to find jobs in the Timmins region? \nDescription:\nIn this webinar\, we are pleased to have Bailey Campbell\, Project Coordinator for the Timmins Regional Rural and Northern Immigration Pilot\, from the Timmins Economic Development Corporation. Bailey is going to share information about the job market in the region\, the lifestyle in Northern Ontario and the Rural and Northern Immigration Pilot.\nThe Timmins region offers a peaceful lifestyle\, surrounded by nature\, where you can enjoy more time with your family and less time working. With many vacant jobs in the region\, it is a great place to settle and grow your life in Canada. The Rural and Northern Immigration Pilot is a path to permanent residency for skilled foreign workers who want to work and live in the region long-term.\nThis webinar will cover: \nWhat our region has to offer\nBest practices to job search in our region\nRural and Northern Immigration Pilot. \nAbout the Speaker: Bailey facilitates the Rural and Northern Immigration Pilot (RNIP) project which allows qualifying applicants to immigrate to Timmins to support labour market needs in the region. She mainly works with employers to promote the RNIP project and the benefits of immigration throughout the community. Bailey has lived in several countries\, including Mexico\, Spain and Germany.\nBailey holds an Honours International Bachelor of Arts in Political Science from York University. She also holds a Master’s degree in European and Russian Affairs from the University of Toronto.\n 
URL:https://g-tac.ca/event/settle-in-northern-ontario-with-the-rural-and-northern-immigration-pilot/
ATTACH;FMTTYPE=image/jpeg:https://g-tac.ca/wp-content/uploads/2023/05/ME-calendar-12.jpg
END:VEVENT
END:VCALENDAR