BEGIN:VCALENDAR
VERSION:2.0
PRODID:-//G-TAC - ECPv6.15.20//NONSGML v1.0//EN
CALSCALE:GREGORIAN
METHOD:PUBLISH
X-ORIGINAL-URL:https://g-tac.ca
X-WR-CALDESC:Events for G-TAC
REFRESH-INTERVAL;VALUE=DURATION:PT1H
X-Robots-Tag:noindex
X-PUBLISHED-TTL:PT1H
BEGIN:VTIMEZONE
TZID:America/Toronto
BEGIN:DAYLIGHT
TZOFFSETFROM:-0500
TZOFFSETTO:-0400
TZNAME:EDT
DTSTART:20220313T070000
END:DAYLIGHT
BEGIN:STANDARD
TZOFFSETFROM:-0400
TZOFFSETTO:-0500
TZNAME:EST
DTSTART:20221106T060000
END:STANDARD
BEGIN:DAYLIGHT
TZOFFSETFROM:-0500
TZOFFSETTO:-0400
TZNAME:EDT
DTSTART:20230312T070000
END:DAYLIGHT
BEGIN:STANDARD
TZOFFSETFROM:-0400
TZOFFSETTO:-0500
TZNAME:EST
DTSTART:20231105T060000
END:STANDARD
BEGIN:DAYLIGHT
TZOFFSETFROM:-0500
TZOFFSETTO:-0400
TZNAME:EDT
DTSTART:20240310T070000
END:DAYLIGHT
BEGIN:STANDARD
TZOFFSETFROM:-0400
TZOFFSETTO:-0500
TZNAME:EST
DTSTART:20241103T060000
END:STANDARD
END:VTIMEZONE
BEGIN:VEVENT
DTSTART;TZID=America/Toronto:20230202T090000
DTEND;TZID=America/Toronto:20230202T090000
DTSTAMP:20260421T145953
CREATED:20231113T033110Z
LAST-MODIFIED:20231113T033110Z
UID:4767-1675328400-1675328400@g-tac.ca
SUMMARY:Careers of Supply Chain Management in Canada
DESCRIPTION:• Are you going to immigrate to Canada as a Supply Chain Management professional?• Would you like to explore career opportunities in the Canadian Supply Chain Management field?\n• Do you want to learn more about the skills you need to enter the market and work in Supply Chain Management?\nIn this webinar\, we are pleased to have Dina Ashour\, a Contracting Manager with a Canadian Crown Corporation. With over 16 years of global experience in supply chain management\, she is going to share her own newcomer experience\, and talk about pursuing a career path\, and post-pandemic career opportunities in Supply Chain Management in Canada.\n 
URL:https://g-tac.ca/event/careers-of-supply-chain-management-in-canada/
ATTACH;FMTTYPE=image/png:https://g-tac.ca/wp-content/uploads/2023/01/2.png
END:VEVENT
BEGIN:VEVENT
DTSTART;TZID=America/Toronto:20230207T090000
DTEND;TZID=America/Toronto:20230207T090000
DTSTAMP:20260421T145953
CREATED:20231113T032909Z
LAST-MODIFIED:20231113T032909Z
UID:4762-1675760400-1675760400@g-tac.ca
SUMMARY:加拿大买房流程介绍
DESCRIPTION:• 加拿大买房的基本流程是什么？• 买房过程中，地产经纪，贷款专员，地产律师，各有什么职责？• Title Insurance是什么？可以帮助我们避免房屋买卖诈骗的风险吗？不知大家留意到了吗？最近加拿大主流媒体频频曝光有关冒充身份盗卖房产的新闻， 让原本因为央行不断加息，以及外国买家禁令实施而风云迭起的加拿大房地产市场更加富有戏剧性。\n机遇与风险永远是一枚硬币的两面。作为外来的新移民，我们更需要做好知识储备，充分了解当地市场和交易规则，做到自己心中有数，而不是人云亦云，才能更好地规避风险，保护自己的利益。\n买房是每个家庭的大事，无论是买来自住还是用于投资，都需要审慎决策。 如何找到合适的房源， 如何锁定贷款额度，如何发送买方要约，如何通过法律和财务审查……如果您有上面所述的疑问，欢迎参加本次讲座， 我们荣幸地邀请到多伦多WIN&WIN TEAM的Sofia Wu 和 Forrest Wang结合她们从业十多年的专业经验，为您介绍加拿大买房的 全流程，希望通过她们的专业知识，帮助您少走弯路，做好准备，更快融入加拿大本地生活。\n 
URL:https://g-tac.ca/event/%e5%8a%a0%e6%8b%bf%e5%a4%a7%e4%b9%b0%e6%88%bf%e6%b5%81%e7%a8%8b%e4%bb%8b%e7%bb%8d/
ATTACH;FMTTYPE=image/png:https://g-tac.ca/wp-content/uploads/2023/01/7.png
END:VEVENT
BEGIN:VEVENT
DTSTART;TZID=America/Toronto:20230209T090000
DTEND;TZID=America/Toronto:20230209T090000
DTSTAMP:20260421T145953
CREATED:20231113T033109Z
LAST-MODIFIED:20231113T033109Z
UID:4766-1675933200-1675933200@g-tac.ca
SUMMARY:Secrets from an HR Expert: How to Ace Your Virtual Job Interview
DESCRIPTION:How to make a great first impression in an virtual job interview?\nWhat are the tips for answering virtual interview questions?\nHow to reduce interview anxiety?\nHow to follow up after the interview \nVirtual job interviews have become increasingly popular in recent years due to advancements in technology and the convenience they offer both employers and candidates.\nIf you are feeling nervous about your upcoming virtual job interview? Don’t worry\, we’ve got you covered! Join our upcoming webinar led by a HR professional\, Tanya\, who will provide valuable insights and tips on how to ace your virtual job interview. This webinar is designed to help you feel confident and prepared for your upcoming virtual job interview. Register today and take the first step towards landing your dream job!\nAbout the Presenter:\nTanya is a Talent Acquisition and Development Expert with over 12 years of experience in the Government\, Telecom\, IT and Start-up industries. She has hired and developed thousands of talented people in Technical\, HR\, Marketing\, Finance and Operations roles.  As a certified Integral Associate Coach\, Tanya believes in quality connections\, giving back\, and doing great things.\n 
URL:https://g-tac.ca/event/secrets-from-an-hr-expert-how-to-ace-your-virtual-job-interview/
ATTACH;FMTTYPE=image/png:https://g-tac.ca/wp-content/uploads/2023/01/3.png
END:VEVENT
BEGIN:VEVENT
DTSTART;TZID=America/Toronto:20230214T090000
DTEND;TZID=America/Toronto:20230214T090000
DTSTAMP:20260421T145953
CREATED:20231113T033109Z
LAST-MODIFIED:20231113T033109Z
UID:4765-1676365200-1676365200@g-tac.ca
SUMMARY:How to Become a Meter and Instrumentation Technician in Canada
DESCRIPTION:Attention all aspiring technicians! Join us for a life-changing info session that will guide you on your journey to become a successful electricity meter and instrumentation technician in Canada.With the growing need for infrastructure development and maintenance\, the demand for meter and instrumentation technicians is on the rise. Additionally\, the increasing demand for smart grid technology and renewable energy sources will also increase the demand for these technicians. It is a highly rewarding career with many benefits: such as good salary and job stability\, regular work schedule\, opportunities from advancement and career growth\, and etc.\nOur guest speaker\, Mr. Hanson Shen\, a master technician with over 15 years of experience in the field\, will be sharing valuable insights\, tips\, and tricks to help you achieve your goals. Mr. Shen\, Professor on Electrical Engineering at a public college in GTA \, Master Electrician\, over 15 years industry experience in Canada\, and coached hundreds newcomers to become a licensed electrician in Canada.\nIn this webinar\, you will learn about: \nThe role and responsibilities of a meter and instrumentation technician\nThe essential skills and knowledge required for the job\nJob opportunities and career growth in the industry \nWhether you are just starting out or looking to advance in your career\, this webinar is for you. We can’t wait to share our knowledge with you and help you reach your goals. Join us for this exciting webinar and take the first step towards your dream career!\n 
URL:https://g-tac.ca/event/how-to-become-a-meter-and-instrumentation-technician-in-canada/
ATTACH;FMTTYPE=image/png:https://g-tac.ca/wp-content/uploads/2023/01/4.png
END:VEVENT
BEGIN:VEVENT
DTSTART;TZID=America/Toronto:20230217T090000
DTEND;TZID=America/Toronto:20230217T090000
DTSTAMP:20260421T145953
CREATED:20231113T033108Z
LAST-MODIFIED:20231113T033108Z
UID:4764-1676624400-1676624400@g-tac.ca
SUMMARY:Meet the Employer – Northwood: Live more\, Healthcare
DESCRIPTION:• Are you looking for a fulfilling career in Healthcare?• Do you want to work for an employer that offers educational opportunities\, competitive benefits and an extensive list of corporate discounts?\nJoin us for our upcoming webinar where one of the leading healthcare employers will be sharing their current job openings and the qualifications and skills required for each role\, and you will get real-time answers from the employer during the Q&A session\nThis webinar is perfect for anyone who is considering a career in healthcare. Register now to reserve your spot!\nAbout the Employer:\nNorthwood \, since its inception\, has become a powerful voice for seniors in Nova Scotia\, demanding a new approach to aging in place.\nToday\, we are the largest not-for-profit continuing care organization in Atlantic Canada.We have led the way for over 60 years as Nova Scotia’s dynamic continuing care organization committed to innovation and change. We are recognized both here at home and across Canada as an extraordinary example of the power of social justice\, but we like to call it the power of love!\nAbout the Speakers:\nNicole Bonn\, Human Resources Advisor\, Recruitment\nChelsey McPhail\, Human Resources Advisor\, Recruitment\nDelsha Davis\, Human Resources Assistant\n 
URL:https://g-tac.ca/event/meet-the-employer-northwood-live-more-healthcare/
ATTACH;FMTTYPE=image/png:https://g-tac.ca/wp-content/uploads/2023/01/5.png
END:VEVENT
BEGIN:VEVENT
DTSTART;TZID=America/Toronto:20230221T090000
DTEND;TZID=America/Toronto:20230221T090000
DTSTAMP:20260421T145953
CREATED:20231113T032908Z
LAST-MODIFIED:20231113T032908Z
UID:4761-1676970000-1676970000@g-tac.ca
SUMMARY:加拿大基本福利介绍
DESCRIPTION:• 加拿大各级政府提供了哪些常见的基本福利？• 您想知道与新移民相关的福利有哪些吗？\n• 您想了解申请这些福利需要有什么资格和条件呢？\n加拿大作为全球经济发达国家之一，其福利（Social Security）体系极为完善，为国民提供了广泛的社会保障，比如，加拿大的全民免费医疗保障制度，免费教育，等等。因为完善，所以需要增加了解，常听常新。本讲座由渥太华移民服务中心的资深安居辅导员Lisa Hou主讲。Lisa 多年来服务本地社区，帮助新移民适应当地生活和融入当地社区，知识丰富，经验丰富。她在本次讲座中将会概况介绍加拿大联邦政府提供的最常见的几种社会福利，让您轻松了解消费税退税、儿童福利、失业保险金，和老人福利等相关内容。问答环节，她会实时解答您关心的问题。\n 
URL:https://g-tac.ca/event/%e5%8a%a0%e6%8b%bf%e5%a4%a7%e5%9f%ba%e6%9c%ac%e7%a6%8f%e5%88%a9%e4%bb%8b%e7%bb%8d/
ATTACH;FMTTYPE=image/png:https://g-tac.ca/wp-content/uploads/2023/01/8.png
END:VEVENT
BEGIN:VEVENT
DTSTART;TZID=America/Toronto:20230223T120000
DTEND;TZID=America/Toronto:20230223T120000
DTSTAMP:20260421T145953
CREATED:20231113T033310Z
LAST-MODIFIED:20231113T033310Z
UID:4770-1677153600-1677153600@g-tac.ca
SUMMARY:Meet the Employer – QMC | Integrated Submetering and Metering Solutions
DESCRIPTION:Are you looking to advance your career in the energy management industry? Join us for our upcoming hiring info session with QMC – a leading provider of submetering and metering solutions. QMC is looking for talented and motivated individuals to join our team and help us continue to make a positive impact on the energy management industry.Topics to cover:\n– Who is QMC?\n– What are the current job opportunities and required skills and qualifications?\n– What is the hiring process and how to apply?\nDon’t miss this opportunity to learn more about the company and take the first step in advancing your career with QMC. Register today and we look forward to meeting you at our hiring info session!\nThis is a great chance to learn more about the submetering and metering solution\, the industry and the company\, as well as meet with the team and ask any question you may have. It’s also a chance to learn about the current job opportunities available\, and how you can be a part of the team.\n 
URL:https://g-tac.ca/event/meet-the-employer-qmc-integrated-submetering-and-metering-solutions/
ATTACH;FMTTYPE=image/jpeg:https://g-tac.ca/wp-content/uploads/2022/12/3.jpg
END:VEVENT
BEGIN:VEVENT
DTSTART;TZID=America/Toronto:20230228T090000
DTEND;TZID=America/Toronto:20230228T090000
DTSTAMP:20260421T145953
CREATED:20231113T033108Z
LAST-MODIFIED:20231113T033108Z
UID:4763-1677574800-1677574800@g-tac.ca
SUMMARY:Hiring Info Session – IBM
DESCRIPTION:Topics to cover:\nLearn about IBM jobs\, how to apply\, what to expect\, types of roles and locations we hire for\nIBM culture and work environment / support and learning opportunities\, career growth \nAt IBM\, diversity and inclusion has been a priority for over 100 years. We continue to build on that strong legacy with a focus on all aspects of an individual’s identity which includes attributes that are permanent and often visible as well as those that change over time. We know that diverse teams create ideal work environments\, promote diversity of thought and foster creativity and innovation that benefit our employees\, our clients and our communities and we continuously develop programs and offerings to support a culture of inclusion where all employees feel a sense of belonging\, where they can reach their full potential.\nIn this webinar\, we are inviting everyone to come and learn more about IBM and the types of roles we hire for\, and help you in your IBM job search.\n 
URL:https://g-tac.ca/event/hiring-info-session-ibm/
ATTACH;FMTTYPE=image/png:https://g-tac.ca/wp-content/uploads/2022/07/ME-calendar-18.png
END:VEVENT
END:VCALENDAR