BEGIN:VCALENDAR
VERSION:2.0
PRODID:-//G-TAC - ECPv6.15.20//NONSGML v1.0//EN
CALSCALE:GREGORIAN
METHOD:PUBLISH
X-WR-CALNAME:G-TAC
X-ORIGINAL-URL:https://g-tac.ca
X-WR-CALDESC:Events for G-TAC
REFRESH-INTERVAL;VALUE=DURATION:PT1H
X-Robots-Tag:noindex
X-PUBLISHED-TTL:PT1H
BEGIN:VTIMEZONE
TZID:America/Toronto
BEGIN:DAYLIGHT
TZOFFSETFROM:-0500
TZOFFSETTO:-0400
TZNAME:EDT
DTSTART:20220313T070000
END:DAYLIGHT
BEGIN:STANDARD
TZOFFSETFROM:-0400
TZOFFSETTO:-0500
TZNAME:EST
DTSTART:20221106T060000
END:STANDARD
BEGIN:DAYLIGHT
TZOFFSETFROM:-0500
TZOFFSETTO:-0400
TZNAME:EDT
DTSTART:20230312T070000
END:DAYLIGHT
BEGIN:STANDARD
TZOFFSETFROM:-0400
TZOFFSETTO:-0500
TZNAME:EST
DTSTART:20231105T060000
END:STANDARD
BEGIN:DAYLIGHT
TZOFFSETFROM:-0500
TZOFFSETTO:-0400
TZNAME:EDT
DTSTART:20240310T070000
END:DAYLIGHT
BEGIN:STANDARD
TZOFFSETFROM:-0400
TZOFFSETTO:-0500
TZNAME:EST
DTSTART:20241103T060000
END:STANDARD
END:VTIMEZONE
BEGIN:VEVENT
DTSTART;TZID=America/Toronto:20230105T200000
DTEND;TZID=America/Toronto:20230105T200000
DTSTAMP:20260421T163649
CREATED:20231113T033511Z
LAST-MODIFIED:20231113T033511Z
UID:4776-1672948800-1672948800@g-tac.ca
SUMMARY:Cyber Security Fundamentals for Your Next Career Move
DESCRIPTION:Topics to Cover:• Overview of the Cyber Threat Landscape and the impact on governments\, organizations\, employees\, customers and citizens.\n• Updated cyber-security industry norms and requirements\, technology trends\, skills\, and tools.\n• Career paths and job opportunities of cyber-security related occupations.\nCyber security becomes more critical than ever\, while digital economy is playing an important role to drive the economic growth. As a result\, there are many employment opportunities that are related to cyber security. If you want to develop your career in this field and want to figure out the career path\, please join Mr. Fred Nesrallah to kick off the new year with new knowledge and resolution\, as he will share the latest LMI and his insights regarding the career opportunities in cyber security\, including:\n– To perform a deep analysis of Threat Actor Groups\, Tactics and Technical Capabilities that will assist organizations in developing a defensive posture in data Confidentiality\, Integrity and Availability\n– To examine the complex system wide vulnerabilities that are currently being exploited in order to develop a deep understanding of mitigation strategies and vulnerability management\n– To identify various strategies and options regarding skills enhancement and industry certification\nAbout the Speaker: \nWith more than 20 years of experience within the Information Technology domain\, Mr. Nesrallah has focused his work on providing leading edge Labour Market Intelligence (LMI) to the private sector\, government\, education and the greater employment services sector.\nCurrently\, Mr. Nesrallah is acting as a lead strategist providing insight into the development of next generation talent acquisition strategies.\n 
URL:https://g-tac.ca/event/cyber-security-fundamentals-for-your-next-career-move/
ATTACH;FMTTYPE=image/png:https://g-tac.ca/wp-content/uploads/2022/07/ME-calendar-10.png
END:VEVENT
BEGIN:VEVENT
DTSTART;TZID=America/Toronto:20230110T110000
DTEND;TZID=America/Toronto:20230110T110000
DTSTAMP:20260421T163649
CREATED:20231113T033511Z
LAST-MODIFIED:20231113T033511Z
UID:4775-1673348400-1673348400@g-tac.ca
SUMMARY:Accounting Certification and Employment in Canada
DESCRIPTION:Are you interested to continue your career as an accounting professional in Canada?Equip yourself with the skills needed to make yourself an effective business leader in Canada. Get the credentials that employers demand\, and become a CPA\, a Chartered Professional Accountant! \nLearn how by participating in this live 1 hour webinar presented by Sheila Cheung\, Student Recruitment Officer from the Chartered Professional Accountants of British Columbia (CPABC):\n• How to transfer international education and work experience (accounting/finance) towards admission for entry into the CPA program.\n• CPABC employment resources for CPA students/candidate.\n• BC’s economic outlook for accounting job openings.\n• CPA Canada free online course ‘Guide to Accounting Business Culture: Adapting to the Canadian Accounting Workplace\n• Salary guide for Canadian accounting jobs\n• Hiring trends and how to prepare for job interviews in Canada\n• And much more…\n 
URL:https://g-tac.ca/event/accounting-certification-and-employment-in-canada/
ATTACH;FMTTYPE=image/jpeg:https://g-tac.ca/wp-content/uploads/2022/12/2.jpg
END:VEVENT
BEGIN:VEVENT
DTSTART;TZID=America/Toronto:20230112T090000
DTEND;TZID=America/Toronto:20230112T090000
DTSTAMP:20260421T163649
CREATED:20231113T033511Z
LAST-MODIFIED:20231113T033511Z
UID:4774-1673514000-1673514000@g-tac.ca
SUMMARY:Meet the Employer – Synopsys | EDA Tools\, Semiconductor IP and Application
DESCRIPTION:Are you interested in chip design\, verification\, IP integration and application security testing? Welcome to join the webinar presented by Synopsys to learn about their job opportunities\, and how you can join them!Synopsys technology is at the heart of innovations that are changing the way we live and work. The Internet of Things. Autonomous cars. Wearables. Smart medical devices. Secure financial services. Machine learning and computer vision. These breakthroughs are ushering in the era of Smart\, Secure Everything―where devices are getting smarter\, everything’s connected\, and everything must be secure.\nPowering this new era of technology are advanced silicon chips\, which are made even smarter by the remarkable software that drives them. Synopsys is at the forefront of Smart\, Secure Everything with the world’s most advanced tools for silicon chip design\, verification\, IP integration\, and application security testing. Our technology helps customers innovate from Silicon to Software\, so they can deliver Smart\, Secure Everything.\nAbout the Speaker: \nJeff Vise is the Director of Employment at Synopsys and responsible for managing the Global Staffing Strategy for several business units in the company. Jeff has over 22+ yrs. of experience in corporate staffing with the company and is as a key resource for executive hiring.\n“At Synopsys\, I combine my passion for people and technology by leading a talented staffing team that supports all lines of business at Synopsys. My skills and expertise include Global Talent Acquisition Leadership\, Executive Search\, Recruiting\, Executive Leadership Development\, Inclusion and Diversity\, and Team Development.”\n 
URL:https://g-tac.ca/event/meet-the-employer-synopsys-eda-tools-semiconductor-ip-and-application/
ATTACH;FMTTYPE=image/jpeg:https://g-tac.ca/wp-content/uploads/2022/12/6.jpg
END:VEVENT
BEGIN:VEVENT
DTSTART;TZID=America/Toronto:20230117T090000
DTEND;TZID=America/Toronto:20230117T090000
DTSTAMP:20260421T163649
CREATED:20231113T033510Z
LAST-MODIFIED:20231113T033510Z
UID:4773-1673946000-1673946000@g-tac.ca
SUMMARY:Job Search Strategy In Canada
DESCRIPTION:The pandemic has brought profound changes in our life and work. On one hand\, there is a wave of resignation and shortage of workers\, and on the other hand\, there are people\, in particular newcomers\, unable to find jobs relevant to their professional background\, or encounter bottlenecks in their career advancement. As a job seeker\, it is important to catch up on the new hiring trends and retune the job search strategy. In this webinar\, we will introduce common job search strategy in Canada.The topics include:\n Types of job search methods in Canada\n What is ‘Application Tracking System’\, and how do you adapt to it when applying jobs\n How to get referrals\n Top soft skills that employers look for in post-pandemic\n How to develop your own job search plan to improve the effectiveness of your job search?\n  \n \n 
URL:https://g-tac.ca/event/job-search-strategy-in-canada/
ATTACH;FMTTYPE=image/jpeg:https://g-tac.ca/wp-content/uploads/2022/12/7.jpg
END:VEVENT
BEGIN:VEVENT
DTSTART;TZID=America/Toronto:20230119T090000
DTEND;TZID=America/Toronto:20230119T090000
DTSTAMP:20260421T163649
CREATED:20231113T033310Z
LAST-MODIFIED:20231113T033310Z
UID:4772-1674118800-1674118800@g-tac.ca
SUMMARY:Meet the Employer – RBC (Royal Bank of Canada)
DESCRIPTION:RBC is a global financial institution with a purpose-driven\, principles-led approach to delivering leading performance\, and creating value for our clients and communities. We are one of Canada’s biggest banks\, and among the largest in the world based on market capitalization. We have 89\,000+ full- and part-time employees who serve 17 million clients in Canada\, the U.S. and 27 other countries. We are one of North America’s leading diversified financial services companies\, and provide personal and commercial banking\, wealth management\, insurance\, investor services and capital markets products and services on a global basis.In this webinar\, G-TAC is pleased to have Melissa Bougie\, Recruitment Consultant for RBC\, to present:\n– What kind of jobs does RBC offer – with brief descriptions of the roles.\n– Why work for RBC?\nAbout the Speaker: \nAshley studied Business Administration and Human Resources at Algonquin College and is a Certified HR Professional. She started her career in banking in 2010 and has held various roles such as Client Advisor\, Banking Advisor\, Financial Advisor\, Assistant Manager and Branch Manager. She now works with human resources as a Talent Acquisition Consultant for the Ontario North & East Region. Ashley ensures to guide and help candidates with their career aspirations and job searches\, and also partners very closely with hiring managers.\n 
URL:https://g-tac.ca/event/meet-the-employer-rbc-royal-bank-of-canada/
ATTACH;FMTTYPE=image/jpeg:https://g-tac.ca/wp-content/uploads/2022/12/5.jpg
END:VEVENT
BEGIN:VEVENT
DTSTART;TZID=America/Toronto:20230124T200000
DTEND;TZID=America/Toronto:20230124T200000
DTSTAMP:20260421T163649
CREATED:20231113T033310Z
LAST-MODIFIED:20231113T033310Z
UID:4771-1674590400-1674590400@g-tac.ca
SUMMARY:How To Jumpstart An Accounting Career In Canada?
DESCRIPTION:Are you looking for a career that is assured with job security and opportunities for career advancement? The accounting profession would be the answer.Accounting is considered “the language of business\,” and applying the acumen of the discipline plays an important role to a company’s success. It all adds up when you consider that professional accountants can serve in almost any capacity from individual proprietors to upper management positions within an organization. Simply put\, accounting is a rewarding career with many career potentials you can pursue.\nG-TAC is pleased to invite Mr. Mohammad khalil to present how to fast track your career in the accounting field. In this live webinar\, you will learn: \nLabour market info about accounting occupations and career pathways\nHow to kick off an accounting career with transferrable skills from your past experience\nHow to take advantages of practice-centered\, short-term accounting trainings \nAbout the Speaker: \nMohammad khalil\,  Instructor of Capilano University\, is the QuickBooks Desktop\, Online\, and Advanced Online Certified ProAdvisor with Payroll Compliance Practitioner (PCP) Certificate. Mohammad has more than 15 years of work experience in Accounting and finance teaching and advisory services. He has been teaching QuickBooks and Small Business Accounting at G-TAC since 2017\, and helped hundreds of clients passed the QuickBooks ProAdvisor exam and got professional jobs.\n 
URL:https://g-tac.ca/event/how-to-jumpstart-an-accounting-career-in-canada/
ATTACH;FMTTYPE=image/jpeg:https://g-tac.ca/wp-content/uploads/2022/12/8.jpg
END:VEVENT
BEGIN:VEVENT
DTSTART;TZID=America/Toronto:20230131T090000
DTEND;TZID=America/Toronto:20230131T090000
DTSTAMP:20260421T163649
CREATED:20231113T033309Z
LAST-MODIFIED:20231113T033309Z
UID:4769-1675155600-1675155600@g-tac.ca
SUMMARY:Navigating Canadian Immigration System –  Make Your Move to Canada
DESCRIPTION:• What are the main pathways to immigrate to Canada?• What are the latest updates on immigration programs?\nCanada’s proactive in leveraging its immigration programs to enhance its global competitiveness. There are various programs serving different purposes. Some programs are administered by federal\, others by provincial governments; some others are selected by skills and/or occupations. Some provide special pathway to foreign students; others favour the transition from foreign temporary workers. There are special programs for entrepreneurs\, self-employed and employer sponsorship. So\, the question is how to choose your way or the high way or/and some other express way. \nAs a certified immigration consultant\, David Tuy Dinh will guide you navigating the Canadian immigration system\, highlight some of the recent changes and trends\, and perspective and insights behind the success in the selection process.\n 
URL:https://g-tac.ca/event/navigating-canadian-immigration-system-make-your-move-to-canada/
ATTACH;FMTTYPE=image/png:https://g-tac.ca/wp-content/uploads/2022/05/2-1.png
END:VEVENT
END:VCALENDAR