BEGIN:VCALENDAR
VERSION:2.0
PRODID:-//G-TAC - ECPv6.15.20//NONSGML v1.0//EN
CALSCALE:GREGORIAN
METHOD:PUBLISH
X-ORIGINAL-URL:https://g-tac.ca
X-WR-CALDESC:Events for G-TAC
REFRESH-INTERVAL;VALUE=DURATION:PT1H
X-Robots-Tag:noindex
X-PUBLISHED-TTL:PT1H
BEGIN:VTIMEZONE
TZID:America/Toronto
BEGIN:DAYLIGHT
TZOFFSETFROM:-0500
TZOFFSETTO:-0400
TZNAME:EDT
DTSTART:20210314T070000
END:DAYLIGHT
BEGIN:STANDARD
TZOFFSETFROM:-0400
TZOFFSETTO:-0500
TZNAME:EST
DTSTART:20211107T060000
END:STANDARD
BEGIN:DAYLIGHT
TZOFFSETFROM:-0500
TZOFFSETTO:-0400
TZNAME:EDT
DTSTART:20220313T070000
END:DAYLIGHT
BEGIN:STANDARD
TZOFFSETFROM:-0400
TZOFFSETTO:-0500
TZNAME:EST
DTSTART:20221106T060000
END:STANDARD
BEGIN:DAYLIGHT
TZOFFSETFROM:-0500
TZOFFSETTO:-0400
TZNAME:EDT
DTSTART:20230312T070000
END:DAYLIGHT
BEGIN:STANDARD
TZOFFSETFROM:-0400
TZOFFSETTO:-0500
TZNAME:EST
DTSTART:20231105T060000
END:STANDARD
END:VTIMEZONE
BEGIN:VEVENT
DTSTART;TZID=America/Toronto:20221101T090000
DTEND;TZID=America/Toronto:20221101T090000
DTSTAMP:20260421T192953
CREATED:20231113T033858Z
LAST-MODIFIED:20231113T033858Z
UID:4786-1667293200-1667293200@g-tac.ca
SUMMARY:加拿大职场必备技能： communications skills， 你达标了吗？
DESCRIPTION:• 什么是北美沟通技巧中常说的elevator pitch?• 如何在面试中tell me about yourself？\n• 什么是职场工作中的small talk?\n很多雇主表示他们会很看重求职者的软技能，他们认为硬技能是可以通过短期培训获得的，而有些重要的软技能，可能需要长期的训练或者锻炼，才可以具备。比如说沟通能力/communication skills。的确有效的沟通能力/communication skills是职场人的必备技能，无论在求职阶段，还是在入职后的职业发展阶段都很重要。\n很多招聘岗位的描述中都会要求应聘者具备良好的口头和书面沟通能力/communication skills。沟通能力/communication skills可以简单归纳为提高英文表达，更可以复杂归纳为对当地/职场文化的理解和融入。 本期讲座，结合G-TAC多年来帮助新移民客户找工作的经验，Mr. Shaw Quan\, G-TAC 的资深就业顾问，将为大家由简入深地介绍新移民在加拿大进入职场过程中会遇到的communications问题以及如何应对。敬请参加。\n 
URL:https://g-tac.ca/event/%e5%8a%a0%e6%8b%bf%e5%a4%a7%e8%81%8c%e5%9c%ba%e5%bf%85%e5%a4%87%e6%8a%80%e8%83%bd%ef%bc%9a-communications-skills%ef%bc%8c-%e4%bd%a0%e8%be%be%e6%a0%87%e4%ba%86%e5%90%97%ef%bc%9f/
ATTACH;FMTTYPE=image/png:https://g-tac.ca/wp-content/uploads/2022/10/15.png
END:VEVENT
BEGIN:VEVENT
DTSTART;TZID=America/Toronto:20221103T090000
DTEND;TZID=America/Toronto:20221103T090000
DTSTAMP:20260421T192953
CREATED:20231113T033926Z
LAST-MODIFIED:20231113T033926Z
UID:4790-1667466000-1667466000@g-tac.ca
SUMMARY:Effective Workplace Communications & Tips
DESCRIPTION:• What is an elevator pitch? Why is it important to build a good contact network?• How to tell about yourself in a job interview? What are the dos and don’ts?\n• What are small talks in the workplace? Why small talk is anything but small?\nGood oral and written communication skills are often required in many job descriptions. Strong communication skills are beneficial on an both individual and organizational basis. In particular from a job seeker’s perspective\, strong communications skills can help job seekers grab more opportunities\, blend into a new team more quickly\, and gain more resources for career development.\nIn this webinar\, based on lessons and best practices from his career in coaching job seekers\, esp. newcomer job seekers\, Mr. Shaw Quan\, a veteran career coach\, will share some practical tips and tactics to tackle common questions in workplace communications.\n 
URL:https://g-tac.ca/event/effective-workplace-communications-tips/
ATTACH;FMTTYPE=image/png:https://g-tac.ca/wp-content/uploads/2022/10/17.png
END:VEVENT
BEGIN:VEVENT
DTSTART;TZID=America/Toronto:20221108T090000
DTEND;TZID=America/Toronto:20221108T090000
DTSTAMP:20260421T192953
CREATED:20231113T033858Z
LAST-MODIFIED:20231113T033858Z
UID:4785-1667898000-1667898000@g-tac.ca
SUMMARY:加拿大最新房屋贷款政策介绍
DESCRIPTION:• 加拿大房屋贷款的类别• 最新贷款政策介绍\n• 加拿大贷款的基本流程\n安居乐业应该是每一个移民家庭的小目标吧。 置业既是安居所需，也是资产保全的选择之一。 您知道什么是海外收入项目，什么是新移民贷款项目吗？无论是自住还是投资，您都需要对置业贷款的基本常识有所学习和了解，才能做更有利于自己和家庭的决策。\n本期讲座， G-TAC很荣幸地邀请到加拿大皇家银行的贷款专员Robin Yang先生，为大家介绍加拿大房屋贷款的基础知识。Robin Yang， 皇家银行房屋贷款经理，具有七年加拿大房屋贷款工作经验，先后在丰业银行，蒙特利尔银行，及皇家银行从事贷款经理工作。2016年加入皇家银行，连续多年获得全加拿大优秀贷款经理称号，2020年在美国获得皇家银行杰出贡献奖。Robin十年前移民加拿大，在中国是中国注册会计师，注册税务师和注册资产评估师。\n  \n 
URL:https://g-tac.ca/event/%e5%8a%a0%e6%8b%bf%e5%a4%a7%e6%9c%80%e6%96%b0%e6%88%bf%e5%b1%8b%e8%b4%b7%e6%ac%be%e6%94%bf%e7%ad%96%e4%bb%8b%e7%bb%8d-2/
ATTACH;FMTTYPE=image/png:https://g-tac.ca/wp-content/uploads/2022/10/19.png
END:VEVENT
BEGIN:VEVENT
DTSTART;TZID=America/Toronto:20221110T090000
DTEND;TZID=America/Toronto:20221110T090000
DTSTAMP:20260421T192953
CREATED:20231113T033925Z
LAST-MODIFIED:20231113T033925Z
UID:4789-1668070800-1668070800@g-tac.ca
SUMMARY:How to Write an Effective Resume
DESCRIPTION:• What are “keywords” and how do I incorporate them in my resume?• How to write an interesting summary that will get the employers attention?\n• What is the difference between a CV and a resume?\nJoin Consuela Sambour\, Resource & Information Specialist\, St. Lawrence College\, to learn how to create a professional resume for the Canadian Labour Market. She will be discussing keywords from job descriptions and how to use them in your resume. You will learn how to write a summary of your skills- which is the first thing an employer reads on your resume. You will also learn the sections in a resume and proper format along with much more! There will be various examples so that you have the best help in writing your resume. There will also be time to ask questions at the end.\nAbout the Speaker: Consuela’s academic background is languages and sociology. After graduating\, she has worked for various non-profit organizations\, school boards and volunteered in her community. She loves exchanging and working with people and help them achieve their goals.\nAbout the SLC’s Employment Services: we offer free employment-related access to computers\, printing\, Resume and Cover Letter Writing\, Interview Preparation\, Job Search Strategies\, Career Exploration and more. Open to all members of our community\, we offer free\, fast\, and friendly service to support during your job search\n 
URL:https://g-tac.ca/event/how-to-write-an-effective-resume/
ATTACH;FMTTYPE=image/png:https://g-tac.ca/wp-content/uploads/2022/10/ME-calendar-2.png
END:VEVENT
BEGIN:VEVENT
DTSTART;TZID=America/Toronto:20221115T090000
DTEND;TZID=America/Toronto:20221115T090000
DTSTAMP:20260421T192953
CREATED:20231113T033858Z
LAST-MODIFIED:20231113T033858Z
UID:4784-1668502800-1668502800@g-tac.ca
SUMMARY:如何在加拿大成为持牌电工
DESCRIPTION:• 您想了解加拿大常见电工的分类吗？• 持牌电工的从业要求是什么？就业前景怎么样？\n• 没有电工基础，也可以成为持牌电工吗？\n持牌电工在加拿大是高薪蓝领工作。随着加拿大建筑业的稳步发展，市场对于持牌电工的需求呈现井喷式的增长，待遇薪水也水涨船高，考取电工证书并就业的朋友更可以享受政府的移民加分政策。\n英文不够好，没有电工背景，让很多人对电工职业望而却步。然而，持牌电工其实并非遥不可及。G-TAC非常荣幸地请到加拿大资深电气工程老师Hanson Shen先生，全面介绍电工行业，帮助您在择业方向上多一个选择。 Hanson拥有15年本地行业经验，公立学院的电气教授， 帮助了上千人找到了相关工作。欢迎您和朋友一起参加本次讲座，了解更多职业选择。\n 
URL:https://g-tac.ca/event/%e5%a6%82%e4%bd%95%e5%9c%a8%e5%8a%a0%e6%8b%bf%e5%a4%a7%e6%88%90%e4%b8%ba%e6%8c%81%e7%89%8c%e7%94%b5%e5%b7%a5/
ATTACH;FMTTYPE=image/png:https://g-tac.ca/wp-content/uploads/2022/01/27.png
END:VEVENT
BEGIN:VEVENT
DTSTART;TZID=America/Toronto:20221117T090000
DTEND;TZID=America/Toronto:20221117T090000
DTSTAMP:20260421T192953
CREATED:20231113T033925Z
LAST-MODIFIED:20231113T033925Z
UID:4788-1668675600-1668675600@g-tac.ca
SUMMARY:Meet the Employer – Keywords Studios
DESCRIPTION:We are hiring!\nKeywords Studios is the leading international creative and technical services provider to the global video games industry. Keywords is trusted and relied upon by 23 of 25 top video game companies to work alongside them during concept\, development\, and live operations of the most popular AAA franchises in the world.\nAbout the Speaker:\nEric Nofsinger\, Head of Talent Acquisition\, North America\nEric has credits on over 100 video game titles and on more than 30 animated releases. He has collaborated with the likes of Tim Burton\, Jon Favreau\, Seth McFarlane and Hideo Kojima. Some of his recent experience with mainstream gaming includes Fortnite\, the Walking Dead and Saints Row series. Eric is passionate about identifying exceptional individuals and thoroughly enjoys growing remarkable teams. With his development background\, he possesses a unique understanding of AAA specialized talent\, recruitment\, and studio needs.\nCome and join the webinar to learn the hiring process at Keywords Studios and how you can join our team!\n 
URL:https://g-tac.ca/event/meet-the-employer-keywords-studios/
ATTACH;FMTTYPE=image/png:https://g-tac.ca/wp-content/uploads/2022/10/16.png
END:VEVENT
BEGIN:VEVENT
DTSTART;TZID=America/Toronto:20221122T090000
DTEND;TZID=America/Toronto:20221122T090000
DTSTAMP:20260421T192953
CREATED:20231113T033857Z
LAST-MODIFIED:20231113T033857Z
UID:4783-1669107600-1669107600@g-tac.ca
SUMMARY:加拿大雇主期待及职场文化介绍
DESCRIPTION:• 加拿大雇主对雇员的工作能力有什么样的期待？• 新移民该如何理解加拿大式“政治正确”，避免在工作中踩雷？\n• 都说加拿大人沟通起来很直接，为什么当你直接提出反对意见时却让别人感觉不舒服？\n每年有大量新移民来到加拿大定居，为本地经济注入活力。这些新移民有宝贵的知识和技术而且勤奋认真地工作。但在与祖国完全不同的环境与文化中，新移民往往面对着许多由于文化差异所造成的挑战。只有通过学习并正确理解加拿大职场文化，才能最大程度地避免误会，为成功扫除障碍。\n主讲人Ariane Guan\, 卡尔加里成长并参加工作，有超过10年为新移民服务的工作经验。目前就职于卡尔加里大学，就业顾问。在这个讲座她将会聚焦移民群体，具体讲解华人新移民在加拿大职场中最常遇到文化差异。\n 
URL:https://g-tac.ca/event/%e5%8a%a0%e6%8b%bf%e5%a4%a7%e9%9b%87%e4%b8%bb%e6%9c%9f%e5%be%85%e5%8f%8a%e8%81%8c%e5%9c%ba%e6%96%87%e5%8c%96%e4%bb%8b%e7%bb%8d-2/
ATTACH;FMTTYPE=image/png:https://g-tac.ca/wp-content/uploads/2022/10/18.png
END:VEVENT
BEGIN:VEVENT
DTSTART;TZID=America/Toronto:20221124T110000
DTEND;TZID=America/Toronto:20221124T110000
DTSTAMP:20260421T192953
CREATED:20231113T033859Z
LAST-MODIFIED:20231113T033859Z
UID:4787-1669287600-1669287600@g-tac.ca
SUMMARY:Employment Opportunities in Langley\, BC
DESCRIPTION:Are you planning to move to BC?\nAre you interested in a career in the construction industry? \nIf your answer is YES\, you are most welcomed to join this webinar to explore and find employment opportunities in Langley\, BC (British Columbia). As a matter of fact\, 1\,004\,000 job openings are expected in BC between 2021 to 2031.\n About the Speaker:\nMary Tescon\, Program Manager\, Langley Community Service SocietyMary has 10+ years of experience in help newcomers integrate into the Canadian workforce. She is dedicated to enhance collaboration and create strategic partnership among stakeholders to foster more welcoming and inclusive communities on issues related to the settlement and integration of immigrants and refugees.\nMike Kask\, Vice President\, RDM EnterprisesMike has 39+ years of experience in the Construction and Ready Mix Concrete industry. He is proficient in Senior Business Management\, Business Development\, and Strategic Planning. In addition\, he is also a sitting Executive Board member of the Independent Contractors and Businesses Association of British Columbia.\n 
URL:https://g-tac.ca/event/employment-opportunities-in-langley-bc/
ATTACH;FMTTYPE=image/png:https://g-tac.ca/wp-content/uploads/2022/10/ME-calendar-3.png
END:VEVENT
BEGIN:VEVENT
DTSTART;TZID=America/Toronto:20221129T090000
DTEND;TZID=America/Toronto:20221129T090000
DTSTAMP:20260421T192953
CREATED:20231113T033712Z
LAST-MODIFIED:20231113T033712Z
UID:4782-1669712400-1669712400@g-tac.ca
SUMMARY:如何在加拿大银行找到工作
DESCRIPTION:加拿大银行的种类\n找银行工作要如何入手\n必备证书及职业发展路径 \n加拿大银行体系的稳健安全是世界公认的。之所以让人刮目相看，靠的是实实在在的业绩，和面对危机打压的岿然不动。2019年北美最安全的银行的前5名被加拿大银行囊括。\n这就不难理解加拿大的银行业也是就业大票仓， 国内雇员大约有28万，银行从业人员大约占了加拿大劳动力的15%， 为打工人提供了广阔的职业发展空间。本期讲座， G-TAC很高兴地邀请到Catharine Xue\, 分享她在加拿大银行从业 的心得，希望可以帮助有志于在银行从业的新移民或者留学生朋友们。\n 
URL:https://g-tac.ca/event/%e5%a6%82%e4%bd%95%e5%9c%a8%e5%8a%a0%e6%8b%bf%e5%a4%a7%e9%93%b6%e8%a1%8c%e6%89%be%e5%88%b0%e5%b7%a5%e4%bd%9c/
ATTACH;FMTTYPE=image/png:https://g-tac.ca/wp-content/uploads/2022/10/ME-calendar-1-1.png
END:VEVENT
END:VCALENDAR