BEGIN:VCALENDAR
VERSION:2.0
PRODID:-//G-TAC - ECPv6.15.20//NONSGML v1.0//EN
CALSCALE:GREGORIAN
METHOD:PUBLISH
X-ORIGINAL-URL:https://g-tac.ca
X-WR-CALDESC:Events for G-TAC
REFRESH-INTERVAL;VALUE=DURATION:PT1H
X-Robots-Tag:noindex
X-PUBLISHED-TTL:PT1H
BEGIN:VTIMEZONE
TZID:America/Toronto
BEGIN:DAYLIGHT
TZOFFSETFROM:-0500
TZOFFSETTO:-0400
TZNAME:EDT
DTSTART:20210314T070000
END:DAYLIGHT
BEGIN:STANDARD
TZOFFSETFROM:-0400
TZOFFSETTO:-0500
TZNAME:EST
DTSTART:20211107T060000
END:STANDARD
BEGIN:DAYLIGHT
TZOFFSETFROM:-0500
TZOFFSETTO:-0400
TZNAME:EDT
DTSTART:20220313T070000
END:DAYLIGHT
BEGIN:STANDARD
TZOFFSETFROM:-0400
TZOFFSETTO:-0500
TZNAME:EST
DTSTART:20221106T060000
END:STANDARD
BEGIN:DAYLIGHT
TZOFFSETFROM:-0500
TZOFFSETTO:-0400
TZNAME:EDT
DTSTART:20230312T070000
END:DAYLIGHT
BEGIN:STANDARD
TZOFFSETFROM:-0400
TZOFFSETTO:-0500
TZNAME:EST
DTSTART:20231105T060000
END:STANDARD
END:VTIMEZONE
BEGIN:VEVENT
DTSTART;TZID=America/Toronto:20220705T090000
DTEND;TZID=America/Toronto:20220705T090000
DTSTAMP:20260422T021516
CREATED:20231113T034011Z
LAST-MODIFIED:20231113T034011Z
UID:4817-1657011600-1657011600@g-tac.ca
SUMMARY:魁北克省基础教育体系简介
DESCRIPTION:新移民登陆后孩子入学的手续流程\n选择欢迎班时的注意事项\n家长如何帮助孩子 \n蒙特利尔是加拿大第二大城市，一直是来自世界各地的新移民的首选之地。鉴于历史渊源和语言的独特性，魁省在经济文化以及新移民服务方面有一些不同于其他省份的特点，其中也包括魁省的教育体系和资源。\nG-TAC很荣幸地邀请到蒙特利尔CARI St-Laurent新移民安居指导员Lixin Wang女士，她会帮助大家梳理魁省基础教育体系，了解如何在孩子初来乍到的过渡时期，有效地安排孩子的学校生活，如何跟校方沟通，以及如何利用当地的新移民服务资源。王女士有丰富的魁省新移民安居辅导经验，热心提供专业服务，帮助新移民更快适应当地生活。 讲座将以普通话进行，敬请参加。\n 
URL:https://g-tac.ca/event/%e9%ad%81%e5%8c%97%e5%85%8b%e7%9c%81%e5%9f%ba%e7%a1%80%e6%95%99%e8%82%b2%e4%bd%93%e7%b3%bb%e7%ae%80%e4%bb%8b/
ATTACH;FMTTYPE=image/png:https://g-tac.ca/wp-content/uploads/2022/06/9.png
END:VEVENT
BEGIN:VEVENT
DTSTART;TZID=America/Toronto:20220707T090000
DTEND;TZID=America/Toronto:20220707T090000
DTSTAMP:20260422T021516
CREATED:20231113T034011Z
LAST-MODIFIED:20231113T034011Z
UID:4816-1657184400-1657184400@g-tac.ca
SUMMARY:Overview of Canada’s Elementary and Secondary Education System
DESCRIPTION:In this webinar\, Next Stop Canada Youth Information and Referral Specialists Kasthuri Jeyaraj and Kathleen Velasco will provide an overview of Canada’s Elementary and Secondary Education System. They will give some insight into the school system and go over the documents required for enrollment\, types of schools\, specialized programs\, graduation requirements\, and much more.About the Speakers: \nKathleen Velasco is a Certified Youth Information and Referral Specialist at Next Stop Canada. Based out of Toronto\, Ontario\, Kathleen works with pre-arrival immigrant youth\, adults\, and families to help them prepare for life in Canada. In addition to information and referral provision\, Kathleen helps co-coordinate the Next Stop Canada Youth Program. She has a passion for contributing to the development of a society in which all individuals feel welcomed\, included\, and have access to opportunities to shine. \nKasthuri Jeyaraj is a Certified Youth Information and Referral Specialist at Next Stop Canada. In her current role\, she supports pre-arrival youth and their families to prepare for life in Canada. Kasthuri has been working with youth for over 7 years with a focus on employment and newcomer programs. As a previous newcomer herself\, she has a passion to use that experience and the challenges she and her family faced to help support other newcomer youth and their families.\n  \n 
URL:https://g-tac.ca/event/overview-of-canadas-elementary-and-secondary-education-system/
ATTACH;FMTTYPE=image/png:https://g-tac.ca/wp-content/uploads/2022/06/ME-calendar-8.png
END:VEVENT
BEGIN:VEVENT
DTSTART;TZID=America/Toronto:20220712T090000
DTEND;TZID=America/Toronto:20220712T090000
DTSTAMP:20260422T021516
CREATED:20231113T034011Z
LAST-MODIFIED:20231113T034011Z
UID:4815-1657616400-1657616400@g-tac.ca
SUMMARY:Introduction of Benefits and Credits and the Canadian Tax system for Newcomers
DESCRIPTION:The right information for the right start! In this 1.5 hours webinar\, the officers from Canada Revenue Agency (CRA) will introduce:– What are the benefits and credits that newcomers may be eligible?\n– How to apply for the benefits and credits?\nAbout the Speakers:\nLine Goulet\n“I am originally from Quebec and have lived in Ontario for about 30 years. I have been working at the Canada Revenue Agency since 2013. I worked at the call center as a bilingual taxpayer service agent for almost 5 years\, answering questions on taxes\, benefits and credits. I am now a Benefits Outreach Officer with the Community Volunteer Income Tax Program (CVITP) since 2018. Our objective is to promote financial literacy and empowerment for all Canadians. Working for the Government of Canada is very rewarding in many ways; my main focus is to put people first and help them with their finances as best as possible. I appreciate the opportunity to help taxpayers and make sure they understand the Canadian tax system; so that they can receive their benefits and credits to which they are entitled.”\nLuddy Delgado\n“My name is Luddy Delgado and I am a volunteer and outreach benefits officer with the CRA. I have been with the CRA since 2020 and it has been the most rewarding experience. I began working in the Contact Centre helping taxpayers over the phone\, and then moved on to the CVITP and Outreach Program to assist volunteers and organizations in helping people in their communities file their taxes and access their benefits.”\n 
URL:https://g-tac.ca/event/introduction-of-benefits-and-credits-and-the-canadian-tax-system-for-newcomers/
ATTACH;FMTTYPE=image/png:https://g-tac.ca/wp-content/uploads/2022/06/11.png
END:VEVENT
BEGIN:VEVENT
DTSTART;TZID=America/Toronto:20220714T090000
DTEND;TZID=America/Toronto:20220714T090000
DTSTAMP:20260422T021516
CREATED:20231113T034010Z
LAST-MODIFIED:20231113T034010Z
UID:4813-1657789200-1657789200@g-tac.ca
SUMMARY:Meet the Employer: Employment Opportunities at Horizon Health Network
DESCRIPTION:Horizon is the largest regional health authority – and one of the largest employers – in New Brunswick\, and the second-largest health authority in Atlantic Canada. Our leadership and health care providers are experts in diverse areas of health and community services and provide services to a half a million people.Horizon has an annual budget of approximately $1.2 billion and has more than 13\,000 employees\, 1\,100 physicians and 1\,300 volunteers\, as well as 17 foundations\, 12 auxiliaries and 8 alumnae organizations.\nHorizon operates 12 hospitals and more than 100 medical facilities\, clinics and offices throughout New Brunswick\, focused on delivering quality and safe care to our patients\, clients and their families.\nWe are welcoming Internationally Educated Nurses through the IEN Navigation programme to Horizon Health Network\, and we are extending additional support to them as an Employer.\nAll candidates can visit our https://horizonnb.ca/careers/ site for most latest vacancies and to getting touch with one of our professional team. \nAt this Webinar\, G-TAC is pleased to welcome Tharani Perera Talent Acquisition Specialist\, she will explain how Horizon Health Network is supporting Internationally Educated Nurses through immigration and professional license registration process along with IEN Navigation programme.\nTharani Perera is a new immigrant to Canada and she is a Talent Acquisition Specialist working with Horizon Health Network. She is managing the internationally Educated Nurses portfolio with Horizon health network and supports IEN’s with immigration as well. She brings more than 11 years of experience in clinical recruitment from the United Arab Emirates. She is enjoying her recruitment career by supporting candidates to climb up their career ladder with the most suitable opportunity for them.
URL:https://g-tac.ca/event/meet-the-employer-employment-opportunities-at-horizon-health-network/
ATTACH;FMTTYPE=image/png:https://g-tac.ca/wp-content/uploads/2022/06/12.png
END:VEVENT
BEGIN:VEVENT
DTSTART;TZID=America/Toronto:20220719T090000
DTEND;TZID=America/Toronto:20220719T090000
DTSTAMP:20260422T021516
CREATED:20231113T034018Z
LAST-MODIFIED:20231113T034018Z
UID:4821-1658221200-1658221200@g-tac.ca
SUMMARY:加拿大出/租房的那些事
DESCRIPTION:作为新移民租客如何租到适合的房子\, 签订租约的时候应该注意什么?\n作为房东，怎么找到那个省心的好租客，如何尽量避免不良租客？ \n房东与租客就像一枚硬币的两面，共生共存。移民来到加拿大，每个人的生活理念不同境遇不同。 有的人乐于投资，当起了物主房东。有的人或者在择机等候，或者为了孩子上学，为了靠近工作单位，或者只是为了简单，选择租房。 总之，房主与租客共生共存，各自都应该了解自己的权益，做好基本的预期准备，才能适得其所。出租还是租房都是为了更好的生活，减少不必要的麻烦是双方的共同需要。 \nSofia Wu                   Forrest Wang\n本期讲座我们很高兴地邀请到WIN&WIN team的SOFIA WU/FORREST WANG，两位常年是金牌地产经纪，他们将根据各自的多年经验，为新移民朋友介绍在加拿大出租房的那些事， 希望大家做好知识储备以及预期准备，顺利在加拿大安居乐业。\n \n 
URL:https://g-tac.ca/event/%e5%8a%a0%e6%8b%bf%e5%a4%a7%e5%87%ba-%e7%a7%9f%e6%88%bf%e7%9a%84%e9%82%a3%e4%ba%9b%e4%ba%8b-2/
ATTACH;FMTTYPE=image/png:https://g-tac.ca/wp-content/uploads/2022/05/3-1.png
END:VEVENT
BEGIN:VEVENT
DTSTART;TZID=America/Toronto:20220721T090000
DTEND;TZID=America/Toronto:20220721T090000
DTSTAMP:20260422T021516
CREATED:20231113T034010Z
LAST-MODIFIED:20231113T034010Z
UID:4814-1658394000-1658394000@g-tac.ca
SUMMARY:Career Opportunities in Ottawa – Capital of Canada
DESCRIPTION:Join Invest Ottawa as they expand on why Ottawa is a great city to grow your career. They will highlight Ottawa’s booming technology sector\, competitive business costs\, and quality of life during their presentationOttawa is a globally recognized\, innovative and future-ready city and the best place to learn\, work\, and play.\nInvest Ottawa is a national leader in helping Canadian businesses identify organizational growth requirements and assisting them in expanding nationally and internationally. \nBrianna Fraser\nTalent Strategy Manager\n 
URL:https://g-tac.ca/event/career-opportunities-in-ottawa-capital-of-canada/
ATTACH;FMTTYPE=image/png:https://g-tac.ca/wp-content/uploads/2022/06/13.png
END:VEVENT
BEGIN:VEVENT
DTSTART;TZID=America/Toronto:20220726T090000
DTEND;TZID=America/Toronto:20220726T090000
DTSTAMP:20260422T021516
CREATED:20231113T034008Z
LAST-MODIFIED:20231113T034008Z
UID:4811-1658826000-1658826000@g-tac.ca
SUMMARY:Jumpstart Your Accounting Profession in Canada
DESCRIPTION:The need for accounting professionals is on the rise. While accounting is considered “the language of business\,” and applying the acumen of the discipline plays an important role to a company’s success. It all adds up when you consider that professional accountants can serve in almost any capacity from individual proprietors to upper management positions within an organization.Tune into this live webinar by industry experts and you will learn how to fast track your career in the accounting field and how G-TAC will help you:\n• Acquire various practical skills for accounting & finance fields in Canada.\n• Refresh and reinforce your knowledge with real case studies from the most popular accounting software QuickBooks to Small Business Accounting\n• Establish your network with Canadian employers/experts\, and obtain the hiring information from G-TAC and the employers directly.\n• Hone your communication skills to adapt to the Canadian workplace culture. \nAbout the Speaker: Josiane Gomez\, CPA\, CGA and MBA holder\, has extensive experience in Accounting\, Auditing\, Taxation\, and Business Advisory Services. She started her career in public practice as chartered professional accountant\, and later joined one of the Big Four accounting firms (KPMG) in Ottawa\, Ontario with a senior role. Eventually\, Josiane founded her company Zivo to provide bookkeeping\, accounting\, tax and CFO services for nonprofits and small businesses.\n 
URL:https://g-tac.ca/event/jumpstart-your-accounting-profession-in-canada/
ATTACH;FMTTYPE=image/png:https://g-tac.ca/wp-content/uploads/2022/07/4.png
END:VEVENT
BEGIN:VEVENT
DTSTART;TZID=America/Toronto:20220728T090000
DTEND;TZID=America/Toronto:20220728T090000
DTSTAMP:20260422T021516
CREATED:20231113T034008Z
LAST-MODIFIED:20231113T034008Z
UID:4812-1658998800-1658998800@g-tac.ca
SUMMARY:Overview of the Mining Industry of Canada by MiHR
DESCRIPTION:1. The Mining Industry Human Resources Council (MiHR) studies Canada’s mining labour market. With mining being one of the country’s most important economic sectors and a major job creator\, what’s the current state of the national mining labour market?2. Where can job seekers learn more about mining\, its available careers and where their skills may make them a good fit within the industry?\n3. What job search resources are available to help find a career in Canadian mining?\nDescription:\nCanada’s mining sector contributed $107 billion\, or roughly 5%\, to Canada’s total nominal GDP In 2020\, and directly and indirectly employs over 690\,000 workers*. There are increasing career opportunities and various career paths for you to explore.\nBased in Ottawa\, MiHR is Canada’s knowledge centre for mining labour market information. An independent\, non-profit organization\, MiHR’s mission is to lead collaboration across the Canadian mining sector to understand labour market trends\, identify opportunities and develop solutions with the long-term vision to build an inclusive\, skilled and sustainable Canadian mining workforce that anticipates and adapts to volatility and innovation. \nJamie Wolcott                                        William Meyer\nAt this webinar\, G-TAC is pleased to welcome Jamie Wolcott\, MiHR’s Director of Labour Market Information\, and William Meyer\, MiHR’s Director of Marketing and Communication. They will provide an overview of the Canadian mining labour market and its career opportunities.\n 
URL:https://g-tac.ca/event/overview-of-the-mining-industry-of-canada-by-mihr/
ATTACH;FMTTYPE=image/png:https://g-tac.ca/wp-content/uploads/2022/06/5-1.png
END:VEVENT
END:VCALENDAR