BEGIN:VCALENDAR
VERSION:2.0
PRODID:-//G-TAC - ECPv6.15.20//NONSGML v1.0//EN
CALSCALE:GREGORIAN
METHOD:PUBLISH
X-ORIGINAL-URL:https://g-tac.ca
X-WR-CALDESC:Events for G-TAC
REFRESH-INTERVAL;VALUE=DURATION:PT1H
X-Robots-Tag:noindex
X-PUBLISHED-TTL:PT1H
BEGIN:VTIMEZONE
TZID:America/Toronto
BEGIN:DAYLIGHT
TZOFFSETFROM:-0500
TZOFFSETTO:-0400
TZNAME:EDT
DTSTART:20210314T070000
END:DAYLIGHT
BEGIN:STANDARD
TZOFFSETFROM:-0400
TZOFFSETTO:-0500
TZNAME:EST
DTSTART:20211107T060000
END:STANDARD
BEGIN:DAYLIGHT
TZOFFSETFROM:-0500
TZOFFSETTO:-0400
TZNAME:EDT
DTSTART:20220313T070000
END:DAYLIGHT
BEGIN:STANDARD
TZOFFSETFROM:-0400
TZOFFSETTO:-0500
TZNAME:EST
DTSTART:20221106T060000
END:STANDARD
BEGIN:DAYLIGHT
TZOFFSETFROM:-0500
TZOFFSETTO:-0400
TZNAME:EDT
DTSTART:20230312T070000
END:DAYLIGHT
BEGIN:STANDARD
TZOFFSETFROM:-0400
TZOFFSETTO:-0500
TZNAME:EST
DTSTART:20231105T060000
END:STANDARD
END:VTIMEZONE
BEGIN:VEVENT
DTSTART;TZID=America/Toronto:20220503T090000
DTEND;TZID=America/Toronto:20220503T090000
DTSTAMP:20260422T072832
CREATED:20231113T034039Z
LAST-MODIFIED:20231113T034039Z
UID:4836-1651568400-1651568400@g-tac.ca
SUMMARY:Cyber Security Fundamentals for the Next Steps for Your Career Development
DESCRIPTION:Topics to Cover:• Overview of the Cyber Threat Landscape and the impact on governments\, organizations\, employees\, customers and citizens.\n• Updated cyber-security industry norms and requirements\, technology trends\, skills\, and tools.\n• Career paths and job opportunities of cyber-security related occupations.\nWhile digital economy is playing an important role to drive the economic growth\, cyber security becomes more critical than ever. If you want to develop your career in the field of cyber security and want to gain knowledge:\n– To perform a deep analysis of Threat Actor Groups\, Tactics and Technical Capabilities that will assist organizations in developing a defensive posture in data Confidentiality\, Integrity and Availability\n– To examine the complex system wide vulnerabilities that are currently being exploited in order to develop a deep understanding of mitigation strategies and vulnerability management\n– To identify various strategies and options regarding skills enhancement and industry certification\nPlease join Mr. Fred Nesrallah on May 3rd\, as he will share the latest LMI and his insights regarding the career opportunities in cyber security.\nAbout the Speaker:\nWith more than 20 years of experience within the Information Technology domain\, Mr. Nesrallah has focused his work on providing leading edge Labour Market Intelligence (LMI) to the private sector\, government\, education and the greater employment services sector.\nCurrently\, Mr. Nesrallah is acting as a lead strategist providing insight into the development of next generation talent acquisition strategies.
URL:https://g-tac.ca/event/cyber-security-fundamentals-for-the-next-steps-for-your-career-development/
ATTACH;FMTTYPE=image/jpeg:https://g-tac.ca/wp-content/uploads/2022/03/Business-Analysis.jpg
END:VEVENT
BEGIN:VEVENT
DTSTART;TZID=America/Toronto:20220504T090000
DTEND;TZID=America/Toronto:20220504T090000
DTSTAMP:20260422T072832
CREATED:20231113T034038Z
LAST-MODIFIED:20231113T034038Z
UID:4835-1651654800-1651654800@g-tac.ca
SUMMARY:How to Fast Track Your Career in the Accounting Field of Canada?
DESCRIPTION:The need for accounting professionals is on the rise. While accounting is considered “the language of business\,” and applying the acumen of the discipline plays an important role to a company’s success. It all adds up when you consider that professional accountants can serve in almost any capacity from individual proprietors to upper management positions within an organization.Tune into this live webinar and you will learn how to fast track your career in the accounting field and how G-TAC will help you:\n• Acquire various practical skills for accounting & finance fields in Canada.\n• Refresh and reinforce your knowledge with real case studies from the most popular accounting software QuickBooks to Small Business Accounting\n• Establish your network with Canadian employers/experts\, and obtain the hiring information from G-TAC and the employers directly.\n• Hone your communication skills to adapt to the Canadian workplace culture.\n 
URL:https://g-tac.ca/event/how-to-fast-track-your-career-in-the-accounting-field-of-canada/
ATTACH;FMTTYPE=image/jpeg:https://g-tac.ca/wp-content/uploads/2022/03/accounting.jpg
END:VEVENT
BEGIN:VEVENT
DTSTART;TZID=America/Toronto:20220505T090000
DTEND;TZID=America/Toronto:20220505T090000
DTSTAMP:20260422T072832
CREATED:20231113T034038Z
LAST-MODIFIED:20231113T034038Z
UID:4834-1651741200-1651741200@g-tac.ca
SUMMARY:Tips on Planning for Employment in Canada
DESCRIPTION:Success is where preparation and opportunity meet. That’s why preparing for your employment as early as you can is a crucial step to a successful job search in Canada. This webinar will talk about carefully planning your short and long-term career goals to secure yourself a meaningful job in Canada. We will also talk about the essential things you need to consider to help you with your job search. The following topics will be covered:– Goal Setting\n– Job Search Tools\n– Employability Skills\n– Networking Tools\n– Employment Resources for Internationally Educated Individuals\nAbout the Presenter:\nSheetal Jose\nInformation & Referral Specialist\n“Hello\, I am Sheetal. I moved to Canada in 2018. As a newcomer myself\, I learned that having the right guidance is very much essential to smoothly navigate the Canadian system especially in areas such as employment and finance. As someone who loves to share relevant information\, I am more than happy to assist my fellow newcomers in their journey to this beautiful country.”\nRuby Atesoglu\nInformation & Referral Specialist\n“My name is Ruby and I’m an Information & Referral Specialist with Next Stop Canada. I first came to Canada in 2016 as a student and experienced the value of having the right tools in order to embark on my employment journey. It gives me great joy to be able to share relevant information and resources with newcomers who are preparing to find jobs in a brand new environment!”\n 
URL:https://g-tac.ca/event/tips-on-planning-for-employment-in-canada/
ATTACH;FMTTYPE=image/jpeg:https://g-tac.ca/wp-content/uploads/2021/08/download.jpg
END:VEVENT
BEGIN:VEVENT
DTSTART;TZID=America/Toronto:20220510T090000
DTEND;TZID=America/Toronto:20220510T090000
DTSTAMP:20260422T072832
CREATED:20231113T034037Z
LAST-MODIFIED:20231113T034037Z
UID:4833-1652173200-1652173200@g-tac.ca
SUMMARY:蒙特利尔欢迎你 – 蒙城新移民服务介绍
DESCRIPTION:如何申请魁省的医疗卡和医药计划？如何在蒙城给孩子注册欢迎班？\n如何获取蒙城的新移民服务信息\n欢迎您移民来到来魁北克省。蒙特利尔是加拿大第二大城市，一直是移居魁省的新移民朋友的首选之地，也是65家大型国际机构设立公司总部的办公地点。鉴于历史渊源和语言的独特性，魁省在经济文化以及新移民服务方面均有一些不同于加拿大其他省份的特点。\n法语不流利怎么办？如何在蒙城安居找工作， 蒙城的衣食住行方便吗? 我们的特邀嘉宾蒙特利尔CARI St-Laurent新移民安居指导员Lixin Wang，给大家介绍魁省蒙特利尔地区定居的相关重要信息，包括住房，医疗保健，和孩子的教育等等。 王女士有超过10年的丰富的魁省新移民安居辅导经验，热心提供专业服务，帮助新移民更快适应当地生活。专业的人讲专业的事，敬请参加。\n \n \n 
URL:https://g-tac.ca/event/%e8%92%99%e7%89%b9%e5%88%a9%e5%b0%94%e6%ac%a2%e8%bf%8e%e4%bd%a0-%e8%92%99%e5%9f%8e%e6%96%b0%e7%a7%bb%e6%b0%91%e6%9c%8d%e5%8a%a1%e4%bb%8b%e7%bb%8d/
ATTACH;FMTTYPE=image/png:https://g-tac.ca/wp-content/uploads/2022/04/ME-calendar-10.png
END:VEVENT
BEGIN:VEVENT
DTSTART;TZID=America/Toronto:20220512T090000
DTEND;TZID=America/Toronto:20220512T090000
DTSTAMP:20260422T072832
CREATED:20231113T034024Z
LAST-MODIFIED:20231113T034024Z
UID:4832-1652346000-1652346000@g-tac.ca
SUMMARY:Meet the Employer – Solace
DESCRIPTION:Who is Solace?What positions are they looking to hire?\nWhat is the hiring process and how to join them?\nAbout Solace:\nSolace helps large enterprises become modern and real-time by giving them everything they need to make their business operations and customer interactions event-driven. With PubSub+\, the market’s first and only event management platform\, the company provides a comprehensive way to create\, document\, discover and stream events from where they are produced to where they need to be consumed – securely\, reliably\, quickly\, and guaranteed. Behind Solace technology is the world’s leading group of event streaming experts\, with nearly 20 years of experience helping global enterprises solve some of the most demanding challenges in a variety of industries – from capital markets\, retail\, and gaming to space\, aviation\, and automotive.\n \nAbout the Speakers \nJulina Throop is a Senior Corporate Recruiter working with Solace\, she brings over 9 years of experience within highly technical staffing roles. Julina comes with experience in a staffing agency background\, working with Public and Private sector clients and is excited to be starting a new journey as a Corporate Recruiter. She enjoys working closely with people\, building relationships and ultimately making the best matches in hiring new talent. Julina has a strong passion for finding top Talent and a true interest in Technology. \nBishakha is a recent graduate from both a Marketing & HR Management program at Algonquin College\, previously graduated with a Bachelor’s in Business Admin as well. She is currently a Recruitment Coordinator with Solace\, focusing on creating a positive candidate & hiring manager experience. Bishakha enjoys meeting people and forming connections. She firmly believes that an organization’s ultimate strength is its culture and she particularly enjoys the challenges that it presents with understanding what motivates people and managing expectations. In my free time\, I like to dance\, watch movies\, and do all things outdoorsy. \n1st and foremost Nicole Mair is a mom of 3 boys and enjoys every minute of it.  She has always thrived in an environment where she builds and nurtures relationships which is what led her to a career in Recruiting and HR.  An out of the box thinker\, she loves a good challenge\, enjoys searching for that “purple squirrel” that we all know and love.  Her true passion is “people”\, whether that’s creating connections\, coaching and mentoring others or simply sharing a story. In her 15+ years in her HR & recruiting career she has focused mostly on tech organizations\, including CGI\, Entrust and now she is Manager\, HR& Talent at Solace.\n \n \n 
URL:https://g-tac.ca/event/meet-the-employer-solace/
ATTACH;FMTTYPE=image/png:https://g-tac.ca/wp-content/uploads/2022/04/ME-calendar-11.png
END:VEVENT
BEGIN:VEVENT
DTSTART;TZID=America/Toronto:20220517T090000
DTEND;TZID=America/Toronto:20220517T090000
DTSTAMP:20260422T072832
CREATED:20231113T034023Z
LAST-MODIFIED:20231113T034023Z
UID:4829-1652778000-1652778000@g-tac.ca
SUMMARY:加拿大求职中常见的communication问题及应对
DESCRIPTION:– 什么是北美沟通技巧中常说的elevator pitch?– 如何在面试中tell me about yourself？\n– 什么是职场工作中的small talk?\n新移民移居海外找到心仪的专业工作不是一件容易的事情，但是也绝对不是不可能的事情。了解好游戏规则，做好充分的准备，一切皆有可能。加强沟通能力/communication skills就是必做功课之一，无论在求职阶段，还是在入职后的职业发展阶段都很重要。\n很多招聘岗位的描述中都会要求应聘者具备良好的口头和书面沟通能力/communication skills。沟通能力/communication skills可以简单归纳为提高英文表达，更可以复杂归纳为对当地/职场文化的理解和融入。 本期讲座，结合G-TAC多年来帮助新移民客户找工作的经验，Mr. Shaw Quan\, G-TAC 的资深就业顾问，将为大家由简入深地介绍新移民在加拿大进入职场过程中会遇到的communications问题以及如何应对。敬请参加。
URL:https://g-tac.ca/event/%e5%8a%a0%e6%8b%bf%e5%a4%a7%e6%b1%82%e8%81%8c%e4%b8%ad%e5%b8%b8%e8%a7%81%e7%9a%84communication%e9%97%ae%e9%a2%98%e5%8f%8a%e5%ba%94%e5%af%b9/
ATTACH;FMTTYPE=image/png:https://g-tac.ca/wp-content/uploads/2022/01/30.png
END:VEVENT
BEGIN:VEVENT
DTSTART;TZID=America/Toronto:20220519T090000
DTEND;TZID=America/Toronto:20220519T090000
DTSTAMP:20260422T072832
CREATED:20231113T034023Z
LAST-MODIFIED:20231113T034023Z
UID:4830-1652950800-1652950800@g-tac.ca
SUMMARY:Explore the Career Path for Nursing Related Occupations in Canada
DESCRIPTION:With the looming aging population\, Canada needs more healthcare professionals. While the process to become a registered nurse can be long and complicated\, there are other options and career path for internationally educated nurses (IENs) to fast track their career in Canada. In this webinar\, from the subject matter experts of the industry\, you will learn:– What are the career options for nursing related occupations in Canada?\n– Why Personal Support Worker (PSW) is a good alternative to start with?\n– How to leverage the transferable skills to establish your career in the healthcare industry of Canada?\n– How to take advantage of available resource to expedite your career development in Canada?\nAbout the speaker: \nBen Benny\, an Ultimate Generalist with vast life experience in Nursing ( RPN and RN). Very expendable\, with Skills and education in Nursing\, Financial\, Accounting\, and Payroll. Bachelor’s in Nursing Degree from India\, Two Diplomas\, and a certificate program (Canada) in different specialties give me ample Knowledge and quest for learning new skills. Presently work at two career colleges teaching PSW students\, and various Healthcare program students. Generalist Skills\, Knowledge\, and Experience in Varied specialties make me a perfect combination for challenging Scenarios.\n 
URL:https://g-tac.ca/event/explore-the-career-path-for-nursing-related-occupations-in-canada-2/
ATTACH;FMTTYPE=image/png:https://g-tac.ca/wp-content/uploads/2022/05/ME-calendar-17.png
END:VEVENT
BEGIN:VEVENT
DTSTART;TZID=America/Toronto:20220524T090000
DTEND;TZID=America/Toronto:20220524T090000
DTSTAMP:20260422T072832
CREATED:20231113T034022Z
LAST-MODIFIED:20231113T034022Z
UID:4828-1653382800-1653382800@g-tac.ca
SUMMARY:后疫情时代的招聘趋势和找工作技巧
DESCRIPTION:在招聘求职高度网络化的时代，Hidden Job Market还存在吗？\n高新科技在招聘程序上的应用有哪些？求职者应该如何应对？\n什么是主动型求职者？如何才能转变为主动型求职者？ \n一场疫情带给我们的工作和生活上巨大的改变。作为新移民求职者，了解北美职场在后疫情时代的招聘新趋势以及应对的正确做法能让你的求职之路更顺畅。 \n主讲人Ariane Guan\, 卡尔加里成长并参加工作，有超过10年为新移民服务的工作经验。目前就职于卡尔加里大学，就业顾问。在这个讲座中她将会分享最新的疫情后人才招聘的新趋势以及应对技巧，同时帮助大家了解拓展人脉和争取内推的方法。\n \n 
URL:https://g-tac.ca/event/%e5%90%8e%e7%96%ab%e6%83%85%e6%97%b6%e4%bb%a3%e7%9a%84%e6%8b%9b%e8%81%98%e8%b6%8b%e5%8a%bf%e5%92%8c%e6%89%be%e5%b7%a5%e4%bd%9c%e6%8a%80%e5%b7%a7/
ATTACH;FMTTYPE=image/png:https://g-tac.ca/wp-content/uploads/2022/05/ME-calendar-18.png
END:VEVENT
BEGIN:VEVENT
DTSTART;TZID=America/Toronto:20220526T090000
DTEND;TZID=America/Toronto:20220526T090000
DTSTAMP:20260422T072832
CREATED:20231113T034023Z
LAST-MODIFIED:20231113T034023Z
UID:4831-1653555600-1653555600@g-tac.ca
SUMMARY:Meet the Employer – SSENSE
DESCRIPTION:SSENSE has continued to grow and want talent from various domains to join their team.About the Employer:\nSSENSE is a multi-brand retailer based in Montreal\, Canada specialising in the sale of designer fashion and high end streetwear. It was founded as an e-commerce platform in 2003. The company delivers to 114 countries around the world and operates websites in French\, English\, Japanese and Korean.Technology is at the core of everything we do at SSENSE. Driven by an engineering mindset and a problem-solving attitude\, we blend fashion with technology to deliver an unparalleled experience to our customers as we build seamless\, custom solutions to deliver the SSENSE offering. \nThe SSENSE tech team is responsible for an international headless commerce platform. Working in an agile environment\, our squads are made up of experienced innovators in Product Management\, QA\, Design\, DevOps\, Software Development\, Machine Learning\, Data Engineering\, and Security. Our technology organization has been growing at a rate of 2X year-over-year and is doubling once again in 2022 as we expand across Canada\, US\, and Europe. \nAbout the Speaker: \n Martin has been in the recruitment world for more than 18 years. His love for recruitment has led him to focus on hard-to-fill roles in Information Technology and Engineering. Having worked as a Senior Talent Acquisition Partner\, Recruitment Lead\, and Human Resources Manager through the years\, Martin is currently the Manager of Talent Sourcing at SSENSE\, where he leads a team of dedicated Talent Sourcers responsible for market research and building pipelines of qualified candidates.
URL:https://g-tac.ca/event/meet-the-employer-ssense/
ATTACH;FMTTYPE=image/png:https://g-tac.ca/wp-content/uploads/2022/05/ME-calendar-15.png
END:VEVENT
BEGIN:VEVENT
DTSTART;TZID=America/Toronto:20220531T090000
DTEND;TZID=America/Toronto:20220531T090000
DTSTAMP:20260422T072832
CREATED:20231113T034021Z
LAST-MODIFIED:20231113T034021Z
UID:4827-1653987600-1653987600@g-tac.ca
SUMMARY:阿尔伯塔省就业市场及新移民就业服务介绍
DESCRIPTION:阿尔伯塔省就业市场信息\n阿尔伯塔省新移民就业服务介绍 \n阿尔伯塔省位于加拿大西部，省会为埃德蒙顿市，最大的城市为卡尔加里市。作为加拿大人均GDP最高的省份，该省经济支柱为石油开采/加工和旅游。阿省不仅石油、天然气、油砂、煤炭等藏量丰厚，其农业资源也非常丰富，是加拿大主要粮食及饲料产地。同时，阿省致力于产业多元化，目前高科技发达，电讯、软件、遥感、纳米科技、 生命科学以至畜牧、育种等研究及成就举世闻名。随着能源价格的复苏，阿尔伯塔省的经济和就业市场呈现持续利好趋势。\n根据加拿大统计局2021年公布的数据[1]，阿省省会埃德蒙顿是全加拿大移民保留率最高的三大城市之一[2]。而在经济类移民中，埃德蒙顿的移民保留率最高，这主要与新移民有更多机会将自己的工作技能融入到本地劳动力市场有关。一直以来，阿尔伯塔省为新移民提供非常多样化的安顿和就业服务。本期讲座，我们将以埃德蒙顿和卡尔加里两大城市为例，重点介绍阿省政府和非盈利机构为新移民提供的各种就业服务包括职业规划，就业咨询，就业培训等。 \n主讲人： 葛凌\n葛女士 拥有15年的教育培训经验，涉及公共部门，私营公司，以及非盈利机构等不同行业部门。她现任职于Edmonton Mennonite Center for Newcomers （ EMCN），岗位是 Facilitator and Skill Development Coach 。业余时间，Ling 是一位热心 的社区组织的志愿者。\n \n[1] https://www150.statcan.gc.ca/n1/daily-quotidien/211210/dq211210b-eng.htm\n[2] 加拿大三大移民保留率最高的三大城市分别为：温哥华，多伦多， 埃德蒙顿。\n 
URL:https://g-tac.ca/event/%e9%98%bf%e5%b0%94%e4%bc%af%e5%a1%94%e7%9c%81%e5%b0%b1%e4%b8%9a%e5%b8%82%e5%9c%ba%e5%8f%8a%e6%96%b0%e7%a7%bb%e6%b0%91%e5%b0%b1%e4%b8%9a%e6%9c%8d%e5%8a%a1%e4%bb%8b%e7%bb%8d/
END:VEVENT
END:VCALENDAR