BEGIN:VCALENDAR
VERSION:2.0
PRODID:-//G-TAC - ECPv6.15.20//NONSGML v1.0//EN
CALSCALE:GREGORIAN
METHOD:PUBLISH
X-ORIGINAL-URL:https://g-tac.ca
X-WR-CALDESC:Events for G-TAC
REFRESH-INTERVAL;VALUE=DURATION:PT1H
X-Robots-Tag:noindex
X-PUBLISHED-TTL:PT1H
BEGIN:VTIMEZONE
TZID:America/Toronto
BEGIN:DAYLIGHT
TZOFFSETFROM:-0500
TZOFFSETTO:-0400
TZNAME:EDT
DTSTART:20210314T070000
END:DAYLIGHT
BEGIN:STANDARD
TZOFFSETFROM:-0400
TZOFFSETTO:-0500
TZNAME:EST
DTSTART:20211107T060000
END:STANDARD
BEGIN:DAYLIGHT
TZOFFSETFROM:-0500
TZOFFSETTO:-0400
TZNAME:EDT
DTSTART:20220313T070000
END:DAYLIGHT
BEGIN:STANDARD
TZOFFSETFROM:-0400
TZOFFSETTO:-0500
TZNAME:EST
DTSTART:20221106T060000
END:STANDARD
BEGIN:DAYLIGHT
TZOFFSETFROM:-0500
TZOFFSETTO:-0400
TZNAME:EDT
DTSTART:20230312T070000
END:DAYLIGHT
BEGIN:STANDARD
TZOFFSETFROM:-0400
TZOFFSETTO:-0500
TZNAME:EST
DTSTART:20231105T060000
END:STANDARD
END:VTIMEZONE
BEGIN:VEVENT
DTSTART;TZID=America/Toronto:20220111T090000
DTEND;TZID=America/Toronto:20220111T090000
DTSTAMP:20260422T173514
CREATED:20231113T034149Z
LAST-MODIFIED:20231113T034149Z
UID:4868-1641891600-1641891600@g-tac.ca
SUMMARY:安省（Ontario）医疗保健体系介绍
DESCRIPTION:您想了解谁有资格申请安大略省健康保险计划（OHIP）吗？您想了解安大略省健康保险计划（OHIP）提供哪些医疗服务吗？\n您知道安大略省健康保险计划（OHIP）对于居住时间的要求吗？\n加拿大福利制度非常完善，种类繁多。在医疗方面，各省都有比较完善的保障，以确保每个人都病有所医。本期讲座，我们非常荣幸地邀请到渥太华Somerset West Community Health Centre的社工Ying Shen女士为大家介绍安大略健康保险计划（OHIP）的情况，帮助您了解自己和家人可以享受的相关医疗服务，特别是大家比较关心的牙齿护理，药物计划及辅助医疗器材补贴计划等。\n 
URL:https://g-tac.ca/event/%e5%ae%89%e7%9c%81%ef%bc%88ontario%ef%bc%89%e5%8c%bb%e7%96%97%e4%bf%9d%e5%81%a5%e4%bd%93%e7%b3%bb%e4%bb%8b%e7%bb%8d/
ATTACH;FMTTYPE=image/png:https://g-tac.ca/wp-content/uploads/2021/12/2.png
END:VEVENT
BEGIN:VEVENT
DTSTART;TZID=America/Toronto:20220113T090000
DTEND;TZID=America/Toronto:20220113T090000
DTSTAMP:20260422T173514
CREATED:20231113T034148Z
LAST-MODIFIED:20231113T034148Z
UID:4867-1642064400-1642064400@g-tac.ca
SUMMARY:Live Q&A: Top tips on Building your Construction Career in Canada
DESCRIPTION:Construction sector is critical to Canada’s economy\, since it contributes 7.5 per cent of Canada’s GDP\, and employs 1.4 million people. There are various career paths for you to explore.The BCCA-Integrating Newcomers (BCCA-IN) program is a government-funded\, free\, nationwide employment coaching service for skilled immigrants looking to transition careers to the construction industry in Canada – before moving here.\nAt no cost to you\, BCCA-IN will assign a dedicated career coach and you will receive construction-related job hunting tips and tools\, live job leads\, a detailed skills and education assessment\, connections to provincial professional associations and licensing authorities\, plus\, suggestions on the most relevant pre and post-arrival settlement services you should access. Whether you have extensive experience in construction in your home country or are considering the construction industry as a target sector in Canada for your skills for the first time\, we can help.\n \n \n 
URL:https://g-tac.ca/event/live-qa-top-tips-on-building-your-construction-career-in-canada/
ATTACH;FMTTYPE=image/png:https://g-tac.ca/wp-content/uploads/2021/11/sample-IN-collage-used-by-our-partner-2.png
END:VEVENT
BEGIN:VEVENT
DTSTART;TZID=America/Toronto:20220118T090000
DTEND;TZID=America/Toronto:20220118T090000
DTSTAMP:20260422T173514
CREATED:20231113T034148Z
LAST-MODIFIED:20231113T034148Z
UID:4866-1642496400-1642496400@g-tac.ca
SUMMARY:Introduction of Career Paths in Canadian Banking Industry
DESCRIPTION:HSBC Bank Canada (French: Banque HSBC Canada) is the Canadian subsidiary of British multinational banking and financial services company HSBC. HSBC Canada is the seventh largest bank in Canada\, with offices in every province except Prince Edward Island\, and is the largest foreign-owned bank in the country.Some of the highlights of the webinar by the team of HSBC Bank Canada on Jan.18\, 2022 are: \nOverview of HSBC International Proposition\nIntroduction to HSBC Yonge & Sheppard\nKeynote Speech on Career Paths in the Canadian Banking Industry \nAbout the Keynote Speaker\nSandip K Chaudhury\, Head of International\, HSBC Canada. Sandip is the Head of Customer Growth & International at HSBC Bank Canada\, focusing on newcomer and multicultural segments. As an international corporate leader\, Sandip has 25+ years of experience in working with major multinational organizations in varied industries and roles. He is an empowering servant leader\, a diversity champion\, and an effective coach with a proven record of successful involvement in business and community-based initiatives.\n \n 
URL:https://g-tac.ca/event/introduction-of-career-paths-in-canadian-banking-industry/
ATTACH;FMTTYPE=image/png:https://g-tac.ca/wp-content/uploads/2021/12/7.png
END:VEVENT
BEGIN:VEVENT
DTSTART;TZID=America/Toronto:20220119T090000
DTEND;TZID=America/Toronto:20220119T090000
DTSTAMP:20260422T173514
CREATED:20231113T034148Z
LAST-MODIFIED:20231113T034148Z
UID:4865-1642582800-1642582800@g-tac.ca
SUMMARY:Starting the Nursing Registration Process and Leveraging Transferable Skills for Employment
DESCRIPTION:Are you planning to pursue your nursing profession in Canada?\nWhat to prepare for the credentialing assessment process?\nWhat are the non-licensed health jobs to pursue while meeting licensure? \nThe nursing assessment process in Canada can be long and complex. To help internationally educated nurses (IENs) achieve their goals of registration and meaningful employment in Canada\, Pre-Arrival Supports and Services (PASS) Program for Nurses not only provides guidance and encouragement\, but ensures that IENs are supported along their way to establish their career in Canada. Please join Meghan Wankel to lean more!\n 
URL:https://g-tac.ca/event/starting-the-nursing-registration-process-and-leveraging-transferable-skills-for-employment/
ATTACH;FMTTYPE=image/png:https://g-tac.ca/wp-content/uploads/2021/12/4.png
END:VEVENT
BEGIN:VEVENT
DTSTART;TZID=America/Toronto:20220120T090000
DTEND;TZID=America/Toronto:20220120T090000
DTSTAMP:20260422T173514
CREATED:20231113T034147Z
LAST-MODIFIED:20231113T034147Z
UID:4864-1642669200-1642669200@g-tac.ca
SUMMARY:Meet the Employer – Sophos
DESCRIPTION:Why work at Sophos?What is the outlook of employment opportunities at Sophos?\nHow can you land a job at Sophos?\nCybersecurity Evolved.\nSophos is a worldwide leader in next-generation cybersecurity\, protecting more than 500\,000 organizations and millions of consumers in more than 150 countries from today’s most advanced cyberthreats. Powered by threat intelligence\, AI and machine learning from SophosLabs and SophosAI\, Sophos delivers a broad portfolio of advanced products and services to secure users\, networks and endpoints against ransomware\, malware\, exploits\, phishing and the wide range of other cyberattacks. Sophos provides a single integrated cloud-based management console\, Sophos Central – the centerpiece of an adaptive cybersecurity ecosystem that features a centralized data lake that leverages a rich set of open APIs available to customers\, partners\, developers\, and other cybersecurity vendors. Sophos sells its products and services through reseller partners and managed service providers (MSPs) worldwide. Sophos is headquartered in Oxford\, U.K.\nAbout the Speaker:\nAmy Morella is currently the Senior Human Resources Business Partner of Sophos Canada\, based out of Ottawa. A dynamic and results-oriented Human Resources Practitioner\, Amy has had more than 15 years of international and Canadian experience in all facets of human resources management including recruitment & selection\, organization development\, performance management and talent management and HR operations. She is a mother of 3 and her husband is also active in the field of Human Resources.\n \n 
URL:https://g-tac.ca/event/meet-the-employer-sophos/
ATTACH;FMTTYPE=image/png:https://g-tac.ca/wp-content/uploads/2021/12/ME-calendar-11.png
END:VEVENT
BEGIN:VEVENT
DTSTART;TZID=America/Toronto:20220125T090000
DTEND;TZID=America/Toronto:20220125T090000
DTSTAMP:20260422T173514
CREATED:20231113T034131Z
LAST-MODIFIED:20231113T034131Z
UID:4862-1643101200-1643101200@g-tac.ca
SUMMARY:加拿大中医药行业就业前景与经验分享
DESCRIPTION:– 加拿大中医药行业立法与执业现状如何？–  什么样的背景可以考虑在加拿大从事中医药行业的工作？\n– 如何获取本地认可的中医药教育认证？\n– 如何获得执业资格认证？\n– 找工作or经营自己的诊所？ \n有没有考虑过来到加拿大从事中医药相关行业的工作？随着针灸及中医药治疗服务在北美的不断普及，加拿大注册按摩师/针灸师开始成为新移民所青睐的职业发展方向之一。本期讲座我们邀请到加拿大中医药行业的多位专家，从行业现状与前景分析、职业发展路径、个人亲身经历分享等多个方面进行分享。\n本期分享嘉宾介绍\n杨公亮\n阿尔伯塔省补充医疗项目经理，现任职于卡尔加里大学医学院。北美中医药发展促进中心常务副主任，卡尔加里中国专业人士与企业家协会副会长，世界中医药学会联合会中医药管理专业委员会副会长，世界中医药学会联合会热敏灸专业委员会副会长。自2017年起常驻加拿大进行中医药国际推广工作，致力于中医药适宜技术国际化推广及海外中医药机构管理创新研究。从事医疗大数据相关研究与应用16年，具备丰富的大型信息系统构架、设计与实施运营经验。美国史蒂文斯理工学院项目管理硕士。自2018年起，组织中医药公益讲座近70场，覆盖加拿大本地民众数万人；组织中医义诊义治活动免费治疗患者数百人次。新冠疫情以来，每日坚持为阿省华人居民在微信群中翻译直播阿省新冠发布会并更新每日确诊数据。\n丛莹莹 博士\n阿伯塔省注册针灸师，医学博士。目前就职于阿伯塔针灸中医学院，从事临床中医治疗及教学工作。出国前她工作于哈尔滨医科大学附属医院，任肿瘤内科主治医师。她于2012年出国留学，就读于加拿大卡尔加里大学，攻读肿瘤学博士学位。其后就读于阿伯塔针灸中医学院，毕业后留校工作至今。\n冯胜昆\n阿尔伯塔注册按摩师。国内临床医学学士，曾在国内知名医院任内科主治医师，多年脊柱相关疾病手法及针灸治疗经验。现就读于阿尔伯塔针灸中医学院针灸专业。\n 
URL:https://g-tac.ca/event/%e5%8a%a0%e6%8b%bf%e5%a4%a7%e4%b8%ad%e5%8c%bb%e8%8d%af%e8%a1%8c%e4%b8%9a%e5%b0%b1%e4%b8%9a%e5%89%8d%e6%99%af%e4%b8%8e%e7%bb%8f%e9%aa%8c%e5%88%86%e4%ba%ab/
END:VEVENT
BEGIN:VEVENT
DTSTART;TZID=America/Toronto:20220127T120000
DTEND;TZID=America/Toronto:20220127T120000
DTSTAMP:20260422T173514
CREATED:20231113T034131Z
LAST-MODIFIED:20231113T034131Z
UID:4863-1643284800-1643284800@g-tac.ca
SUMMARY:Meet the Employer – Technical Safety BC
DESCRIPTION:Who is Technical Safety BC and why work there?What are the available job positions at Technical Safety BC?\nHow to land a job at Technical Safety BC\nTechnical Safety BC is an independent\, self-funded organization that oversees the safe installation and operation of technical systems and equipment across the province of BC. In addition to issuing permits\, licenses and certificates\, we work with industry to reduce safety risks through assessment\, education and outreach\, enforcement\, and research.\nAbout the Speakers:\nJohn Lieu\, Leader\, Product Development\, and he is responsible for managing a high performance team of developers who are responsible for developing various internal and external applications.  The applications range from those allowing our clients to pull permits\, make payments and review follow up actions resulting from an inspection to applications used internally to perform the inspection\, determining the area mappings for Safety Officer\, Task Management for CSR\, etc.\nJohn is a seasoned entrepreneurial professional with 25 years of multi-faceted skills. Achievements include cofounding EQO\, the world’s first mobile social phonebook application with 3 million users in over 200 countries and US$12 million in venture capital financing; continued success in building large scale enterprise-grade applications for different industries.  John has proven product management experience with extensive background in agile software product development.\nKelcy MacMillan\, Talent Acquisition Advisor. She works with a small team of recruiters to implement the overall talent acquisition function across the organization. They do this by supporting the enhancements to the organization’s recruitment strategies\, providing talent acquisition guidance\, and coaching for leaders\, while building external talent connections and partnerships specifically for recruiting.\n \n \n 
URL:https://g-tac.ca/event/meet-the-employer-technical-safety-bc/
ATTACH;FMTTYPE=image/png:https://g-tac.ca/wp-content/uploads/2021/12/23.png
END:VEVENT
BEGIN:VEVENT
DTSTART;TZID=America/Toronto:20220128T090000
DTEND;TZID=America/Toronto:20220128T090000
DTSTAMP:20260422T173514
CREATED:20231113T034130Z
LAST-MODIFIED:20231113T034130Z
UID:4860-1643360400-1643360400@g-tac.ca
SUMMARY:How To Successfully Land An Accounting Job In Canada?
DESCRIPTION:From the workshop\, you will learn how to:\nAcquire various accounting & finance positions and skills required in Canada. Refresh and reinforce your qualifications with G-TAC’s 6 key training modules from the most popular accounting software QuickBooks to Small Business Accounting with real cases.\nEstablish your network with Canadian employers/experts\, and obtain the original hiring information from G-TAC and the employers directly.\nJumpstart your professional career with landing a job in Canada from day one under G-TAC team’s support. (Past Successes: 80% found professional jobs 3 month after completion of the training) \nAbout the Speaker: Josiane Gomez\, CPA\, CGA and MBA holder\, has extensive experience in Accounting\, Auditing\, Taxation\, and Business Advisory Services. She started her career in public practice as chartered professional accountant\, and later joined one of the Big Four accounting firms (KPMG) in Ottawa\, Ontario with a senior role. Eventually\, Josiane founded her company Zivo to provide bookkeeping\, accounting\, tax and CFO services for nonprofits and small businesses.\n 
URL:https://g-tac.ca/event/how-to-successfully-land-an-accounting-job-in-canada/
ATTACH;FMTTYPE=image/png:https://g-tac.ca/wp-content/uploads/2023/11/ME-calendar-8-e1641589189420-8rjvUn.tmp_.png
END:VEVENT
END:VCALENDAR