BEGIN:VCALENDAR
VERSION:2.0
PRODID:-//G-TAC - ECPv6.15.20//NONSGML v1.0//EN
CALSCALE:GREGORIAN
METHOD:PUBLISH
X-WR-CALNAME:G-TAC
X-ORIGINAL-URL:https://g-tac.ca
X-WR-CALDESC:Events for G-TAC
REFRESH-INTERVAL;VALUE=DURATION:PT1H
X-Robots-Tag:noindex
X-PUBLISHED-TTL:PT1H
BEGIN:VTIMEZONE
TZID:America/Toronto
BEGIN:DAYLIGHT
TZOFFSETFROM:-0500
TZOFFSETTO:-0400
TZNAME:EDT
DTSTART:20200308T070000
END:DAYLIGHT
BEGIN:STANDARD
TZOFFSETFROM:-0400
TZOFFSETTO:-0500
TZNAME:EST
DTSTART:20201101T060000
END:STANDARD
BEGIN:DAYLIGHT
TZOFFSETFROM:-0500
TZOFFSETTO:-0400
TZNAME:EDT
DTSTART:20210314T070000
END:DAYLIGHT
BEGIN:STANDARD
TZOFFSETFROM:-0400
TZOFFSETTO:-0500
TZNAME:EST
DTSTART:20211107T060000
END:STANDARD
BEGIN:DAYLIGHT
TZOFFSETFROM:-0500
TZOFFSETTO:-0400
TZNAME:EDT
DTSTART:20220313T070000
END:DAYLIGHT
BEGIN:STANDARD
TZOFFSETFROM:-0400
TZOFFSETTO:-0500
TZNAME:EST
DTSTART:20221106T060000
END:STANDARD
END:VTIMEZONE
BEGIN:VEVENT
DTSTART;TZID=America/Toronto:20210921T083000
DTEND;TZID=America/Toronto:20210921T083000
DTSTAMP:20260422T183814
CREATED:20231113T034231Z
LAST-MODIFIED:20231113T034231Z
UID:4885-1632213000-1632213000@g-tac.ca
SUMMARY:Resume & LinkedIn Profile VCE Customized Coaching
DESCRIPTION:Taking part in online events and activities will become the new normal\, and this poses a great test on our communication skills and understanding of local workplace culture. In addition\, your resume and LinkedIn profile play a critical role in finding jobs/career development – that is what G-TAC can help you relieve the pain so you can focus on looking out for opportunities that fit you\, and the fee is very affordable.
URL:https://g-tac.ca/event/resume-linkedin-profile-vce-customized-coaching/
END:VEVENT
BEGIN:VEVENT
DTSTART;TZID=America/Toronto:20210826T090000
DTEND;TZID=America/Toronto:20210826T090000
DTSTAMP:20260422T183814
CREATED:20231113T034232Z
LAST-MODIFIED:20231113T034232Z
UID:4888-1629968400-1629968400@g-tac.ca
SUMMARY:TD Bank – Meet the Employer
DESCRIPTION:The Toronto–Dominion Bank is a Canadian multinational banking and financial services corporation headquartered in Toronto\, Ontario. It is one of the 5 largest banks in Canada and employs more than 80\,000 people worldwide. Career development is important at TD\, we work hard to promote from within.Join Freya Pulimood\, Talent Acquisition Manager\, Yuliya Ivashchenko and Amanda Simoni\, Talent Acquisition Partners as we explore how a Canadian professional can potentially enter the financial services and insurance industries at TD. The team is involved in identifying and hiring new recruits to join TD Bank in the Greater Toronto Area and is communicating with their partners across Canada.
URL:https://g-tac.ca/event/td-bank-meet-the-employer/
END:VEVENT
BEGIN:VEVENT
DTSTART;TZID=America/Toronto:20210819T090000
DTEND;TZID=America/Toronto:20210819T090000
DTSTAMP:20260422T183814
CREATED:20231113T034232Z
LAST-MODIFIED:20231113T034232Z
UID:4889-1629363600-1629363600@g-tac.ca
SUMMARY:Scotiabank – Meet the Employer
DESCRIPTION:More details coming soon
URL:https://g-tac.ca/event/scotiabank-meet-the-employer/
END:VEVENT
BEGIN:VEVENT
DTSTART;TZID=America/Toronto:20210812T090000
DTEND;TZID=America/Toronto:20210812T090000
DTSTAMP:20260422T183814
CREATED:20231113T034232Z
LAST-MODIFIED:20231113T034232Z
UID:4890-1628758800-1628758800@g-tac.ca
SUMMARY:Career Opportunities in the Canadian IT Industry
DESCRIPTION:Are you looking to make a big career change and wondering what direction to go? Join Caitlin Tessler from Global Talent Alliance to discuss the Canadian skills shortage\, IT industry shifts and job opportunities in Canada. In this webinar you will learn:1) What are the most in-demand skills in Canada\, and how is the Canadian job market evolving?\n2) What skills will you need to secure a job in the IT industry\, and what training options exist for all levels of IT job seekers?\n3)  What will make you stand out to Canadian employers?\nCaitlin Tessler has been working as a leader in multiple industries\, and across multiple provinces. She is currently working in IT recruiting for her employer clients all over Canada. she is constantly keeping up to date with the current Canadian IT market trends. She is very eager to introduce Global Talent Alliance and share her industry knowledge with Canadian and International job seekers. Follow the link below to register for the ‘Meet the Employer’ Webinar on August 12th.
URL:https://g-tac.ca/event/career-opportunities-in-the-canadian-it-industry/
ATTACH;FMTTYPE=image/jpeg:https://g-tac.ca/wp-content/uploads/2021/08/qtq80-xqEJBd.jpeg
END:VEVENT
BEGIN:VEVENT
DTSTART;TZID=America/Toronto:20210729T090000
DTEND;TZID=America/Toronto:20210729T090000
DTSTAMP:20260422T183814
CREATED:20231113T034240Z
LAST-MODIFIED:20231113T034240Z
UID:4892-1627549200-1627549200@g-tac.ca
SUMMARY:CIBC – Meet the Employer
DESCRIPTION:Global Talent Alliance is thrilled to be hosting CIBC.CIBC is a leading Canadian-based global financial institution with 10 million personal banking\, business\, public sector and institutional clients. CIBC offers a full range of advice\, solutions and services through its leading digital banking network\, and locations across Canada\, in the United States and around the world. At CIBC\, we are in business to help our clients\, employees and shareholders achieve what is important to them. For more\, visit Cibc.com\n Join Denny George\, Senior Talent Acquisition Partner\, from Toronto\, as he explores career opportunities within CIBC. About the speaker:\nDenny George is an accomplished\, results-oriented\, Talent Advisor with over 15 years of progressive experience in diverse industries including Banking\, Retail\, Automotive\, Manufacturing and Not-for-profit. A Strategic Business Partner who is client-centered and thrives on a consultative approach to provide Leadership Support\, Build Partnership and provide effective Talent Management Solutions that make a tangible bottom-line contribution. He has been working at CIBC for last seven years as a ‘Senior Talent Acquisition Partner’.\nDenny is a mentor with HRPA\, actively engaged with HRPA Annual Conference event since 2006. He volunteers his time to coach and mentor ‘newcomers to Canada’ and internationally trained professionals on job search strategies\, personal branding and how to land a job and get to market in the most effective way.\nIn this webinar you will learn:\n1) How has CIBC has become a Leader in Client relationships?\n2) How is CIBC is changing the principles of Banking and defining the banking talent space (‘First-year experience’)\n3) What positions are currently open at CIBC? Who is an ideal candidate?
URL:https://g-tac.ca/event/cibc-meet-the-employer/
END:VEVENT
BEGIN:VEVENT
DTSTART;TZID=America/Toronto:20210722T090000
DTEND;TZID=America/Toronto:20210722T090000
DTSTAMP:20260422T183814
CREATED:20231113T034240Z
LAST-MODIFIED:20231113T034240Z
UID:4893-1626944400-1626944400@g-tac.ca
SUMMARY:IBM- Meet The Employer
DESCRIPTION:Led out of Toronto\, IBM Canada is always on the lookout for skilled talent. With operations across the country\, IBM continues to connect with\, and hire skilled talent.Join IBM Recruiters Aviel Dumov & Thivya Nagamuthu in this Live-Session to learn about IBM’s recruitment processes\, how to best apply to IBM jobs\, and connect with recruiters. Let’s hear what IBM Canada is currently looking for in top candidates\, how you can prepare\, and what you as a candidate can expect in your IBM application process.\n 
URL:https://g-tac.ca/event/ibm-meet-the-employer/
END:VEVENT
BEGIN:VEVENT
DTSTART;TZID=America/Toronto:20210721T090000
DTEND;TZID=America/Toronto:20210721T090000
DTSTAMP:20260422T183814
CREATED:20231113T034240Z
LAST-MODIFIED:20231113T034240Z
UID:4891-1626858000-1626858000@g-tac.ca
SUMMARY:Securing a Job at a ‘Big Five’ Banks in Canada
DESCRIPTION:Canada’s banking system has been ranked as the world’s soundest by the World Economic Forum. Canada’s banks and their subsidiaries contribute significantly to employment and job creation. As of 2020\, there were over 290\,000 employees working in Canada’s banking industry. Canada’s banking industry has a long history of technology innovation. All the major banks continue to invest considerably in technology\, which implies a high demand for talents with tech experiences/skills.Please join Mr. ChangMing Li in this webinar\, as he will share his experiences with regard to career development in Canadian Banks. He will also provide his insights and suggestions on how newcomers can establish their careers in the Canadian financial industry.\nChangMing currently works for CIBC as Senior Manager of Information Security. Prior to CIBC\, he has taken various IT audit and cybersecurity roles in multiple financial institutions\, e.g. TD Bank and Manulife. His career started at Deloitte China. He holds multiple certifications\, such as CISA\, CISSP and PMP. He graduated from Tongji University with a Bachelor’s Degree and a Master’s Degree in Management Information Systems.
URL:https://g-tac.ca/event/securing-a-job-at-a-big-five-banks-in-canada/
ATTACH;FMTTYPE=image/jpeg:https://g-tac.ca/wp-content/uploads/2021/07/qtq80-0USplk.jpeg
END:VEVENT
END:VCALENDAR