BEGIN:VCALENDAR
VERSION:2.0
PRODID:-//G-TAC - ECPv6.15.20//NONSGML v1.0//EN
CALSCALE:GREGORIAN
METHOD:PUBLISH
X-ORIGINAL-URL:https://g-tac.ca
X-WR-CALDESC:Events for G-TAC
REFRESH-INTERVAL;VALUE=DURATION:PT1H
X-Robots-Tag:noindex
X-PUBLISHED-TTL:PT1H
BEGIN:VTIMEZONE
TZID:America/Toronto
BEGIN:DAYLIGHT
TZOFFSETFROM:-0500
TZOFFSETTO:-0400
TZNAME:EDT
DTSTART:20230312T070000
END:DAYLIGHT
BEGIN:STANDARD
TZOFFSETFROM:-0400
TZOFFSETTO:-0500
TZNAME:EST
DTSTART:20231105T060000
END:STANDARD
BEGIN:DAYLIGHT
TZOFFSETFROM:-0500
TZOFFSETTO:-0400
TZNAME:EDT
DTSTART:20240310T070000
END:DAYLIGHT
BEGIN:STANDARD
TZOFFSETFROM:-0400
TZOFFSETTO:-0500
TZNAME:EST
DTSTART:20241103T060000
END:STANDARD
BEGIN:DAYLIGHT
TZOFFSETFROM:-0500
TZOFFSETTO:-0400
TZNAME:EDT
DTSTART:20250309T070000
END:DAYLIGHT
BEGIN:STANDARD
TZOFFSETFROM:-0400
TZOFFSETTO:-0500
TZNAME:EST
DTSTART:20251102T060000
END:STANDARD
BEGIN:DAYLIGHT
TZOFFSETFROM:-0500
TZOFFSETTO:-0400
TZNAME:EDT
DTSTART:20260308T070000
END:DAYLIGHT
BEGIN:STANDARD
TZOFFSETFROM:-0400
TZOFFSETTO:-0500
TZNAME:EST
DTSTART:20261101T060000
END:STANDARD
END:VTIMEZONE
BEGIN:VEVENT
DTSTART;TZID=America/Toronto:20241017T110000
DTEND;TZID=America/Toronto:20241017T120000
DTSTAMP:20260420T083427
CREATED:20240920T175658Z
LAST-MODIFIED:20240920T175658Z
UID:5450-1729162800-1729166400@g-tac.ca
SUMMARY:Unlocking Opportunities: Mastering Job Search Strategies for the Canadian Job Market
DESCRIPTION:Why is having a strategic approach essential for your job search in Canada?\nWondering how to align your resume with the expectations of Canadian recruiters?\nLooking for effective ways to expand your professional network in Canada?\n\nJoin us for this exclusive webinar\, designed to demystify the job search process for both newcomers and seasoned professionals. This session offers in-depth guidance on navigating the complexities of Canada’s employment landscape and equips you with the key strategies to shine as a candidate. \nKey Topics: \n– Understanding Strategic Job Search Approaches: Learn why having a strategic plan is crucial in your job search and how it can dramatically increase your chances of landing a job in Canada. \n– Resume Essentials: Master the art of resume crafting tailored to Canadian employers’ preferences\, including format and content nuances. \n– Effective Networking: Learn how to effectively build and leverage your professional network in Canada for career advancement. \n– Interview Techniques: Uncover valuable insights into the Canadian interview etiquette\, including typical questions\, cultural subtleties\, and presentation tips. \n– Online Presence: Get practical tips on optimizing your LinkedIn profile and utilizing online platforms to increase your visibility to potential employers. \nThis webinar marks the beginning of your journey to a successful job search in Canada. Whether you are eyeing a career shift or seeking your initial employment opportunity\, our expert guidance will help you steer through the employment pathway efficiently. Register now to reshape your approach to job hunting and secure your place in the Canadian job market!
URL:https://g-tac.ca/event/unlocking-opportunities-mastering-job-search-strategies-for-the-canadian-job-market/
ATTACH;FMTTYPE=image/jpeg:https://g-tac.ca/wp-content/uploads/2024/09/4.jpg
END:VEVENT
BEGIN:VEVENT
DTSTART;TZID=America/Toronto:20241024T110000
DTEND;TZID=America/Toronto:20241024T120000
DTSTAMP:20260420T083427
CREATED:20240920T180123Z
LAST-MODIFIED:20240920T180123Z
UID:5454-1729767600-1729771200@g-tac.ca
SUMMARY:Ace the Interview: Proven Strategies and Common Mistakes to Avoid
DESCRIPTION:Are you nervous about your upcoming job interview?\nUnsure how to showcase your skills effectively?\nWondering how to leave a lasting impression on your interviewers?\n\nJoin us for an insightful webinar designed to empower job seekers with the tools and knowledge needed to excel in interviews across various industries. Whether you’re targeting your first job\, seeking a career change\, or aiming for a promotion\, understanding the dynamics of effective interview preparation can significantly boost your chances of success. This session will cover strategic preparation techniques\, highlight common interview mistakes\, and provide actionable tips to enhance your interview performance. \n  \nKey Points of the Webinar: \n– Understanding the Interview Process \n– Strategic Preparation Techniques \n– Common Interview Mistakes to Avoid \n– How to Effectively Convey Your Strengths and Experience \n– Navigating Tough Questions and Red Flags \n– The Follow-Up \nWho Should Attend: \nThis webinar is perfect for job seekers at all career stages who are looking to refine their interview techniques\, understand common errors\, and learn how to present themselves as the standout candidate in any interview situation. \nJoin us and transform your interview challenges into opportunities to shine. Secure your spot today and take the next step towards landing your dream job!
URL:https://g-tac.ca/event/ace-the-interview-proven-strategies-and-common-mistakes-to-avoid/
ATTACH;FMTTYPE=image/jpeg:https://g-tac.ca/wp-content/uploads/2024/09/5.jpg
END:VEVENT
BEGIN:VEVENT
DTSTART;TZID=America/Toronto:20241031T110000
DTEND;TZID=America/Toronto:20241031T123000
DTSTAMP:20260420T083427
CREATED:20240920T180518Z
LAST-MODIFIED:20240920T180634Z
UID:5456-1730372400-1730377800@g-tac.ca
SUMMARY:Bridging the Gap to Employment in Ontario\, Canada
DESCRIPTION:Are you a newcomer to Canada looking to restart your career in IT\, Engineering\, Architecture or Supply Chain in Ontario? Join us for an enlightening webinar hosted by Humber College\, dedicated to guiding internationally-trained professionals like you through the journey of resuming your career in your field. \nWhat You Will Learn: \n– Overview of Bridging Programs: Discover how our tailored Bridging Programs in IT Infrastructure\, Full Stack .NET Cloud Developer\, Engineering/Architecture\, and Supply Chain can help you adapt your existing skills for the Canadian job market. \n– Skill Development: Learn about the specific technical and soft skills that Canadian employers are actively seeking\, and how our programs are designed to equip you with these essential capabilities. \n– Networking and Employment Opportunities: Understand how these programs provide unique opportunities to connect with potential employers through targeted hiring events and help you build a robust professional network in Canada. \n– Community Resources and Support: Gain insights into valuable local resources that assist newcomers in pursuing further training\, licensing\, and certifications necessary to achieve your professional goals in Canada. \nRecruitment Criteria: \nThis webinar is specially designed for: \n– Newcomers to Canada (Permanent Residents\, Convention Refugees\, Refugee Claimants\, or Canadian Citizens who were Refugees) \n– Individuals with education and/or work experience in IT\, Engineering\, Architecture\, Supply Chain\, Entrepreneurship\, Sales\, and Marketing \n– Those who have obtained a post-secondary education outside Canada equivalent to at least a Diploma/Degree \n– Residents of Ontario\, including CUAET applicants\, without a Canadian post-secondary credential in their field \n– Professionals who are underemployed or not currently employed in their field in Canada \n– Individuals with English language proficiency meeting at least Canadian Language Benchmark 7 \nAbout Humber College: \nHumber College is a leading postsecondary institution in Canada that has supported over 5000 internationally trained professionals to transition into the Canadian workforce. Our bridging programs\, language training\, and advisory services are tailored to help you meet your educational and career objectives. \nDon’t miss this chance to learn how you can bridge the gap between your international training and a fulfilling career in Ontario. Secure your spot in our webinar and take the first step towards achieving your career goals in Canada!
URL:https://g-tac.ca/event/bridging-the-gap-to-employment-in-ontario-canada-4/
ATTACH;FMTTYPE=image/jpeg:https://g-tac.ca/wp-content/uploads/2024/05/3.jpg
END:VEVENT
BEGIN:VEVENT
DTSTART;TZID=America/Toronto:20250323T103000
DTEND;TZID=America/Toronto:20250323T123000
DTSTAMP:20260420T083427
CREATED:20250308T165931Z
LAST-MODIFIED:20250308T165931Z
UID:5547-1742725800-1742733000@g-tac.ca
SUMMARY:加拿大购房、房贷与就业讲座—破解移民生活三大关键问题
DESCRIPTION:想在加拿大购房？不清楚房贷政策？如何创造就业机会？G-TAC特邀三位业内专家，线上分别为您深入解析 购房策略、房贷知识、求职技巧，助您在加拿大站稳脚跟，实现理想生活！ \n📅 时间：2025年3月23日 星期日 EDT加东时间 上午10点半至中午12点半。 \n讲座内容： \n🎤 房产专家: 分享购房流程、市场趋势与避坑指南！ \n💰 金融顾问: 解析房贷政策、贷款攻略，帮您轻松上车！ \n💼 职场导师: 深入剖析就业市场，传授高效求职技巧！ \n在线注册🔗： \n \n席位有限，速来报名！📩
URL:https://g-tac.ca/event/%e5%8a%a0%e6%8b%bf%e5%a4%a7%e8%b4%ad%e6%88%bf%e3%80%81%e6%88%bf%e8%b4%b7%e4%b8%8e%e5%b0%b1%e4%b8%9a%e8%ae%b2%e5%ba%a7-%e7%a0%b4%e8%a7%a3%e7%a7%bb%e6%b0%91%e7%94%9f%e6%b4%bb%e4%b8%89%e5%a4%a7/
END:VEVENT
END:VCALENDAR