BEGIN:VCALENDAR
VERSION:2.0
PRODID:-//G-TAC - ECPv6.15.20//NONSGML v1.0//EN
CALSCALE:GREGORIAN
METHOD:PUBLISH
X-WR-CALNAME:G-TAC
X-ORIGINAL-URL:https://g-tac.ca
X-WR-CALDESC:Events for G-TAC
REFRESH-INTERVAL;VALUE=DURATION:PT1H
X-Robots-Tag:noindex
X-PUBLISHED-TTL:PT1H
BEGIN:VTIMEZONE
TZID:America/Toronto
BEGIN:DAYLIGHT
TZOFFSETFROM:-0500
TZOFFSETTO:-0400
TZNAME:EDT
DTSTART:20220313T070000
END:DAYLIGHT
BEGIN:STANDARD
TZOFFSETFROM:-0400
TZOFFSETTO:-0500
TZNAME:EST
DTSTART:20221106T060000
END:STANDARD
BEGIN:DAYLIGHT
TZOFFSETFROM:-0500
TZOFFSETTO:-0400
TZNAME:EDT
DTSTART:20230312T070000
END:DAYLIGHT
BEGIN:STANDARD
TZOFFSETFROM:-0400
TZOFFSETTO:-0500
TZNAME:EST
DTSTART:20231105T060000
END:STANDARD
BEGIN:DAYLIGHT
TZOFFSETFROM:-0500
TZOFFSETTO:-0400
TZNAME:EDT
DTSTART:20240310T070000
END:DAYLIGHT
BEGIN:STANDARD
TZOFFSETFROM:-0400
TZOFFSETTO:-0500
TZNAME:EST
DTSTART:20241103T060000
END:STANDARD
END:VTIMEZONE
BEGIN:VEVENT
DTSTART;TZID=America/Toronto:20231010T090000
DTEND;TZID=America/Toronto:20231010T090000
DTSTAMP:20260420T041146
CREATED:20231113T032225Z
LAST-MODIFIED:20231113T032225Z
UID:4703-1696928400-1696928400@g-tac.ca
SUMMARY:Mastering Follow-Up Strategies: Maximize Your Success After Online Job Fairs
DESCRIPTION:Are you feeling like your efforts go unnoticed after attending online job fairs? Do you want to turn those initial connections into meaningful job opportunities? Look no further!At our upcoming webinar\, we’re diving deep into the art of follow-up after online job fairs. We’ll equip you with the skills and strategies you need to transform virtual encounters into career-changing connections. Here’s a sneak peek of what we’ll cover:\n1️⃣ Crafting the Perfect Follow-Up Email:\n– Learn how to write compelling\, personalized follow-up emails that grab recruiters’ attention.\n– Understand the importance of timing and follow-up etiquette.\n– Boost your response rates and get noticed by employers.\n2️⃣ Navigating LinkedIn: Your Follow-Up Powerhouse:\n– Discover the secrets to optimizing your LinkedIn profile for post-job fair connections.\n– Find and connect with industry professionals effectively.\n– Showcase your skills and experience in a way that stands out.\n3️⃣ Leveraging Networking Tools:\n– Stay organized and keep track of your conversations.\n– Measure the success of your follow-up strategies and adapt as needed.\n4️⃣ Turning Conversations into Interviews:\n– Learn how to nurture relationships and convert them into job interviews.\n– Gain insights into maintaining long-term connections with potential employers.\nWho Should Attend:\nThis webinar is perfect for job seekers\, recent graduates\, and professionals looking to maximize their opportunities after attending online job fairs. Whether you’re new to the job market or seeking a career change\, our expert tips will set you on the path to success.
URL:https://g-tac.ca/event/mastering-follow-up-strategies-maximize-your-success-after-online-job-fairs/
ATTACH;FMTTYPE=image/jpeg:https://g-tac.ca/wp-content/uploads/2023/02/5.jpg
END:VEVENT
END:VCALENDAR