BEGIN:VCALENDAR
VERSION:2.0
PRODID:-//G-TAC - ECPv6.15.20//NONSGML v1.0//EN
CALSCALE:GREGORIAN
METHOD:PUBLISH
X-ORIGINAL-URL:https://g-tac.ca
X-WR-CALDESC:Events for G-TAC
REFRESH-INTERVAL;VALUE=DURATION:PT1H
X-Robots-Tag:noindex
X-PUBLISHED-TTL:PT1H
BEGIN:VTIMEZONE
TZID:America/Toronto
BEGIN:DAYLIGHT
TZOFFSETFROM:-0500
TZOFFSETTO:-0400
TZNAME:EDT
DTSTART:20220313T070000
END:DAYLIGHT
BEGIN:STANDARD
TZOFFSETFROM:-0400
TZOFFSETTO:-0500
TZNAME:EST
DTSTART:20221106T060000
END:STANDARD
BEGIN:DAYLIGHT
TZOFFSETFROM:-0500
TZOFFSETTO:-0400
TZNAME:EDT
DTSTART:20230312T070000
END:DAYLIGHT
BEGIN:STANDARD
TZOFFSETFROM:-0400
TZOFFSETTO:-0500
TZNAME:EST
DTSTART:20231105T060000
END:STANDARD
BEGIN:DAYLIGHT
TZOFFSETFROM:-0500
TZOFFSETTO:-0400
TZNAME:EDT
DTSTART:20240310T070000
END:DAYLIGHT
BEGIN:STANDARD
TZOFFSETFROM:-0400
TZOFFSETTO:-0500
TZNAME:EST
DTSTART:20241103T060000
END:STANDARD
END:VTIMEZONE
BEGIN:VEVENT
DTSTART;TZID=America/Toronto:20230927T083000
DTEND;TZID=America/Toronto:20230927T083000
DTSTAMP:20260421T060551
CREATED:20231113T032225Z
LAST-MODIFIED:20231113T032225Z
UID:4705-1695803400-1695803400@g-tac.ca
SUMMARY:Career Forum: Exploring Diverse Career Opportunities in Canada (7 LIVE webinars)
DESCRIPTION:? Have you ever wondered where to find the job that ignites your passion and taps into your full potential?? Have you contemplated relaunching your career to align with your aspirations?\n? Are you looking to expand your professional network?\n? Are you eager to uncover the pathways to kickstart your career in Canada?\n \nWelcome to the Global Talent Alliance Canada (G-TAC)’s National digital platform. G-TAC stands as the premier provider of resources and connections for professionals seeking to advance their careers in Canada.\nThe 14th National Virtual Career Expo (VCE14) is set to take place on Sept. 26th and 27th\, 2023! This two-day national event is your ultimate destination for job opportunities\, career options\, and professional networking.\nIn addition to applying for jobs and engaging in conversations with company recruiters\, on the second day of VCE13\, you can participate in the ‘Career Forum’ on the LIVE channel. Here\, you’ll have the opportunity to interact with subject matter experts\, enrich your understanding of the labor market landscape\, and stay updated on the resources and support available for upskilling or reskilling in Canada.\n? Boost Your Career in Canada – Take action now! ?\n 
URL:https://g-tac.ca/event/career-forum-exploring-diverse-career-opportunities-in-canada-7-live-webinars/
ATTACH;FMTTYPE=image/jpeg:https://g-tac.ca/wp-content/uploads/2023/09/81.jpg
END:VEVENT
END:VCALENDAR