BEGIN:VCALENDAR
VERSION:2.0
PRODID:-//G-TAC - ECPv6.15.20//NONSGML v1.0//EN
CALSCALE:GREGORIAN
METHOD:PUBLISH
X-ORIGINAL-URL:https://g-tac.ca
X-WR-CALDESC:Events for G-TAC
REFRESH-INTERVAL;VALUE=DURATION:PT1H
X-Robots-Tag:noindex
X-PUBLISHED-TTL:PT1H
BEGIN:VTIMEZONE
TZID:America/Toronto
BEGIN:DAYLIGHT
TZOFFSETFROM:-0500
TZOFFSETTO:-0400
TZNAME:EDT
DTSTART:20220313T070000
END:DAYLIGHT
BEGIN:STANDARD
TZOFFSETFROM:-0400
TZOFFSETTO:-0500
TZNAME:EST
DTSTART:20221106T060000
END:STANDARD
BEGIN:DAYLIGHT
TZOFFSETFROM:-0500
TZOFFSETTO:-0400
TZNAME:EDT
DTSTART:20230312T070000
END:DAYLIGHT
BEGIN:STANDARD
TZOFFSETFROM:-0400
TZOFFSETTO:-0500
TZNAME:EST
DTSTART:20231105T060000
END:STANDARD
BEGIN:DAYLIGHT
TZOFFSETFROM:-0500
TZOFFSETTO:-0400
TZNAME:EDT
DTSTART:20240310T070000
END:DAYLIGHT
BEGIN:STANDARD
TZOFFSETFROM:-0400
TZOFFSETTO:-0500
TZNAME:EST
DTSTART:20241103T060000
END:STANDARD
END:VTIMEZONE
BEGIN:VEVENT
DTSTART;TZID=America/Toronto:20230914T110000
DTEND;TZID=America/Toronto:20230914T110000
DTSTAMP:20260421T053730
CREATED:20231113T032227Z
LAST-MODIFIED:20231113T032227Z
UID:4707-1694689200-1694689200@g-tac.ca
SUMMARY:? Meet the Employer – Mini Hiring Info Session with Paper Excellence! ?
DESCRIPTION:Paper Excellence is hiring! We have a range of openings across various departments\, from coast to coast in Canada!Come and join us to learn more about Paper Excellence\, the dynamic career opportunities we offer\, and our hiring process? Our Talent Acquisition specialists: Leah Tecson-Veloso and Agina Claudia will guide you through all the details!\n? Who We Are:\nAt Paper Excellence\, we’re not just a company; we’re a community of innovators\, problem-solvers\, and sustainability champions. Our commitment to environmental responsibility and excellence drives everything we do. We take pride in producing high-quality pulp and paper products that make a positive impact on the world.\n? The Hiring Process:\nNavigating the hiring process can be daunting\, but our Talent Acquisition specialists are here to demystify it for you. Learn about:\n✅ Resume Tips: Craft a standout resume that grabs attention.\n✅ Interview Insights: Understand what we look for in candidates.\n✅ Application Guidance: Get step-by-step instructions on how to apply.\nDon’t miss this chance to get an insider’s perspective on joining the Paper Excellence family. Whether you’re a seasoned professional or just starting your career journey\, we have something for everyone.\n 
URL:https://g-tac.ca/event/%f0%9f%93%a2-meet-the-employer-mini-hiring-info-session-with-paper-excellence-%f0%9f%8c%9f/
ATTACH;FMTTYPE=image/jpeg:https://g-tac.ca/wp-content/uploads/2023/09/83.jpg
END:VEVENT
END:VCALENDAR