BEGIN:VCALENDAR
VERSION:2.0
PRODID:-//G-TAC - ECPv6.15.20//NONSGML v1.0//EN
CALSCALE:GREGORIAN
METHOD:PUBLISH
X-WR-CALNAME:G-TAC
X-ORIGINAL-URL:https://g-tac.ca
X-WR-CALDESC:Events for G-TAC
REFRESH-INTERVAL;VALUE=DURATION:PT1H
X-Robots-Tag:noindex
X-PUBLISHED-TTL:PT1H
BEGIN:VTIMEZONE
TZID:America/Toronto
BEGIN:DAYLIGHT
TZOFFSETFROM:-0500
TZOFFSETTO:-0400
TZNAME:EDT
DTSTART:20220313T070000
END:DAYLIGHT
BEGIN:STANDARD
TZOFFSETFROM:-0400
TZOFFSETTO:-0500
TZNAME:EST
DTSTART:20221106T060000
END:STANDARD
BEGIN:DAYLIGHT
TZOFFSETFROM:-0500
TZOFFSETTO:-0400
TZNAME:EDT
DTSTART:20230312T070000
END:DAYLIGHT
BEGIN:STANDARD
TZOFFSETFROM:-0400
TZOFFSETTO:-0500
TZNAME:EST
DTSTART:20231105T060000
END:STANDARD
BEGIN:DAYLIGHT
TZOFFSETFROM:-0500
TZOFFSETTO:-0400
TZNAME:EDT
DTSTART:20240310T070000
END:DAYLIGHT
BEGIN:STANDARD
TZOFFSETFROM:-0400
TZOFFSETTO:-0500
TZNAME:EST
DTSTART:20241103T060000
END:STANDARD
END:VTIMEZONE
BEGIN:VEVENT
DTSTART;TZID=America/Toronto:20230912T090000
DTEND;TZID=America/Toronto:20230912T090000
DTSTAMP:20260421T053615
CREATED:20231113T032240Z
LAST-MODIFIED:20231113T032240Z
UID:4708-1694509200-1694509200@g-tac.ca
SUMMARY:? Boost Your Career at the 14th National Virtual Career Expo in Canada!
DESCRIPTION:Get ready to take your career to the next level! Come and join the 14th National Virtual Career Expo – Canada’s largest online talent attraction and job fair! This event is not just any career fair; it’s your opportunity to supercharge your professional journey and your gateway to success in the rapidly evolving world of Information and Communication Technology (ICT). \n? Key Features of the Event:\n1️⃣ National Reach: Connect with top employers and professionals from coast to coast in Canada.\n2️⃣ ICT Focused: Dive deep into the exciting world of Information and Communication Technology. Discover the latest trends\, job openings\, and career paths in this dynamic industry.\n3️⃣ Harness Technology: Leverage the convenience of virtual technology. Say goodbye to long commutes and hello to a streamlined\, efficient career fair experience. Connect with potential employers and colleagues from anywhere with an internet connection.\n? How to Ace a Virtual Career Fair:\nJoin our insightful webinar presented by experienced employment consultants. They’ll share invaluable tips and strategies to help you stand out in a virtual career fair:\n✅ Crafting an Impressive Resume: That grabs recruiters’ attention.\n✅ Elevate Your Elevator Pitch: Master the art of introducing yourself effectively in a virtual setting.\n✅ Networking Magic: Discover how to build meaningful connections and network like a pro\, even in a virtual environment.\n✅ Navigating Virtual Platforms: Get a step-by-step guide on using the latest virtual career fair platforms for maximum impact.\nDon’t miss your chance to embark on a career-boosting journey at the 14th National Virtual Career Expo in Canada. Register now and prepare to supercharge your career in the exciting world of ICT. We can’t wait to see you there!
URL:https://g-tac.ca/event/%f0%9f%9a%80-boost-your-career-at-the-14th-national-virtual-career-expo-in-canada/
ATTACH;FMTTYPE=image/jpeg:https://g-tac.ca/wp-content/uploads/2023/09/82.jpg
END:VEVENT
END:VCALENDAR