BEGIN:VCALENDAR
VERSION:2.0
PRODID:-//G-TAC - ECPv6.15.20//NONSGML v1.0//EN
CALSCALE:GREGORIAN
METHOD:PUBLISH
X-ORIGINAL-URL:https://g-tac.ca
X-WR-CALDESC:Events for G-TAC
REFRESH-INTERVAL;VALUE=DURATION:PT1H
X-Robots-Tag:noindex
X-PUBLISHED-TTL:PT1H
BEGIN:VTIMEZONE
TZID:America/Toronto
BEGIN:DAYLIGHT
TZOFFSETFROM:-0500
TZOFFSETTO:-0400
TZNAME:EDT
DTSTART:20220313T070000
END:DAYLIGHT
BEGIN:STANDARD
TZOFFSETFROM:-0400
TZOFFSETTO:-0500
TZNAME:EST
DTSTART:20221106T060000
END:STANDARD
BEGIN:DAYLIGHT
TZOFFSETFROM:-0500
TZOFFSETTO:-0400
TZNAME:EDT
DTSTART:20230312T070000
END:DAYLIGHT
BEGIN:STANDARD
TZOFFSETFROM:-0400
TZOFFSETTO:-0500
TZNAME:EST
DTSTART:20231105T060000
END:STANDARD
BEGIN:DAYLIGHT
TZOFFSETFROM:-0500
TZOFFSETTO:-0400
TZNAME:EDT
DTSTART:20240310T070000
END:DAYLIGHT
BEGIN:STANDARD
TZOFFSETFROM:-0400
TZOFFSETTO:-0500
TZNAME:EST
DTSTART:20241103T060000
END:STANDARD
END:VTIMEZONE
BEGIN:VEVENT
DTSTART;TZID=America/Toronto:20230824T090000
DTEND;TZID=America/Toronto:20230824T090000
DTSTAMP:20260421T070718
CREATED:20231113T032251Z
LAST-MODIFIED:20231113T032251Z
UID:4713-1692867600-1692867600@g-tac.ca
SUMMARY:? Accelerate Your Career in London\, Canada: Unleashing Opportunities in a Thriving Hub ?
DESCRIPTION:Are you ready to take your career to new heights and seize the abundance of opportunities in one of Canada’s most vibrant cities? Join us for an inspiring webinar that delves into the economic landscape of London\, Canada\, and discover how this dynamic city can become your gateway to success!Nestled in the heart of Ontario\, London is a city renowned for its robust economy and diverse industries. With a population that embraces innovation and creativity\, London has evolved into a thriving economic hub\, playing a pivotal role in Canada’s prosperity.\n? Key Industries and their Importance ?\nLondon boasts a diverse range of key industries that have been instrumental in its growth and Canada’s economy as a whole. From advanced manufacturing and technology to healthcare and life sciences\, each sector offers unique opportunities for professionals seeking to shape their careers. In addition\,  the city’s burgeoning technology startups\, renewable energy ventures\, and digital media companies are creating a demand for skilled talent\, making London a hotspot for innovation-driven careers.\n? Why London is Your Ideal Place to Live and Work ? \nVibrant Community: London’s welcoming and diverse community fosters an environment where individuals from all walks of life can flourish personally and professionally.\nEducation and Research: Home to renowned institutions and research centers\, London offers access to top-notch education and a culture of continuous learning.\nAffordable Living: Compared to other major cities\, London boasts a lower cost of living\, allowing you to make the most of your hard-earned income.\nProximity to Major Cities: Situated just a few hours away from Toronto and other major cities\, London offers the best of both worlds – a close-knit community with access to big city amenities. \n? Your Path to Success Starts Here ?\nIn this webinar\, industry experts and successful professionals will share invaluable insights\, providing you with a roadmap to accelerate your career in London\, Canada. Whether you are a recent graduate or a seasoned professional looking for a change\, this webinar will inspire you to embark on a transformative journey towards a fulfilling and prosperous future.\n? Mark Your Calendar ?  See you at the webinar!\n 
URL:https://g-tac.ca/event/%f0%9f%8c%9f-accelerate-your-career-in-london-canada-unleashing-opportunities-in-a-thriving-hub-%f0%9f%8c%9f/
ATTACH;FMTTYPE=image/jpeg:https://g-tac.ca/wp-content/uploads/2023/07/ME-calendar-3.jpg
END:VEVENT
END:VCALENDAR