BEGIN:VCALENDAR
VERSION:2.0
PRODID:-//G-TAC - ECPv6.15.20//NONSGML v1.0//EN
CALSCALE:GREGORIAN
METHOD:PUBLISH
X-ORIGINAL-URL:https://g-tac.ca
X-WR-CALDESC:Events for G-TAC
REFRESH-INTERVAL;VALUE=DURATION:PT1H
X-Robots-Tag:noindex
X-PUBLISHED-TTL:PT1H
BEGIN:VTIMEZONE
TZID:America/Toronto
BEGIN:DAYLIGHT
TZOFFSETFROM:-0500
TZOFFSETTO:-0400
TZNAME:EDT
DTSTART:20220313T070000
END:DAYLIGHT
BEGIN:STANDARD
TZOFFSETFROM:-0400
TZOFFSETTO:-0500
TZNAME:EST
DTSTART:20221106T060000
END:STANDARD
BEGIN:DAYLIGHT
TZOFFSETFROM:-0500
TZOFFSETTO:-0400
TZNAME:EDT
DTSTART:20230312T070000
END:DAYLIGHT
BEGIN:STANDARD
TZOFFSETFROM:-0400
TZOFFSETTO:-0500
TZNAME:EST
DTSTART:20231105T060000
END:STANDARD
BEGIN:DAYLIGHT
TZOFFSETFROM:-0500
TZOFFSETTO:-0400
TZNAME:EDT
DTSTART:20240310T070000
END:DAYLIGHT
BEGIN:STANDARD
TZOFFSETFROM:-0400
TZOFFSETTO:-0500
TZNAME:EST
DTSTART:20241103T060000
END:STANDARD
END:VTIMEZONE
BEGIN:VEVENT
DTSTART;TZID=America/Toronto:20230822T090000
DTEND;TZID=America/Toronto:20230822T090000
DTSTAMP:20260421T070717
CREATED:20231113T032240Z
LAST-MODIFIED:20231113T032240Z
UID:4710-1692694800-1692694800@g-tac.ca
SUMMARY:Job Search Strategies and Tips to Landing My First Accounting Job in Canada
DESCRIPTION:Are you eager to launch or re-launch your career in the accounting field in Canada but unsure of where to begin?Come and join Chelsea Liu\, a Chartered Professional Accountant (CPA) of Canada\, Senior Financial Analyst\, for an empowering webinar that will equip you with the knowledge\, strategies\, and resources needed to navigate the path to a successful accounting career in Canada. From strategic job search techniques to interview preparation and in-demand skills\, She will guide you through the essential steps towards your standing out from the competition.\nKey Topics include: \nStrategizing Your Job Search: learn how to target your job search\, leverage online platforms\, and network effectively to increase your chances of getting noticed by employers.\nInterview preparation: getting prepared for common interview questions\, presenting your strengths confidently\, and showcasing your adaptability.\nIn-Demand Skills and Certifications: gain insights into the skills and certifications favored by employers in the Canadian accounting landscape.\nThe Power of Bridging Programs/Trainings: uncover how bridging programs/trainings can be your shortcut to success. \nThis webinar is open to all accounting enthusiasts\, graduates\, and professionals who aspire to launch their career in the Canadian job market.\nMark your calendars and seize this opportunity to unlock your potential and pave the way for a flourishing accounting career in Canada.\n 
URL:https://g-tac.ca/event/job-search-strategies-and-tips-to-landing-my-first-accounting-job-in-canada/
ATTACH;FMTTYPE=image/jpeg:https://g-tac.ca/wp-content/uploads/2023/07/8.jpg
END:VEVENT
END:VCALENDAR