BEGIN:VCALENDAR
VERSION:2.0
PRODID:-//G-TAC - ECPv6.15.20//NONSGML v1.0//EN
CALSCALE:GREGORIAN
METHOD:PUBLISH
X-WR-CALNAME:G-TAC
X-ORIGINAL-URL:https://g-tac.ca
X-WR-CALDESC:Events for G-TAC
REFRESH-INTERVAL;VALUE=DURATION:PT1H
X-Robots-Tag:noindex
X-PUBLISHED-TTL:PT1H
BEGIN:VTIMEZONE
TZID:America/Toronto
BEGIN:DAYLIGHT
TZOFFSETFROM:-0500
TZOFFSETTO:-0400
TZNAME:EDT
DTSTART:20220313T070000
END:DAYLIGHT
BEGIN:STANDARD
TZOFFSETFROM:-0400
TZOFFSETTO:-0500
TZNAME:EST
DTSTART:20221106T060000
END:STANDARD
BEGIN:DAYLIGHT
TZOFFSETFROM:-0500
TZOFFSETTO:-0400
TZNAME:EDT
DTSTART:20230312T070000
END:DAYLIGHT
BEGIN:STANDARD
TZOFFSETFROM:-0400
TZOFFSETTO:-0500
TZNAME:EST
DTSTART:20231105T060000
END:STANDARD
BEGIN:DAYLIGHT
TZOFFSETFROM:-0500
TZOFFSETTO:-0400
TZNAME:EDT
DTSTART:20240310T070000
END:DAYLIGHT
BEGIN:STANDARD
TZOFFSETFROM:-0400
TZOFFSETTO:-0500
TZNAME:EST
DTSTART:20241103T060000
END:STANDARD
END:VTIMEZONE
BEGIN:VEVENT
DTSTART;TZID=America/Toronto:20230725T110000
DTEND;TZID=America/Toronto:20230725T110000
DTSTAMP:20260421T084636
CREATED:20231113T032306Z
LAST-MODIFIED:20231113T032306Z
UID:4718-1690282800-1690282800@g-tac.ca
SUMMARY:Accelerating Your Accounting Career: Insights\, Skills\, and Opportunities By Welch LLP
DESCRIPTION:Are you ready to fast-track your accounting career in Canada? Curious about the strategies and tools that can propel you towards success? Join our exclusive webinar as we dive into the key elements that will help you accelerate your journey in the world of accounting.The demand for accounting professionals is increasing at a steady pace. Accounting is often regarded as the “language of business\,” and the application of its principles is critical to a company’s success. Professional accountants can serve in a variety of roles\, from individual proprietors to upper management positions within an organization.\nThe webinar will be presented by Jessica Zhang-Chapman\, Sr. Manager|Tax & Accounting and Miguel Gonzalez\, Sr. Cloud Bookkeeper from Welch LLP\, a Chartered Public Accounting (CPA) firm based in Ottawa that has deep roots in the communities it services for more than 100 years! Welch offers a full range of audit\, accounting\, tax and advisory services.\n           \nBy participating in this webinar\, you will:\n• Obtain valuable insights into the labor market for accounting and finance occupations\n• Welch LLP services and what a CPA firm looking for in newcomer hires\n• Success story featuring Miguel Gonzalez\, Sr. Cloud Bookkeeper\, arrived in Canada in Jan. 2020; joined Welch LLP in Feb. 2022\n• How G-TAC could make a difference for newcomer professionals?\nWe look forward to seeing you in the webinar!\n 
URL:https://g-tac.ca/event/accelerating-your-accounting-career-insights-skills-and-opportunities-by-welch-llp/
ATTACH;FMTTYPE=image/jpeg:https://g-tac.ca/wp-content/uploads/2023/06/ME-calendar.jpg
END:VEVENT
END:VCALENDAR