BEGIN:VCALENDAR
VERSION:2.0
PRODID:-//G-TAC - ECPv6.15.20//NONSGML v1.0//EN
CALSCALE:GREGORIAN
METHOD:PUBLISH
X-ORIGINAL-URL:https://g-tac.ca
X-WR-CALDESC:Events for G-TAC
REFRESH-INTERVAL;VALUE=DURATION:PT1H
X-Robots-Tag:noindex
X-PUBLISHED-TTL:PT1H
BEGIN:VTIMEZONE
TZID:America/Toronto
BEGIN:DAYLIGHT
TZOFFSETFROM:-0500
TZOFFSETTO:-0400
TZNAME:EDT
DTSTART:20220313T070000
END:DAYLIGHT
BEGIN:STANDARD
TZOFFSETFROM:-0400
TZOFFSETTO:-0500
TZNAME:EST
DTSTART:20221106T060000
END:STANDARD
BEGIN:DAYLIGHT
TZOFFSETFROM:-0500
TZOFFSETTO:-0400
TZNAME:EDT
DTSTART:20230312T070000
END:DAYLIGHT
BEGIN:STANDARD
TZOFFSETFROM:-0400
TZOFFSETTO:-0500
TZNAME:EST
DTSTART:20231105T060000
END:STANDARD
BEGIN:DAYLIGHT
TZOFFSETFROM:-0500
TZOFFSETTO:-0400
TZNAME:EDT
DTSTART:20240310T070000
END:DAYLIGHT
BEGIN:STANDARD
TZOFFSETFROM:-0400
TZOFFSETTO:-0500
TZNAME:EST
DTSTART:20241103T060000
END:STANDARD
END:VTIMEZONE
BEGIN:VEVENT
DTSTART;TZID=America/Toronto:20230530T090000
DTEND;TZID=America/Toronto:20230530T090000
DTSTAMP:20260421T100816
CREATED:20231113T032517Z
LAST-MODIFIED:20231113T032517Z
UID:4735-1685437200-1685437200@g-tac.ca
SUMMARY:First thing first – 如何让你的简历可以成功帮你拿到面试机会
DESCRIPTION:简历是您成功进入面试阶段的第一步。纵使千里马，也需要一份有效的简历被人发现。根据就业机构的统计报告，一份招聘岗位的应聘者中的大约20%会得到面试机会 – 所以说，求职简历是我们人生中一份非常昂贵的文件，决定了我们能否得到可以养家糊口进而实现个人社会价值的机会。如何确保您的简历能够简明扼要地呈现你的经验、技能和特长？欢迎您参加本期有关简历撰写的讲座，主要内容包括：\n– 加拿大比较通用的简历格式\n– 如何在简历中突出自己的技能，得到招聘人员的关注\n– 简历中的dos 和don’ts\nG-TAC有幸邀请到主讲人Yifan Liu\, 分享她在工作中积累的的简历撰写技巧和建议。Yifan毕业于美国阿拉巴马大学的数学与商务专业，硕士学位，来加拿大前，任职于亚马逊（中国）从事分析师工作。目前就职于加拿大西魁北克省教育局，商科老师，有多年辅导新移民申请工作，撰写简历，准备面试，成功找到工作的经验。 精彩内容，不容错过。\n 
URL:https://g-tac.ca/event/first-thing-first-%e5%a6%82%e4%bd%95%e8%ae%a9%e4%bd%a0%e7%9a%84%e7%ae%80%e5%8e%86%e5%8f%af%e4%bb%a5%e6%88%90%e5%8a%9f%e5%b8%ae%e4%bd%a0%e6%8b%bf%e5%88%b0%e9%9d%a2%e8%af%95%e6%9c%ba%e4%bc%9a/
ATTACH;FMTTYPE=image/jpeg:https://g-tac.ca/wp-content/uploads/2023/04/10.jpg
END:VEVENT
END:VCALENDAR