BEGIN:VCALENDAR
VERSION:2.0
PRODID:-//G-TAC - ECPv6.15.20//NONSGML v1.0//EN
CALSCALE:GREGORIAN
METHOD:PUBLISH
X-ORIGINAL-URL:https://g-tac.ca
X-WR-CALDESC:Events for G-TAC
REFRESH-INTERVAL;VALUE=DURATION:PT1H
X-Robots-Tag:noindex
X-PUBLISHED-TTL:PT1H
BEGIN:VTIMEZONE
TZID:America/Toronto
BEGIN:DAYLIGHT
TZOFFSETFROM:-0500
TZOFFSETTO:-0400
TZNAME:EDT
DTSTART:20220313T070000
END:DAYLIGHT
BEGIN:STANDARD
TZOFFSETFROM:-0400
TZOFFSETTO:-0500
TZNAME:EST
DTSTART:20221106T060000
END:STANDARD
BEGIN:DAYLIGHT
TZOFFSETFROM:-0500
TZOFFSETTO:-0400
TZNAME:EDT
DTSTART:20230312T070000
END:DAYLIGHT
BEGIN:STANDARD
TZOFFSETFROM:-0400
TZOFFSETTO:-0500
TZNAME:EST
DTSTART:20231105T060000
END:STANDARD
BEGIN:DAYLIGHT
TZOFFSETFROM:-0500
TZOFFSETTO:-0400
TZNAME:EDT
DTSTART:20240310T070000
END:DAYLIGHT
BEGIN:STANDARD
TZOFFSETFROM:-0400
TZOFFSETTO:-0500
TZNAME:EST
DTSTART:20241103T060000
END:STANDARD
END:VTIMEZONE
BEGIN:VEVENT
DTSTART;TZID=America/Toronto:20230516T100000
DTEND;TZID=America/Toronto:20230516T100000
DTSTAMP:20260421T114045
CREATED:20231113T032533Z
LAST-MODIFIED:20231113T032533Z
UID:4739-1684231200-1684231200@g-tac.ca
SUMMARY:埃德蒙顿新移民服务介绍
DESCRIPTION:• 埃德蒙顿印象 （人口构成，主要行业和经济发展情况）*• 安居和就业服务介绍 (健康卡，驾照，租房手续，孩子入学，看病找家庭医生，大人英语学习，找工作的辅导，)*\n• 新移民实用信息资源\n加拿大阿尔伯塔省（简称阿省）人口平均年龄最年轻，并拥有高教育水平，是加拿大唯一不设省销售税的省份。埃德蒙顿(Edmonton)是阿尔伯塔省的首府和加拿大最著名的旅游城市，是北美大陆上最靠北的大城市之一，被称为”通向北方的门户”。自1795年起，因贸易发展起来，在20世纪40年代，阿尔伯塔省发现了油田，又作为加拿大的”油都”得到飞速发展。近些年更是在经济多元化，比如 clean technology\, agri-tech等方面着重发力，为全省的可持续性经济发展注入了新的活力。这里环境优美， 拥有巨大的城市公园，面积比纽约的中央公园大22倍，比温哥华的史丹利公园大8倍。\n我们很欢迎您选择在埃德蒙顿市建立您的新家园。埃德蒙顿是个生活、工作、娱乐的好地方，但是在一个新地方适应生活可能是个挑战。不论您初来乍到埃德蒙顿还是阿尔伯塔省，本讲座将会帮助您和您的家庭了解我们的城市里生活的重要信息， 包括城市印象，如何获取在Edmonton 住房、交通、理财、医疗、教育、休闲康乐活动等衣食住行方面的信息。主讲人：Christine Zhou\, 现就职于埃德蒙顿华人社区服务中心，安居辅导员，主要的工作是帮助新移民适应新环境，更好地融入当地社会。欢迎参加！\n 
URL:https://g-tac.ca/event/%e5%9f%83%e5%be%b7%e8%92%99%e9%a1%bf%e6%96%b0%e7%a7%bb%e6%b0%91%e6%9c%8d%e5%8a%a1%e4%bb%8b%e7%bb%8d/
ATTACH;FMTTYPE=image/jpeg:https://g-tac.ca/wp-content/uploads/2023/04/6.jpg
END:VEVENT
END:VCALENDAR