BEGIN:VCALENDAR
VERSION:2.0
PRODID:-//G-TAC - ECPv6.15.20//NONSGML v1.0//EN
CALSCALE:GREGORIAN
METHOD:PUBLISH
X-WR-CALNAME:G-TAC
X-ORIGINAL-URL:https://g-tac.ca
X-WR-CALDESC:Events for G-TAC
REFRESH-INTERVAL;VALUE=DURATION:PT1H
X-Robots-Tag:noindex
X-PUBLISHED-TTL:PT1H
BEGIN:VTIMEZONE
TZID:America/Toronto
BEGIN:DAYLIGHT
TZOFFSETFROM:-0500
TZOFFSETTO:-0400
TZNAME:EDT
DTSTART:20220313T070000
END:DAYLIGHT
BEGIN:STANDARD
TZOFFSETFROM:-0400
TZOFFSETTO:-0500
TZNAME:EST
DTSTART:20221106T060000
END:STANDARD
BEGIN:DAYLIGHT
TZOFFSETFROM:-0500
TZOFFSETTO:-0400
TZNAME:EDT
DTSTART:20230312T070000
END:DAYLIGHT
BEGIN:STANDARD
TZOFFSETFROM:-0400
TZOFFSETTO:-0500
TZNAME:EST
DTSTART:20231105T060000
END:STANDARD
BEGIN:DAYLIGHT
TZOFFSETFROM:-0500
TZOFFSETTO:-0400
TZNAME:EDT
DTSTART:20240310T070000
END:DAYLIGHT
BEGIN:STANDARD
TZOFFSETFROM:-0400
TZOFFSETTO:-0500
TZNAME:EST
DTSTART:20241103T060000
END:STANDARD
END:VTIMEZONE
BEGIN:VEVENT
DTSTART;TZID=America/Toronto:20230511T090000
DTEND;TZID=America/Toronto:20230511T090000
DTSTAMP:20260421T114022
CREATED:20231113T032533Z
LAST-MODIFIED:20231113T032533Z
UID:4740-1683795600-1683795600@g-tac.ca
SUMMARY:Meet the employer – GIATEC
DESCRIPTION:Attention job seekers! Are you ready for a new and exciting opportunity? Join us for an information session presented by Giatec\, an innovative and dynamic company at the forefront of the construction technology industry.Recruiters from Giatac will be sharing valuable insights about their company culture\, and the exciting available job openings.\nDuring the session\, you’ll have the opportunity to hear directly from recruiters about the skills and experience they are looking for in candidates. You’ll also get the chance to ask questions and network with other like-minded professionals.\n 
URL:https://g-tac.ca/event/meet-the-employer-giatec/
ATTACH;FMTTYPE=image/jpeg:https://g-tac.ca/wp-content/uploads/2023/04/3.jpg
END:VEVENT
END:VCALENDAR