BEGIN:VCALENDAR
VERSION:2.0
PRODID:-//G-TAC - ECPv6.15.20//NONSGML v1.0//EN
CALSCALE:GREGORIAN
METHOD:PUBLISH
X-WR-CALNAME:G-TAC
X-ORIGINAL-URL:https://g-tac.ca
X-WR-CALDESC:Events for G-TAC
REFRESH-INTERVAL;VALUE=DURATION:PT1H
X-Robots-Tag:noindex
X-PUBLISHED-TTL:PT1H
BEGIN:VTIMEZONE
TZID:America/Toronto
BEGIN:DAYLIGHT
TZOFFSETFROM:-0500
TZOFFSETTO:-0400
TZNAME:EDT
DTSTART:20220313T070000
END:DAYLIGHT
BEGIN:STANDARD
TZOFFSETFROM:-0400
TZOFFSETTO:-0500
TZNAME:EST
DTSTART:20221106T060000
END:STANDARD
BEGIN:DAYLIGHT
TZOFFSETFROM:-0500
TZOFFSETTO:-0400
TZNAME:EDT
DTSTART:20230312T070000
END:DAYLIGHT
BEGIN:STANDARD
TZOFFSETFROM:-0400
TZOFFSETTO:-0500
TZNAME:EST
DTSTART:20231105T060000
END:STANDARD
BEGIN:DAYLIGHT
TZOFFSETFROM:-0500
TZOFFSETTO:-0400
TZNAME:EDT
DTSTART:20240310T070000
END:DAYLIGHT
BEGIN:STANDARD
TZOFFSETFROM:-0400
TZOFFSETTO:-0500
TZNAME:EST
DTSTART:20241103T060000
END:STANDARD
END:VTIMEZONE
BEGIN:VEVENT
DTSTART;TZID=America/Toronto:20230509T090000
DTEND;TZID=America/Toronto:20230509T090000
DTSTAMP:20260421T114036
CREATED:20231113T032534Z
LAST-MODIFIED:20231113T032534Z
UID:4741-1683622800-1683622800@g-tac.ca
SUMMARY:Meet the Employer – Cognizant
DESCRIPTION:Cognizant is hiring!Join Sonia Sharma and Sathya Babu—two members of our talent acquisition team in Canada—for an interactive session introducing Cognizant. We are a leading IT services firm with 7\,500+ associates across Canada\, working to transform our client’s business\, operating\, and technology models for the digital era.\nIn this session\, you’ll learn about Cognizant’s culture and how you can stand out as a candidate.\nNote: We are currently only hiring those that are legally able to work in Canada without sponsorship.\n 
URL:https://g-tac.ca/event/meet-the-employer-cognizant/
ATTACH;FMTTYPE=image/jpeg:https://g-tac.ca/wp-content/uploads/2023/04/2.jpg
END:VEVENT
END:VCALENDAR