BEGIN:VCALENDAR
VERSION:2.0
PRODID:-//G-TAC - ECPv6.15.20//NONSGML v1.0//EN
CALSCALE:GREGORIAN
METHOD:PUBLISH
X-ORIGINAL-URL:https://g-tac.ca
X-WR-CALDESC:Events for G-TAC
REFRESH-INTERVAL;VALUE=DURATION:PT1H
X-Robots-Tag:noindex
X-PUBLISHED-TTL:PT1H
BEGIN:VTIMEZONE
TZID:America/Toronto
BEGIN:DAYLIGHT
TZOFFSETFROM:-0500
TZOFFSETTO:-0400
TZNAME:EDT
DTSTART:20220313T070000
END:DAYLIGHT
BEGIN:STANDARD
TZOFFSETFROM:-0400
TZOFFSETTO:-0500
TZNAME:EST
DTSTART:20221106T060000
END:STANDARD
BEGIN:DAYLIGHT
TZOFFSETFROM:-0500
TZOFFSETTO:-0400
TZNAME:EDT
DTSTART:20230312T070000
END:DAYLIGHT
BEGIN:STANDARD
TZOFFSETFROM:-0400
TZOFFSETTO:-0500
TZNAME:EST
DTSTART:20231105T060000
END:STANDARD
BEGIN:DAYLIGHT
TZOFFSETFROM:-0500
TZOFFSETTO:-0400
TZNAME:EDT
DTSTART:20240310T070000
END:DAYLIGHT
BEGIN:STANDARD
TZOFFSETFROM:-0400
TZOFFSETTO:-0500
TZNAME:EST
DTSTART:20241103T060000
END:STANDARD
END:VTIMEZONE
BEGIN:VEVENT
DTSTART;TZID=America/Toronto:20230504T110000
DTEND;TZID=America/Toronto:20230504T110000
DTSTAMP:20260421T114035
CREATED:20231113T032534Z
LAST-MODIFIED:20231113T032534Z
UID:4742-1683198000-1683198000@g-tac.ca
SUMMARY:Explore Construction Careers in Canada
DESCRIPTION:Are you interested in pursuing a career in the thriving construction industry in Canada? Look no further than the upcoming webinar by BC Construction Association\, where we will be exploring the various career paths available in this exciting field.Join us for this informative session where our panel experts will provide valuable insights into various career paths\, what necessary credentials and skills required for success in the construction trades\, and the abundant resources available to support your career development.\nWith the construction industry in Canada experiencing high demand for skilled workers\, now is the perfect time to explore your options and take advantage of the many opportunities available.\n 
URL:https://g-tac.ca/event/explore-construction-careers-in-canada/
ATTACH;FMTTYPE=image/png:https://g-tac.ca/wp-content/uploads/2021/11/sample-IN-collage-used-by-our-partner-2.png
END:VEVENT
END:VCALENDAR