BEGIN:VCALENDAR
VERSION:2.0
PRODID:-//G-TAC - ECPv6.15.20//NONSGML v1.0//EN
CALSCALE:GREGORIAN
METHOD:PUBLISH
X-ORIGINAL-URL:https://g-tac.ca
X-WR-CALDESC:Events for G-TAC
REFRESH-INTERVAL;VALUE=DURATION:PT1H
X-Robots-Tag:noindex
X-PUBLISHED-TTL:PT1H
BEGIN:VTIMEZONE
TZID:America/Toronto
BEGIN:DAYLIGHT
TZOFFSETFROM:-0500
TZOFFSETTO:-0400
TZNAME:EDT
DTSTART:20220313T070000
END:DAYLIGHT
BEGIN:STANDARD
TZOFFSETFROM:-0400
TZOFFSETTO:-0500
TZNAME:EST
DTSTART:20221106T060000
END:STANDARD
BEGIN:DAYLIGHT
TZOFFSETFROM:-0500
TZOFFSETTO:-0400
TZNAME:EDT
DTSTART:20230312T070000
END:DAYLIGHT
BEGIN:STANDARD
TZOFFSETFROM:-0400
TZOFFSETTO:-0500
TZNAME:EST
DTSTART:20231105T060000
END:STANDARD
BEGIN:DAYLIGHT
TZOFFSETFROM:-0500
TZOFFSETTO:-0400
TZNAME:EDT
DTSTART:20240310T070000
END:DAYLIGHT
BEGIN:STANDARD
TZOFFSETFROM:-0400
TZOFFSETTO:-0500
TZNAME:EST
DTSTART:20241103T060000
END:STANDARD
END:VTIMEZONE
BEGIN:VEVENT
DTSTART;TZID=America/Toronto:20230427T090000
DTEND;TZID=America/Toronto:20230427T090000
DTSTAMP:20260421T132956
CREATED:20231113T032636Z
LAST-MODIFIED:20231113T032636Z
UID:4744-1682586000-1682586000@g-tac.ca
SUMMARY:Things To Do After Attending A Career Fair
DESCRIPTION:Are you wondering how to make the most out of your experience at a career fair? Do you struggle with following up with employers after attending a fair? If so\, then our upcoming webinar is just what you need!Come and join Mr. Shaw Quan\, Senior Employment Consultant\, for an informative and engaging session where you’ll learn tips and tricks to help you secure your dream job. Here are some of the key takeaways you can expect: \nHow to organize your contacts and prioritize follow-ups\nCrafting effective follow-up emails and LinkedIn messages\nTips for networking and staying in touch with potential employers\nStrategies for standing out among other candidates\nHow to make a lasting impression and secure job offers \nDon’t miss out on this opportunity to improve your job search strategies and increase your chances of success. Register for our webinar today and take the first step towards a successful career!\n 
URL:https://g-tac.ca/event/things-to-do-after-attending-a-career-fair/
ATTACH;FMTTYPE=image/jpeg:https://g-tac.ca/wp-content/uploads/2023/02/5.jpg
END:VEVENT
END:VCALENDAR