BEGIN:VCALENDAR
VERSION:2.0
PRODID:-//G-TAC - ECPv6.15.20//NONSGML v1.0//EN
CALSCALE:GREGORIAN
METHOD:PUBLISH
X-ORIGINAL-URL:https://g-tac.ca
X-WR-CALDESC:Events for G-TAC
REFRESH-INTERVAL;VALUE=DURATION:PT1H
X-Robots-Tag:noindex
X-PUBLISHED-TTL:PT1H
BEGIN:VTIMEZONE
TZID:America/Toronto
BEGIN:DAYLIGHT
TZOFFSETFROM:-0500
TZOFFSETTO:-0400
TZNAME:EDT
DTSTART:20220313T070000
END:DAYLIGHT
BEGIN:STANDARD
TZOFFSETFROM:-0400
TZOFFSETTO:-0500
TZNAME:EST
DTSTART:20221106T060000
END:STANDARD
BEGIN:DAYLIGHT
TZOFFSETFROM:-0500
TZOFFSETTO:-0400
TZNAME:EDT
DTSTART:20230312T070000
END:DAYLIGHT
BEGIN:STANDARD
TZOFFSETFROM:-0400
TZOFFSETTO:-0500
TZNAME:EST
DTSTART:20231105T060000
END:STANDARD
BEGIN:DAYLIGHT
TZOFFSETFROM:-0500
TZOFFSETTO:-0400
TZNAME:EDT
DTSTART:20240310T070000
END:DAYLIGHT
BEGIN:STANDARD
TZOFFSETFROM:-0400
TZOFFSETTO:-0500
TZNAME:EST
DTSTART:20241103T060000
END:STANDARD
END:VTIMEZONE
BEGIN:VEVENT
DTSTART;TZID=America/Toronto:20230425T090000
DTEND;TZID=America/Toronto:20230425T090000
DTSTAMP:20260421T132956
CREATED:20231113T032636Z
LAST-MODIFIED:20231113T032636Z
UID:4745-1682413200-1682413200@g-tac.ca
SUMMARY:蒙城新移民生活分享：说说关于‘住’的那些事 – 如何找出租房以及如何买自住房
DESCRIPTION:• 初到蒙特利尔，如何选择适合自己的出租房？• 准备买房的话，该从何开始如何买到合意的房子？\n• 法语不是强项，签租房或者买房合同时要注意哪些事项？\n蒙特利尔是加拿大第二大城市，有良好的教育资源和社会服务体系，有很友好的新移民服务政策和补贴，也是65家大型国际机构设立公司总部的办公地点，吸引了来自世界各地的人才来此生活工作。由于法语是魁省的官方语言，很多官方信息都是发文的，为法语不是强项的新移民朋友们多少带来一些不方便。不用担心哦， 我们很高兴地请到当地的新移民陆纯，为大家分享她的体验和观察。\n主讲人介绍：陆纯，留学法国里尔高商 ， 取得了供应链管理与采购硕士，同时她还取得了法国里尔戴高乐大学 的国际合作与跨文化交流硕士。 出国前就职于法国航空工业北京代表处。2018年移居蒙特利尔，五年以来，先是在蒙特利尔知名的地产公司从事合同审核管理和部分财务工作，随后考取了魁北克持牌住宅和商业地产牌照，成为魁省注册双牌照地产经纪，并在疫情期间完成了魁省会计职业证书。同时她也是G-TAC的志愿者，负责魁省移民的登陆准备以及蒙城当地生活及教育就业信息的收集和分享。\n 
URL:https://g-tac.ca/event/%e8%92%99%e5%9f%8e%e6%96%b0%e7%a7%bb%e6%b0%91%e7%94%9f%e6%b4%bb%e5%88%86%e4%ba%ab%ef%bc%9a%e8%af%b4%e8%af%b4%e5%85%b3%e4%ba%8e%e4%bd%8f%e7%9a%84%e9%82%a3%e4%ba%9b%e4%ba%8b/
ATTACH;FMTTYPE=image/jpeg:https://g-tac.ca/wp-content/uploads/2023/04/34.jpg
END:VEVENT
END:VCALENDAR