BEGIN:VCALENDAR
VERSION:2.0
PRODID:-//G-TAC - ECPv6.15.20//NONSGML v1.0//EN
CALSCALE:GREGORIAN
METHOD:PUBLISH
X-ORIGINAL-URL:https://g-tac.ca
X-WR-CALDESC:Events for G-TAC
REFRESH-INTERVAL;VALUE=DURATION:PT1H
X-Robots-Tag:noindex
X-PUBLISHED-TTL:PT1H
BEGIN:VTIMEZONE
TZID:America/Toronto
BEGIN:DAYLIGHT
TZOFFSETFROM:-0500
TZOFFSETTO:-0400
TZNAME:EDT
DTSTART:20220313T070000
END:DAYLIGHT
BEGIN:STANDARD
TZOFFSETFROM:-0400
TZOFFSETTO:-0500
TZNAME:EST
DTSTART:20221106T060000
END:STANDARD
BEGIN:DAYLIGHT
TZOFFSETFROM:-0500
TZOFFSETTO:-0400
TZNAME:EDT
DTSTART:20230312T070000
END:DAYLIGHT
BEGIN:STANDARD
TZOFFSETFROM:-0400
TZOFFSETTO:-0500
TZNAME:EST
DTSTART:20231105T060000
END:STANDARD
BEGIN:DAYLIGHT
TZOFFSETFROM:-0500
TZOFFSETTO:-0400
TZNAME:EDT
DTSTART:20240310T070000
END:DAYLIGHT
BEGIN:STANDARD
TZOFFSETFROM:-0400
TZOFFSETTO:-0500
TZNAME:EST
DTSTART:20241103T060000
END:STANDARD
END:VTIMEZONE
BEGIN:VEVENT
DTSTART;TZID=America/Toronto:20230405T083000
DTEND;TZID=America/Toronto:20230405T083000
DTSTAMP:20260421T132525
CREATED:20231113T032652Z
LAST-MODIFIED:20231113T032652Z
UID:4750-1680683400-1680683400@g-tac.ca
SUMMARY:Career Forum: 7 Live Seminars to Help Broaden Your Career Horizons in Canada
DESCRIPTION:• Ever wondering where to find the job that will unleash your passion and potentials?• Ever pondering re-launch your career to fulfill your career goals?\n• Ever thinking to grow your professional network?\n• Ever trying to find out the pathways to work in Canada?\nWelcome to the Global Talent Alliance Canada(G-TAC)’s National digital platform. G-TAC is a premier provider of resources & connections pertaining to professionals developing their careers in Canada.\n13th National Virtual Career Expo will take place on Apr. 4 & 5\, 2023! This 2-day national event is all about jobs\, career options and professional networks.\nIn addition to apply for jobs and chat with company recruiters\, on the 2nd day of the VCE13\, you can join the ‘Career Forum’ on LIVE channel to interact with subject matter experts to refresh your labour market information\, and stay abreast of the resources and support for your needs on upskilling or reskilling in Canada.\nBroaden your career horizons in Canada – act now!\nSchedules:
URL:https://g-tac.ca/event/career-forum-7-live-seminars-to-help-broaden-your-career-horizons-in-canada/
ATTACH;FMTTYPE=image/jpeg:https://g-tac.ca/wp-content/uploads/2023/04/54.jpg
END:VEVENT
END:VCALENDAR