BEGIN:VCALENDAR
VERSION:2.0
PRODID:-//G-TAC - ECPv6.15.20//NONSGML v1.0//EN
CALSCALE:GREGORIAN
METHOD:PUBLISH
X-WR-CALNAME:G-TAC
X-ORIGINAL-URL:https://g-tac.ca
X-WR-CALDESC:Events for G-TAC
REFRESH-INTERVAL;VALUE=DURATION:PT1H
X-Robots-Tag:noindex
X-PUBLISHED-TTL:PT1H
BEGIN:VTIMEZONE
TZID:America/Toronto
BEGIN:DAYLIGHT
TZOFFSETFROM:-0500
TZOFFSETTO:-0400
TZNAME:EDT
DTSTART:20220313T070000
END:DAYLIGHT
BEGIN:STANDARD
TZOFFSETFROM:-0400
TZOFFSETTO:-0500
TZNAME:EST
DTSTART:20221106T060000
END:STANDARD
BEGIN:DAYLIGHT
TZOFFSETFROM:-0500
TZOFFSETTO:-0400
TZNAME:EDT
DTSTART:20230312T070000
END:DAYLIGHT
BEGIN:STANDARD
TZOFFSETFROM:-0400
TZOFFSETTO:-0500
TZNAME:EST
DTSTART:20231105T060000
END:STANDARD
BEGIN:DAYLIGHT
TZOFFSETFROM:-0500
TZOFFSETTO:-0400
TZNAME:EDT
DTSTART:20240310T070000
END:DAYLIGHT
BEGIN:STANDARD
TZOFFSETFROM:-0400
TZOFFSETTO:-0500
TZNAME:EST
DTSTART:20241103T060000
END:STANDARD
END:VTIMEZONE
BEGIN:VEVENT
DTSTART;TZID=America/Toronto:20230330T110000
DTEND;TZID=America/Toronto:20230330T110000
DTSTAMP:20260421T132508
CREATED:20231113T032852Z
LAST-MODIFIED:20231113T032852Z
UID:4754-1680174000-1680174000@g-tac.ca
SUMMARY:Alberta Labour Market Information and Employment Services for Newcomers
DESCRIPTION:• Are you looking for reliable and up-to-date information on the labour market in Alberta\, Canada?• Do you want to learn where to find resources and employment support to make informed decision?\nWhether you are looking for your first job in Canada\, or looking for information for upskills/reskills trainings\, welcome to join this upcoming webinar. We will delve into the current state of the labour market in Alberta and highlight the industries that are thriving\, as well as the skills that are in demand. You will also learn about the various programs and initiatives that are available to support job seekers and career changers in Alberta.\n 
URL:https://g-tac.ca/event/alberta-labour-market-information-and-employment-services-for-newcomers/
ATTACH;FMTTYPE=image/jpeg:https://g-tac.ca/wp-content/uploads/2023/02/8.jpg
END:VEVENT
END:VCALENDAR