BEGIN:VCALENDAR
VERSION:2.0
PRODID:-//G-TAC - ECPv6.15.20//NONSGML v1.0//EN
CALSCALE:GREGORIAN
METHOD:PUBLISH
X-WR-CALNAME:G-TAC
X-ORIGINAL-URL:https://g-tac.ca
X-WR-CALDESC:Events for G-TAC
REFRESH-INTERVAL;VALUE=DURATION:PT1H
X-Robots-Tag:noindex
X-PUBLISHED-TTL:PT1H
BEGIN:VTIMEZONE
TZID:America/Toronto
BEGIN:DAYLIGHT
TZOFFSETFROM:-0500
TZOFFSETTO:-0400
TZNAME:EDT
DTSTART:20220313T070000
END:DAYLIGHT
BEGIN:STANDARD
TZOFFSETFROM:-0400
TZOFFSETTO:-0500
TZNAME:EST
DTSTART:20221106T060000
END:STANDARD
BEGIN:DAYLIGHT
TZOFFSETFROM:-0500
TZOFFSETTO:-0400
TZNAME:EDT
DTSTART:20230312T070000
END:DAYLIGHT
BEGIN:STANDARD
TZOFFSETFROM:-0400
TZOFFSETTO:-0500
TZNAME:EST
DTSTART:20231105T060000
END:STANDARD
BEGIN:DAYLIGHT
TZOFFSETFROM:-0500
TZOFFSETTO:-0400
TZNAME:EDT
DTSTART:20240310T070000
END:DAYLIGHT
BEGIN:STANDARD
TZOFFSETFROM:-0400
TZOFFSETTO:-0500
TZNAME:EST
DTSTART:20241103T060000
END:STANDARD
END:VTIMEZONE
BEGIN:VEVENT
DTSTART;TZID=America/Toronto:20230323T090000
DTEND;TZID=America/Toronto:20230323T090000
DTSTAMP:20260421T145830
CREATED:20231113T032652Z
LAST-MODIFIED:20231113T032652Z
UID:4752-1679562000-1679562000@g-tac.ca
SUMMARY:How to Write an Effective Resume to Land a Job Interview
DESCRIPTION:• What are “keywords” and how do I incorporate them in my resume?• How to craft a compelling summary to capture the employers attention?\n• How to showcase your qualifications\, including tips for tips for highlighting your skills and experience in a resume?\nA well-crafted resume can make all the difference in a competitive job market\, as it provides the first impression of a candidate to a hiring manager. It allows job seekers to highlight their skills and experiences\, making them stand out from the crowd. A strong resume also helps employers quickly identify the right candidates for a particular role and assess their suitability for the job. So\, the resume is an essential document that plays a vital role in a job search and can significantly impact one’s chances of landing an interview and ultimately\, a job.\nIf your resume needs improvement to land you an interview\, come and join Consuela Sambour\, Resource & Information Specialist\, St. Lawrence College\, to learn how to create a professional resume for the Canadian Labour Market. You will learn how to write a summary of your skills- which is the first thing an employer reads on your resume. You will also learn the sections in a resume and proper format along with much more! There will be various examples so that you have the best help in writing your resume. There will also be time to ask questions at the end.\nAbout the Speaker: Consuela’s academic background is languages and sociology. After graduating\, she has worked for various non-profit organizations\, school boards and volunteered in her community. She loves exchanging and working with people and help them achieve their goals.\nAbout the SLC’s Employment Services: we offer free employment-related access to computers\, printing\, Resume and Cover Letter Writing\, Interview Preparation\, Job Search Strategies\, Career Exploration and more. Open to all members of our community\, we offer free\, fast\, and friendly service to support during your job search.\n 
URL:https://g-tac.ca/event/how-to-write-an-effective-resume-to-land-a-job-interview/
ATTACH;FMTTYPE=image/png:https://g-tac.ca/wp-content/uploads/2022/10/ME-calendar-2.png
END:VEVENT
END:VCALENDAR