BEGIN:VCALENDAR
VERSION:2.0
PRODID:-//G-TAC - ECPv6.15.20//NONSGML v1.0//EN
CALSCALE:GREGORIAN
METHOD:PUBLISH
X-ORIGINAL-URL:https://g-tac.ca
X-WR-CALDESC:Events for G-TAC
REFRESH-INTERVAL;VALUE=DURATION:PT1H
X-Robots-Tag:noindex
X-PUBLISHED-TTL:PT1H
BEGIN:VTIMEZONE
TZID:America/Toronto
BEGIN:DAYLIGHT
TZOFFSETFROM:-0500
TZOFFSETTO:-0400
TZNAME:EDT
DTSTART:20220313T070000
END:DAYLIGHT
BEGIN:STANDARD
TZOFFSETFROM:-0400
TZOFFSETTO:-0500
TZNAME:EST
DTSTART:20221106T060000
END:STANDARD
BEGIN:DAYLIGHT
TZOFFSETFROM:-0500
TZOFFSETTO:-0400
TZNAME:EDT
DTSTART:20230312T070000
END:DAYLIGHT
BEGIN:STANDARD
TZOFFSETFROM:-0400
TZOFFSETTO:-0500
TZNAME:EST
DTSTART:20231105T060000
END:STANDARD
BEGIN:DAYLIGHT
TZOFFSETFROM:-0500
TZOFFSETTO:-0400
TZNAME:EDT
DTSTART:20240310T070000
END:DAYLIGHT
BEGIN:STANDARD
TZOFFSETFROM:-0400
TZOFFSETTO:-0500
TZNAME:EST
DTSTART:20241103T060000
END:STANDARD
END:VTIMEZONE
BEGIN:VEVENT
DTSTART;TZID=America/Toronto:20230316T090000
DTEND;TZID=America/Toronto:20230316T090000
DTSTAMP:20260421T145955
CREATED:20231113T032853Z
LAST-MODIFIED:20231113T032853Z
UID:4756-1678957200-1678957200@g-tac.ca
SUMMARY:Maximizing Your Opportunities: Tips for Navigating and Succeeding at Online Career Fairs
DESCRIPTION:• Are you tired of submitting your resumes and cover letters to job boards without any luck?• Are you researching to reset your career and willing to explore more options?\nCome and join us for an informative and engaging webinar. During this webinar\, you’ll learn the benefits of attending virtual job fairs\, such as the ability to connect with recruiters and employers from the comfort of your own home\, as well as the opportunity to explore a variety of industries and job openings.\nWe’ll also cover tips and tricks on how to make the most of your virtual job fair experience\, including how to create an impressive online profile\, how to effectively communicate with employers\, and how to stand out from the competition.\nDon’t miss out on this valuable opportunity to jumpstart your job search and make meaningful connections with potential employers and subject matter experts.\n 
URL:https://g-tac.ca/event/maximizing-your-opportunities-tips-for-navigating-and-succeeding-at-online-career-fairs/
ATTACH;FMTTYPE=image/jpeg:https://g-tac.ca/wp-content/uploads/2023/02/5.jpg
END:VEVENT
END:VCALENDAR