BEGIN:VCALENDAR
VERSION:2.0
PRODID:-//G-TAC - ECPv6.15.20//NONSGML v1.0//EN
CALSCALE:GREGORIAN
METHOD:PUBLISH
X-ORIGINAL-URL:https://g-tac.ca
X-WR-CALDESC:Events for G-TAC
REFRESH-INTERVAL;VALUE=DURATION:PT1H
X-Robots-Tag:noindex
X-PUBLISHED-TTL:PT1H
BEGIN:VTIMEZONE
TZID:America/Toronto
BEGIN:DAYLIGHT
TZOFFSETFROM:-0500
TZOFFSETTO:-0400
TZNAME:EDT
DTSTART:20220313T070000
END:DAYLIGHT
BEGIN:STANDARD
TZOFFSETFROM:-0400
TZOFFSETTO:-0500
TZNAME:EST
DTSTART:20221106T060000
END:STANDARD
BEGIN:DAYLIGHT
TZOFFSETFROM:-0500
TZOFFSETTO:-0400
TZNAME:EDT
DTSTART:20230312T070000
END:DAYLIGHT
BEGIN:STANDARD
TZOFFSETFROM:-0400
TZOFFSETTO:-0500
TZNAME:EST
DTSTART:20231105T060000
END:STANDARD
BEGIN:DAYLIGHT
TZOFFSETFROM:-0500
TZOFFSETTO:-0400
TZNAME:EDT
DTSTART:20240310T070000
END:DAYLIGHT
BEGIN:STANDARD
TZOFFSETFROM:-0400
TZOFFSETTO:-0500
TZNAME:EST
DTSTART:20241103T060000
END:STANDARD
END:VTIMEZONE
BEGIN:VEVENT
DTSTART;TZID=America/Toronto:20230314T090000
DTEND;TZID=America/Toronto:20230314T090000
DTSTAMP:20260421T145956
CREATED:20231113T032854Z
LAST-MODIFIED:20231113T032854Z
UID:4757-1678784400-1678784400@g-tac.ca
SUMMARY:在加拿大买房过程中可能面临的法律风险及应对
DESCRIPTION:讲座主要内容：–  加拿大买卖房屋过程中，房地产律师的主要职责和作用\n–  房屋买卖过程中，可能面临的法律风险主要有哪些？因该如何预防？\n–  当下针对房产交易有哪些不法行为，房主该如何应对化解？\n加拿大是一个法制国家，凡事有法可依。在加拿大，房地产律师在房屋交易过程中的介入是法律要求必须的。对于家庭个人而言，房屋买卖因为金额巨大，是一项重大财务行为，需要慎重对待。那么您是否想了解您的房地产律师会如何为您提供保护？\n法制的对面就是犯罪，加拿大不是世外桃源，难逃其害。当下针对房产交易而产生的犯罪案件出现了上升趋势，那么房地产律师又可以为我们提供什么样的专业服务保护我们的财产呢？\n如果您想了解以上提及的内容，欢迎参加本期讲座， 我们很荣幸邀请到：Martin Wu律师， 为您答疑解惑。\n 
URL:https://g-tac.ca/event/%e5%9c%a8%e5%8a%a0%e6%8b%bf%e5%a4%a7%e4%b9%b0%e6%88%bf%e8%bf%87%e7%a8%8b%e4%b8%ad%e5%8f%af%e8%83%bd%e9%9d%a2%e4%b8%b4%e7%9a%84%e6%b3%95%e5%be%8b%e9%a3%8e%e9%99%a9%e5%8f%8a%e5%ba%94%e5%af%b9/
ATTACH;FMTTYPE=image/jpeg:https://g-tac.ca/wp-content/uploads/2023/02/4.jpg
END:VEVENT
END:VCALENDAR