BEGIN:VCALENDAR
VERSION:2.0
PRODID:-//G-TAC - ECPv6.15.20//NONSGML v1.0//EN
CALSCALE:GREGORIAN
METHOD:PUBLISH
X-WR-CALNAME:G-TAC
X-ORIGINAL-URL:https://g-tac.ca
X-WR-CALDESC:Events for G-TAC
REFRESH-INTERVAL;VALUE=DURATION:PT1H
X-Robots-Tag:noindex
X-PUBLISHED-TTL:PT1H
BEGIN:VTIMEZONE
TZID:America/Toronto
BEGIN:DAYLIGHT
TZOFFSETFROM:-0500
TZOFFSETTO:-0400
TZNAME:EDT
DTSTART:20220313T070000
END:DAYLIGHT
BEGIN:STANDARD
TZOFFSETFROM:-0400
TZOFFSETTO:-0500
TZNAME:EST
DTSTART:20221106T060000
END:STANDARD
BEGIN:DAYLIGHT
TZOFFSETFROM:-0500
TZOFFSETTO:-0400
TZNAME:EDT
DTSTART:20230312T070000
END:DAYLIGHT
BEGIN:STANDARD
TZOFFSETFROM:-0400
TZOFFSETTO:-0500
TZNAME:EST
DTSTART:20231105T060000
END:STANDARD
BEGIN:DAYLIGHT
TZOFFSETFROM:-0500
TZOFFSETTO:-0400
TZNAME:EDT
DTSTART:20240310T070000
END:DAYLIGHT
BEGIN:STANDARD
TZOFFSETFROM:-0400
TZOFFSETTO:-0500
TZNAME:EST
DTSTART:20241103T060000
END:STANDARD
END:VTIMEZONE
BEGIN:VEVENT
DTSTART;TZID=America/Toronto:20230307T090000
DTEND;TZID=America/Toronto:20230307T090000
DTSTAMP:20260421T145832
CREATED:20231113T032908Z
LAST-MODIFIED:20231113T032908Z
UID:4759-1678179600-1678179600@g-tac.ca
SUMMARY:How to highlight your international education and work experience to Canadian employers
DESCRIPTION:– Are you an internationally trained professional?– Do you have international work experience or education?\n– Are you wondering HOW you can highlight your achievements to appeal to Canadian employers?\nIn this webinar\, we are pleased to welcome Dalia Shalabi\, a career coach from Devant who supports international students and internationally trained professionals. As a former international student and employment counsellor for newcomers\, Dalia is going to share exactly how highly skilled newcomers can streamline their job search efforts\, successfully showcase their international experience\, and access their dream professions in Canada.\nAbout the Speaker:\n Dalia Shalabi. Dalia is a career coach and event facilitator at Devant. She specializes in helping internationally trained professionals and international students access the Canadian job market. Her work focuses on contextualizing international education and experience to appeal to Canadian employers. She has extensive knowledge on regulated professions and upskilling and bridging programs. She has guided many newcomers through career changes leading to sustainable employment. She also regularly helps fresh graduates shine in a competitive employment market and gain experience in their area of studies.\n 
URL:https://g-tac.ca/event/how-to-highlight-your-international-education-and-work-experience-to-canadian-employers/
ATTACH;FMTTYPE=image/jpeg:https://g-tac.ca/wp-content/uploads/2023/02/6.jpg
END:VEVENT
END:VCALENDAR