BEGIN:VCALENDAR
VERSION:2.0
PRODID:-//G-TAC - ECPv6.15.20//NONSGML v1.0//EN
CALSCALE:GREGORIAN
METHOD:PUBLISH
X-WR-CALNAME:G-TAC
X-ORIGINAL-URL:https://g-tac.ca
X-WR-CALDESC:Events for G-TAC
REFRESH-INTERVAL;VALUE=DURATION:PT1H
X-Robots-Tag:noindex
X-PUBLISHED-TTL:PT1H
BEGIN:VTIMEZONE
TZID:America/Toronto
BEGIN:DAYLIGHT
TZOFFSETFROM:-0500
TZOFFSETTO:-0400
TZNAME:EDT
DTSTART:20220313T070000
END:DAYLIGHT
BEGIN:STANDARD
TZOFFSETFROM:-0400
TZOFFSETTO:-0500
TZNAME:EST
DTSTART:20221106T060000
END:STANDARD
BEGIN:DAYLIGHT
TZOFFSETFROM:-0500
TZOFFSETTO:-0400
TZNAME:EDT
DTSTART:20230312T070000
END:DAYLIGHT
BEGIN:STANDARD
TZOFFSETFROM:-0400
TZOFFSETTO:-0500
TZNAME:EST
DTSTART:20231105T060000
END:STANDARD
BEGIN:DAYLIGHT
TZOFFSETFROM:-0500
TZOFFSETTO:-0400
TZNAME:EDT
DTSTART:20240310T070000
END:DAYLIGHT
BEGIN:STANDARD
TZOFFSETFROM:-0400
TZOFFSETTO:-0500
TZNAME:EST
DTSTART:20241103T060000
END:STANDARD
END:VTIMEZONE
BEGIN:VEVENT
DTSTART;TZID=America/Toronto:20230302T090000
DTEND;TZID=America/Toronto:20230302T090000
DTSTAMP:20260421T145824
CREATED:20231113T032908Z
LAST-MODIFIED:20231113T032908Z
UID:4760-1677747600-1677747600@g-tac.ca
SUMMARY:Unveiling Canadian Companies and Industries for Optimal Employment Success
DESCRIPTION:Are you tired of sending out job applications without getting any response? Are you struggling to find a job that aligns with your skills and interests? Would you like to know some examples and types of questions to ask a potential employer during a research meeting?If so\, join our upcoming webinar on the importance of exploring companies and labor market information to land your dream job. Our experienced career consultant\, Doris Haddad\, will guide you through the process of identifying your career goals\, researching the labor market\, and finding the right companies to target. Her presentation will provide you:\n1) with a competitive edge\n2) an opportunity to decide which employers you want to reach and which strategy you can use to contact them\n3) a better resume\, cover letter and professional introduction that reflects the needs of your prospective employers\nAbout the speaker:\nDoris Haddad\, MEd Career Counsellor and Master Certified Career Coach (MCCC) has 30 years experience as a Career Counsellor from both the public and private sectors. After graduating from her Bachelor of Commerce Degree and Master in Education with a Career Counselling designation\, Doris worked as an HR Advisor and Career.\n 
URL:https://g-tac.ca/event/unveiling-canadian-companies-and-industries-for-optimal-employment-success/
ATTACH;FMTTYPE=image/jpeg:https://g-tac.ca/wp-content/uploads/2023/02/2.jpg
END:VEVENT
END:VCALENDAR