BEGIN:VCALENDAR
VERSION:2.0
PRODID:-//G-TAC - ECPv6.15.20//NONSGML v1.0//EN
CALSCALE:GREGORIAN
METHOD:PUBLISH
X-WR-CALNAME:G-TAC
X-ORIGINAL-URL:https://g-tac.ca
X-WR-CALDESC:Events for G-TAC
REFRESH-INTERVAL;VALUE=DURATION:PT1H
X-Robots-Tag:noindex
X-PUBLISHED-TTL:PT1H
BEGIN:VTIMEZONE
TZID:America/Toronto
BEGIN:DAYLIGHT
TZOFFSETFROM:-0500
TZOFFSETTO:-0400
TZNAME:EDT
DTSTART:20220313T070000
END:DAYLIGHT
BEGIN:STANDARD
TZOFFSETFROM:-0400
TZOFFSETTO:-0500
TZNAME:EST
DTSTART:20221106T060000
END:STANDARD
BEGIN:DAYLIGHT
TZOFFSETFROM:-0500
TZOFFSETTO:-0400
TZNAME:EDT
DTSTART:20230312T070000
END:DAYLIGHT
BEGIN:STANDARD
TZOFFSETFROM:-0400
TZOFFSETTO:-0500
TZNAME:EST
DTSTART:20231105T060000
END:STANDARD
BEGIN:DAYLIGHT
TZOFFSETFROM:-0500
TZOFFSETTO:-0400
TZNAME:EDT
DTSTART:20240310T070000
END:DAYLIGHT
BEGIN:STANDARD
TZOFFSETFROM:-0400
TZOFFSETTO:-0500
TZNAME:EST
DTSTART:20241103T060000
END:STANDARD
END:VTIMEZONE
BEGIN:VEVENT
DTSTART;TZID=America/Toronto:20230223T120000
DTEND;TZID=America/Toronto:20230223T120000
DTSTAMP:20260421T163603
CREATED:20231113T033310Z
LAST-MODIFIED:20231113T033310Z
UID:4770-1677153600-1677153600@g-tac.ca
SUMMARY:Meet the Employer – QMC | Integrated Submetering and Metering Solutions
DESCRIPTION:Are you looking to advance your career in the energy management industry? Join us for our upcoming hiring info session with QMC – a leading provider of submetering and metering solutions. QMC is looking for talented and motivated individuals to join our team and help us continue to make a positive impact on the energy management industry.Topics to cover:\n– Who is QMC?\n– What are the current job opportunities and required skills and qualifications?\n– What is the hiring process and how to apply?\nDon’t miss this opportunity to learn more about the company and take the first step in advancing your career with QMC. Register today and we look forward to meeting you at our hiring info session!\nThis is a great chance to learn more about the submetering and metering solution\, the industry and the company\, as well as meet with the team and ask any question you may have. It’s also a chance to learn about the current job opportunities available\, and how you can be a part of the team.\n 
URL:https://g-tac.ca/event/meet-the-employer-qmc-integrated-submetering-and-metering-solutions/
ATTACH;FMTTYPE=image/jpeg:https://g-tac.ca/wp-content/uploads/2022/12/3.jpg
END:VEVENT
END:VCALENDAR