BEGIN:VCALENDAR
VERSION:2.0
PRODID:-//G-TAC - ECPv6.15.20//NONSGML v1.0//EN
CALSCALE:GREGORIAN
METHOD:PUBLISH
X-WR-CALNAME:G-TAC
X-ORIGINAL-URL:https://g-tac.ca
X-WR-CALDESC:Events for G-TAC
REFRESH-INTERVAL;VALUE=DURATION:PT1H
X-Robots-Tag:noindex
X-PUBLISHED-TTL:PT1H
BEGIN:VTIMEZONE
TZID:America/Toronto
BEGIN:DAYLIGHT
TZOFFSETFROM:-0500
TZOFFSETTO:-0400
TZNAME:EDT
DTSTART:20220313T070000
END:DAYLIGHT
BEGIN:STANDARD
TZOFFSETFROM:-0400
TZOFFSETTO:-0500
TZNAME:EST
DTSTART:20221106T060000
END:STANDARD
BEGIN:DAYLIGHT
TZOFFSETFROM:-0500
TZOFFSETTO:-0400
TZNAME:EDT
DTSTART:20230312T070000
END:DAYLIGHT
BEGIN:STANDARD
TZOFFSETFROM:-0400
TZOFFSETTO:-0500
TZNAME:EST
DTSTART:20231105T060000
END:STANDARD
BEGIN:DAYLIGHT
TZOFFSETFROM:-0500
TZOFFSETTO:-0400
TZNAME:EDT
DTSTART:20240310T070000
END:DAYLIGHT
BEGIN:STANDARD
TZOFFSETFROM:-0400
TZOFFSETTO:-0500
TZNAME:EST
DTSTART:20241103T060000
END:STANDARD
END:VTIMEZONE
BEGIN:VEVENT
DTSTART;TZID=America/Toronto:20230214T090000
DTEND;TZID=America/Toronto:20230214T090000
DTSTAMP:20260421T163603
CREATED:20231113T033109Z
LAST-MODIFIED:20231113T033109Z
UID:4765-1676365200-1676365200@g-tac.ca
SUMMARY:How to Become a Meter and Instrumentation Technician in Canada
DESCRIPTION:Attention all aspiring technicians! Join us for a life-changing info session that will guide you on your journey to become a successful electricity meter and instrumentation technician in Canada.With the growing need for infrastructure development and maintenance\, the demand for meter and instrumentation technicians is on the rise. Additionally\, the increasing demand for smart grid technology and renewable energy sources will also increase the demand for these technicians. It is a highly rewarding career with many benefits: such as good salary and job stability\, regular work schedule\, opportunities from advancement and career growth\, and etc.\nOur guest speaker\, Mr. Hanson Shen\, a master technician with over 15 years of experience in the field\, will be sharing valuable insights\, tips\, and tricks to help you achieve your goals. Mr. Shen\, Professor on Electrical Engineering at a public college in GTA \, Master Electrician\, over 15 years industry experience in Canada\, and coached hundreds newcomers to become a licensed electrician in Canada.\nIn this webinar\, you will learn about: \nThe role and responsibilities of a meter and instrumentation technician\nThe essential skills and knowledge required for the job\nJob opportunities and career growth in the industry \nWhether you are just starting out or looking to advance in your career\, this webinar is for you. We can’t wait to share our knowledge with you and help you reach your goals. Join us for this exciting webinar and take the first step towards your dream career!\n 
URL:https://g-tac.ca/event/how-to-become-a-meter-and-instrumentation-technician-in-canada/
ATTACH;FMTTYPE=image/png:https://g-tac.ca/wp-content/uploads/2023/01/4.png
END:VEVENT
END:VCALENDAR