BEGIN:VCALENDAR
VERSION:2.0
PRODID:-//G-TAC - ECPv6.15.20//NONSGML v1.0//EN
CALSCALE:GREGORIAN
METHOD:PUBLISH
X-WR-CALNAME:G-TAC
X-ORIGINAL-URL:https://g-tac.ca
X-WR-CALDESC:Events for G-TAC
REFRESH-INTERVAL;VALUE=DURATION:PT1H
X-Robots-Tag:noindex
X-PUBLISHED-TTL:PT1H
BEGIN:VTIMEZONE
TZID:America/Toronto
BEGIN:DAYLIGHT
TZOFFSETFROM:-0500
TZOFFSETTO:-0400
TZNAME:EDT
DTSTART:20220313T070000
END:DAYLIGHT
BEGIN:STANDARD
TZOFFSETFROM:-0400
TZOFFSETTO:-0500
TZNAME:EST
DTSTART:20221106T060000
END:STANDARD
BEGIN:DAYLIGHT
TZOFFSETFROM:-0500
TZOFFSETTO:-0400
TZNAME:EDT
DTSTART:20230312T070000
END:DAYLIGHT
BEGIN:STANDARD
TZOFFSETFROM:-0400
TZOFFSETTO:-0500
TZNAME:EST
DTSTART:20231105T060000
END:STANDARD
BEGIN:DAYLIGHT
TZOFFSETFROM:-0500
TZOFFSETTO:-0400
TZNAME:EDT
DTSTART:20240310T070000
END:DAYLIGHT
BEGIN:STANDARD
TZOFFSETFROM:-0400
TZOFFSETTO:-0500
TZNAME:EST
DTSTART:20241103T060000
END:STANDARD
END:VTIMEZONE
BEGIN:VEVENT
DTSTART;TZID=America/Toronto:20230112T090000
DTEND;TZID=America/Toronto:20230112T090000
DTSTAMP:20260421T180203
CREATED:20231113T033511Z
LAST-MODIFIED:20231113T033511Z
UID:4774-1673514000-1673514000@g-tac.ca
SUMMARY:Meet the Employer – Synopsys | EDA Tools\, Semiconductor IP and Application
DESCRIPTION:Are you interested in chip design\, verification\, IP integration and application security testing? Welcome to join the webinar presented by Synopsys to learn about their job opportunities\, and how you can join them!Synopsys technology is at the heart of innovations that are changing the way we live and work. The Internet of Things. Autonomous cars. Wearables. Smart medical devices. Secure financial services. Machine learning and computer vision. These breakthroughs are ushering in the era of Smart\, Secure Everything―where devices are getting smarter\, everything’s connected\, and everything must be secure.\nPowering this new era of technology are advanced silicon chips\, which are made even smarter by the remarkable software that drives them. Synopsys is at the forefront of Smart\, Secure Everything with the world’s most advanced tools for silicon chip design\, verification\, IP integration\, and application security testing. Our technology helps customers innovate from Silicon to Software\, so they can deliver Smart\, Secure Everything.\nAbout the Speaker: \nJeff Vise is the Director of Employment at Synopsys and responsible for managing the Global Staffing Strategy for several business units in the company. Jeff has over 22+ yrs. of experience in corporate staffing with the company and is as a key resource for executive hiring.\n“At Synopsys\, I combine my passion for people and technology by leading a talented staffing team that supports all lines of business at Synopsys. My skills and expertise include Global Talent Acquisition Leadership\, Executive Search\, Recruiting\, Executive Leadership Development\, Inclusion and Diversity\, and Team Development.”\n 
URL:https://g-tac.ca/event/meet-the-employer-synopsys-eda-tools-semiconductor-ip-and-application/
ATTACH;FMTTYPE=image/jpeg:https://g-tac.ca/wp-content/uploads/2022/12/6.jpg
END:VEVENT
END:VCALENDAR