BEGIN:VCALENDAR
VERSION:2.0
PRODID:-//G-TAC - ECPv6.15.20//NONSGML v1.0//EN
CALSCALE:GREGORIAN
METHOD:PUBLISH
X-ORIGINAL-URL:https://g-tac.ca
X-WR-CALDESC:Events for G-TAC
REFRESH-INTERVAL;VALUE=DURATION:PT1H
X-Robots-Tag:noindex
X-PUBLISHED-TTL:PT1H
BEGIN:VTIMEZONE
TZID:America/Toronto
BEGIN:DAYLIGHT
TZOFFSETFROM:-0500
TZOFFSETTO:-0400
TZNAME:EDT
DTSTART:20220313T070000
END:DAYLIGHT
BEGIN:STANDARD
TZOFFSETFROM:-0400
TZOFFSETTO:-0500
TZNAME:EST
DTSTART:20221106T060000
END:STANDARD
BEGIN:DAYLIGHT
TZOFFSETFROM:-0500
TZOFFSETTO:-0400
TZNAME:EDT
DTSTART:20230312T070000
END:DAYLIGHT
BEGIN:STANDARD
TZOFFSETFROM:-0400
TZOFFSETTO:-0500
TZNAME:EST
DTSTART:20231105T060000
END:STANDARD
BEGIN:DAYLIGHT
TZOFFSETFROM:-0500
TZOFFSETTO:-0400
TZNAME:EDT
DTSTART:20240310T070000
END:DAYLIGHT
BEGIN:STANDARD
TZOFFSETFROM:-0400
TZOFFSETTO:-0500
TZNAME:EST
DTSTART:20241103T060000
END:STANDARD
END:VTIMEZONE
BEGIN:VEVENT
DTSTART;TZID=America/Toronto:20230105T200000
DTEND;TZID=America/Toronto:20230105T200000
DTSTAMP:20260421T181022
CREATED:20231113T033511Z
LAST-MODIFIED:20231113T033511Z
UID:4776-1672948800-1672948800@g-tac.ca
SUMMARY:Cyber Security Fundamentals for Your Next Career Move
DESCRIPTION:Topics to Cover:• Overview of the Cyber Threat Landscape and the impact on governments\, organizations\, employees\, customers and citizens.\n• Updated cyber-security industry norms and requirements\, technology trends\, skills\, and tools.\n• Career paths and job opportunities of cyber-security related occupations.\nCyber security becomes more critical than ever\, while digital economy is playing an important role to drive the economic growth. As a result\, there are many employment opportunities that are related to cyber security. If you want to develop your career in this field and want to figure out the career path\, please join Mr. Fred Nesrallah to kick off the new year with new knowledge and resolution\, as he will share the latest LMI and his insights regarding the career opportunities in cyber security\, including:\n– To perform a deep analysis of Threat Actor Groups\, Tactics and Technical Capabilities that will assist organizations in developing a defensive posture in data Confidentiality\, Integrity and Availability\n– To examine the complex system wide vulnerabilities that are currently being exploited in order to develop a deep understanding of mitigation strategies and vulnerability management\n– To identify various strategies and options regarding skills enhancement and industry certification\nAbout the Speaker: \nWith more than 20 years of experience within the Information Technology domain\, Mr. Nesrallah has focused his work on providing leading edge Labour Market Intelligence (LMI) to the private sector\, government\, education and the greater employment services sector.\nCurrently\, Mr. Nesrallah is acting as a lead strategist providing insight into the development of next generation talent acquisition strategies.\n 
URL:https://g-tac.ca/event/cyber-security-fundamentals-for-your-next-career-move/
ATTACH;FMTTYPE=image/png:https://g-tac.ca/wp-content/uploads/2022/07/ME-calendar-10.png
END:VEVENT
END:VCALENDAR