BEGIN:VCALENDAR
VERSION:2.0
PRODID:-//G-TAC - ECPv6.15.20//NONSGML v1.0//EN
CALSCALE:GREGORIAN
METHOD:PUBLISH
X-ORIGINAL-URL:https://g-tac.ca
X-WR-CALDESC:Events for G-TAC
REFRESH-INTERVAL;VALUE=DURATION:PT1H
X-Robots-Tag:noindex
X-PUBLISHED-TTL:PT1H
BEGIN:VTIMEZONE
TZID:America/Toronto
BEGIN:DAYLIGHT
TZOFFSETFROM:-0500
TZOFFSETTO:-0400
TZNAME:EDT
DTSTART:20210314T070000
END:DAYLIGHT
BEGIN:STANDARD
TZOFFSETFROM:-0400
TZOFFSETTO:-0500
TZNAME:EST
DTSTART:20211107T060000
END:STANDARD
BEGIN:DAYLIGHT
TZOFFSETFROM:-0500
TZOFFSETTO:-0400
TZNAME:EDT
DTSTART:20220313T070000
END:DAYLIGHT
BEGIN:STANDARD
TZOFFSETFROM:-0400
TZOFFSETTO:-0500
TZNAME:EST
DTSTART:20221106T060000
END:STANDARD
BEGIN:DAYLIGHT
TZOFFSETFROM:-0500
TZOFFSETTO:-0400
TZNAME:EDT
DTSTART:20230312T070000
END:DAYLIGHT
BEGIN:STANDARD
TZOFFSETFROM:-0400
TZOFFSETTO:-0500
TZNAME:EST
DTSTART:20231105T060000
END:STANDARD
END:VTIMEZONE
BEGIN:VEVENT
DTSTART;TZID=America/Toronto:20221215T090000
DTEND;TZID=America/Toronto:20221215T090000
DTSTAMP:20260421T192954
CREATED:20231113T033512Z
LAST-MODIFIED:20231113T033512Z
UID:4777-1671094800-1671094800@g-tac.ca
SUMMARY:Opportunities & Challenges in Canada’s Food & Beverage Manufacturing Sector
DESCRIPTION:Food and beverage manufacturing is a major industry for Canada\, both domestically and internationally. Beyond its importance to the economy the food and beverage manufacturing is of critical importance to the lives of Canadians\, because at the end of the day we all need to eat.To highlight the current challenges and opportunities in the sector\, this webinar will cover the latest labour market information on Canada’s food & beverage manufacturing sector\, touch on perceptions of the industry\, and current vacancies. The challenges and the opportunities that the sector is facing are both great in scope\, but together Canada can overcome the challenges and seize the opportunity within our food and beverage manufacturing sector.\nAbout the Speaker:\nKevin studied International Development at the University of Calgary and has lived and worked all over the globe. He grew up in Alberta and California and now makes his home in Ottawa. Kevin joined Food Processing Skills Canada in 2017 and has been leading the organization’s Labour Market Information insights since that time. At FPSC\, he coordinates and analyzes the latest qualitative and quantitative information for all industry stakeholders. Kevin also represents FPSC and the industry on a variety of national and regional committees to ensure decision makers have access to the best available information. When he isn’t reviewing data\, he is likely coaching\, playing\, or watching sports.\n \n \n 
URL:https://g-tac.ca/event/opportunities-challenges-in-canadas-food-beverage-manufacturing-sector/
ATTACH;FMTTYPE=image/png:https://g-tac.ca/wp-content/uploads/2022/11/5.png
END:VEVENT
END:VCALENDAR