BEGIN:VCALENDAR
VERSION:2.0
PRODID:-//G-TAC - ECPv6.15.20//NONSGML v1.0//EN
CALSCALE:GREGORIAN
METHOD:PUBLISH
X-WR-CALNAME:G-TAC
X-ORIGINAL-URL:https://g-tac.ca
X-WR-CALDESC:Events for G-TAC
REFRESH-INTERVAL;VALUE=DURATION:PT1H
X-Robots-Tag:noindex
X-PUBLISHED-TTL:PT1H
BEGIN:VTIMEZONE
TZID:America/Toronto
BEGIN:DAYLIGHT
TZOFFSETFROM:-0500
TZOFFSETTO:-0400
TZNAME:EDT
DTSTART:20210314T070000
END:DAYLIGHT
BEGIN:STANDARD
TZOFFSETFROM:-0400
TZOFFSETTO:-0500
TZNAME:EST
DTSTART:20211107T060000
END:STANDARD
BEGIN:DAYLIGHT
TZOFFSETFROM:-0500
TZOFFSETTO:-0400
TZNAME:EDT
DTSTART:20220313T070000
END:DAYLIGHT
BEGIN:STANDARD
TZOFFSETFROM:-0400
TZOFFSETTO:-0500
TZNAME:EST
DTSTART:20221106T060000
END:STANDARD
BEGIN:DAYLIGHT
TZOFFSETFROM:-0500
TZOFFSETTO:-0400
TZNAME:EDT
DTSTART:20230312T070000
END:DAYLIGHT
BEGIN:STANDARD
TZOFFSETFROM:-0400
TZOFFSETTO:-0500
TZNAME:EST
DTSTART:20231105T060000
END:STANDARD
END:VTIMEZONE
BEGIN:VEVENT
DTSTART;TZID=America/Toronto:20221208T090000
DTEND;TZID=America/Toronto:20221208T090000
DTSTAMP:20260421T192845
CREATED:20231113T033711Z
LAST-MODIFIED:20231113T033711Z
UID:4779-1670490000-1670490000@g-tac.ca
SUMMARY:Nailing that Job Interview!
DESCRIPTION:How to get prepared for a job interview?\nLearn some helpful tips that be applied in your next interview. \nWe all know that interviews can be extremely stressful and intimidating. To alleviate some of that stress\, preparation is your key to success! In this webinar\, we’ll cover the basic interview questions\, but also provide you with some helpful tips to feel more confident and at ease with your answers.\nAbout the Speaker:\nAlexandra is an Employment Consultant based in Ottawa\, working with an Employment Ontario service provider. She holds a Bachelors of Education in Career Counseling and has been working in the field for over 5 year. She provides job seekers with assistance and support in securing job opportunities\, through revamping their resumes\, getting them connected to employers and coaching them for interviews. [She speaks French as her first language\, and is also fluent in English and Spanish. In her spare time\, she loves reading and traveling the world.]\n \n 
URL:https://g-tac.ca/event/nailing-that-job-interview/
ATTACH;FMTTYPE=image/png:https://g-tac.ca/wp-content/uploads/2022/11/2.png
END:VEVENT
END:VCALENDAR