BEGIN:VCALENDAR
VERSION:2.0
PRODID:-//G-TAC - ECPv6.15.20//NONSGML v1.0//EN
CALSCALE:GREGORIAN
METHOD:PUBLISH
X-ORIGINAL-URL:https://g-tac.ca
X-WR-CALDESC:Events for G-TAC
REFRESH-INTERVAL;VALUE=DURATION:PT1H
X-Robots-Tag:noindex
X-PUBLISHED-TTL:PT1H
BEGIN:VTIMEZONE
TZID:America/Toronto
BEGIN:DAYLIGHT
TZOFFSETFROM:-0500
TZOFFSETTO:-0400
TZNAME:EDT
DTSTART:20210314T070000
END:DAYLIGHT
BEGIN:STANDARD
TZOFFSETFROM:-0400
TZOFFSETTO:-0500
TZNAME:EST
DTSTART:20211107T060000
END:STANDARD
BEGIN:DAYLIGHT
TZOFFSETFROM:-0500
TZOFFSETTO:-0400
TZNAME:EDT
DTSTART:20220313T070000
END:DAYLIGHT
BEGIN:STANDARD
TZOFFSETFROM:-0400
TZOFFSETTO:-0500
TZNAME:EST
DTSTART:20221106T060000
END:STANDARD
BEGIN:DAYLIGHT
TZOFFSETFROM:-0500
TZOFFSETTO:-0400
TZNAME:EDT
DTSTART:20230312T070000
END:DAYLIGHT
BEGIN:STANDARD
TZOFFSETFROM:-0400
TZOFFSETTO:-0500
TZNAME:EST
DTSTART:20231105T060000
END:STANDARD
END:VTIMEZONE
BEGIN:VEVENT
DTSTART;TZID=America/Toronto:20221206T090000
DTEND;TZID=America/Toronto:20221206T090000
DTSTAMP:20260421T192955
CREATED:20231113T033712Z
LAST-MODIFIED:20231113T033712Z
UID:4780-1670317200-1670317200@g-tac.ca
SUMMARY:在加拿大买房如何避免‘踩坑’
DESCRIPTION:过热市场下的房屋买卖过程中，会出现什么样的‘坑’，该如何避免？\n刚需为主的市场情况下，会有怎样的‘坑’， 该怎样防范？ \n西方有个谚语：rules were meant to be broken. 这就是所谓‘坑’产生的温床。 客观讲， 加拿大是个法治社会的典型，社会生活的方方面面都有法可依。涉及家庭财产根基的房地产行业的交易，更是有严谨严格的法律规范和保障制度。然而有商业交易的地方就会有操作空间，尽管这个操作空间也许很小，却可以制造两个产物：机会，或者‘坑’/‘陷阱’。在加拿大地产交易中的所谓的陷阱，其原因不外乎1）我们购房者不了解本地市场，2）不了解加拿大的房屋特征，3）不明白在购房中应该就不同的房型有不同的关注。\n本期讲座，G-TAC很荣幸邀请到常年的金牌地产经纪Sofia Wu 和Forrest Wang，根据她们的专业知识和多年的工作经验，帮助大家了解加拿大的住房买卖过程中的一些特点，在买卖中应该关注的方面，不能够忽视的问题，如何避免虚假广告，如何在合同中规范好买卖双方的责权，目的只有一个：避免房屋买卖中坑/陷阱。希望她们的专业知识和经验，可以帮助新移民朋友们，少走弯路，避免损失，实现共赢。\n 
URL:https://g-tac.ca/event/%e5%9c%a8%e5%8a%a0%e6%8b%bf%e5%a4%a7%e4%b9%b0%e6%88%bf%e5%a6%82%e4%bd%95%e9%81%bf%e5%85%8d%e8%b8%a9%e5%9d%91/
ATTACH;FMTTYPE=image/png:https://g-tac.ca/wp-content/uploads/2022/11/6.png
END:VEVENT
END:VCALENDAR