BEGIN:VCALENDAR
VERSION:2.0
PRODID:-//G-TAC - ECPv6.15.20//NONSGML v1.0//EN
CALSCALE:GREGORIAN
METHOD:PUBLISH
X-WR-CALNAME:G-TAC
X-ORIGINAL-URL:https://g-tac.ca
X-WR-CALDESC:Events for G-TAC
REFRESH-INTERVAL;VALUE=DURATION:PT1H
X-Robots-Tag:noindex
X-PUBLISHED-TTL:PT1H
BEGIN:VTIMEZONE
TZID:America/Toronto
BEGIN:DAYLIGHT
TZOFFSETFROM:-0500
TZOFFSETTO:-0400
TZNAME:EDT
DTSTART:20210314T070000
END:DAYLIGHT
BEGIN:STANDARD
TZOFFSETFROM:-0400
TZOFFSETTO:-0500
TZNAME:EST
DTSTART:20211107T060000
END:STANDARD
BEGIN:DAYLIGHT
TZOFFSETFROM:-0500
TZOFFSETTO:-0400
TZNAME:EDT
DTSTART:20220313T070000
END:DAYLIGHT
BEGIN:STANDARD
TZOFFSETFROM:-0400
TZOFFSETTO:-0500
TZNAME:EST
DTSTART:20221106T060000
END:STANDARD
BEGIN:DAYLIGHT
TZOFFSETFROM:-0500
TZOFFSETTO:-0400
TZNAME:EDT
DTSTART:20230312T070000
END:DAYLIGHT
BEGIN:STANDARD
TZOFFSETFROM:-0400
TZOFFSETTO:-0500
TZNAME:EST
DTSTART:20231105T060000
END:STANDARD
END:VTIMEZONE
BEGIN:VEVENT
DTSTART;TZID=America/Toronto:20221129T090000
DTEND;TZID=America/Toronto:20221129T090000
DTSTAMP:20260421T192845
CREATED:20231113T033712Z
LAST-MODIFIED:20231113T033712Z
UID:4782-1669712400-1669712400@g-tac.ca
SUMMARY:如何在加拿大银行找到工作
DESCRIPTION:加拿大银行的种类\n找银行工作要如何入手\n必备证书及职业发展路径 \n加拿大银行体系的稳健安全是世界公认的。之所以让人刮目相看，靠的是实实在在的业绩，和面对危机打压的岿然不动。2019年北美最安全的银行的前5名被加拿大银行囊括。\n这就不难理解加拿大的银行业也是就业大票仓， 国内雇员大约有28万，银行从业人员大约占了加拿大劳动力的15%， 为打工人提供了广阔的职业发展空间。本期讲座， G-TAC很高兴地邀请到Catharine Xue\, 分享她在加拿大银行从业 的心得，希望可以帮助有志于在银行从业的新移民或者留学生朋友们。\n 
URL:https://g-tac.ca/event/%e5%a6%82%e4%bd%95%e5%9c%a8%e5%8a%a0%e6%8b%bf%e5%a4%a7%e9%93%b6%e8%a1%8c%e6%89%be%e5%88%b0%e5%b7%a5%e4%bd%9c/
ATTACH;FMTTYPE=image/png:https://g-tac.ca/wp-content/uploads/2022/10/ME-calendar-1-1.png
END:VEVENT
END:VCALENDAR