BEGIN:VCALENDAR
VERSION:2.0
PRODID:-//G-TAC - ECPv6.15.20//NONSGML v1.0//EN
CALSCALE:GREGORIAN
METHOD:PUBLISH
X-WR-CALNAME:G-TAC
X-ORIGINAL-URL:https://g-tac.ca
X-WR-CALDESC:Events for G-TAC
REFRESH-INTERVAL;VALUE=DURATION:PT1H
X-Robots-Tag:noindex
X-PUBLISHED-TTL:PT1H
BEGIN:VTIMEZONE
TZID:America/Toronto
BEGIN:DAYLIGHT
TZOFFSETFROM:-0500
TZOFFSETTO:-0400
TZNAME:EDT
DTSTART:20210314T070000
END:DAYLIGHT
BEGIN:STANDARD
TZOFFSETFROM:-0400
TZOFFSETTO:-0500
TZNAME:EST
DTSTART:20211107T060000
END:STANDARD
BEGIN:DAYLIGHT
TZOFFSETFROM:-0500
TZOFFSETTO:-0400
TZNAME:EDT
DTSTART:20220313T070000
END:DAYLIGHT
BEGIN:STANDARD
TZOFFSETFROM:-0400
TZOFFSETTO:-0500
TZNAME:EST
DTSTART:20221106T060000
END:STANDARD
BEGIN:DAYLIGHT
TZOFFSETFROM:-0500
TZOFFSETTO:-0400
TZNAME:EDT
DTSTART:20230312T070000
END:DAYLIGHT
BEGIN:STANDARD
TZOFFSETFROM:-0400
TZOFFSETTO:-0500
TZNAME:EST
DTSTART:20231105T060000
END:STANDARD
END:VTIMEZONE
BEGIN:VEVENT
DTSTART;TZID=America/Toronto:20221025T090000
DTEND;TZID=America/Toronto:20221025T090000
DTSTAMP:20260421T224554
CREATED:20231113T033926Z
LAST-MODIFIED:20231113T033926Z
UID:4791-1666688400-1666688400@g-tac.ca
SUMMARY:加拿大房屋的日常维护和保养 – 室外篇
DESCRIPTION:在加拿大拥有房产，需要哪些必要的维护？\n不同类型的房产对维护的需求有差异吗？\n房屋的维护对房产增值的影响很大吗？ \n在加拿大拥有自己的漂亮洋房并不是遥不可及的事情。房子是价如金坚的过硬资产，但是需要温柔关照的。特别是对于我们新移民，加拿大的房子和气候与我们在中国熟悉的环境都有很大的差别，在维护方面是需要学习和一些知识储备的。\n无论自住还是投资，房子的日常维护都非常重要。加拿大四季分明，冬季寒冷漫长，房屋的维护还有季节性的因素。那么我们应该做哪些必要的日常维护工作，换季时候又应该做哪些整修更换， 不仅事关我们居住的舒适，更关乎维修的支出和麻烦的大小，不仅可以减少不必要的大修大换费用， 同时为将来的保值升值打好基础。\n非常高兴在这样一个金秋季节和大家一起讨论加拿大房屋的日常维护保养，如何做一个合格的业主，爱我们的家，维护保养我们的家园。本期讲座由G-TAC的特约多伦多房产专家SOFIA WU和FORREST WANG 主讲， 据说不了解房屋维护就成不了金牌地产经纪。我们拭目以待。 敬请参加。\n 
URL:https://g-tac.ca/event/%e5%8a%a0%e6%8b%bf%e5%a4%a7%e6%88%bf%e5%b1%8b%e7%9a%84%e6%97%a5%e5%b8%b8%e7%bb%b4%e6%8a%a4%e5%92%8c%e4%bf%9d%e5%85%bb-%e5%ae%a4%e5%a4%96%e7%af%87/
ATTACH;FMTTYPE=image/png:https://g-tac.ca/wp-content/uploads/2022/10/ME-calendar.png
END:VEVENT
END:VCALENDAR