BEGIN:VCALENDAR
VERSION:2.0
PRODID:-//G-TAC - ECPv6.15.20//NONSGML v1.0//EN
CALSCALE:GREGORIAN
METHOD:PUBLISH
X-WR-CALNAME:G-TAC
X-ORIGINAL-URL:https://g-tac.ca
X-WR-CALDESC:Events for G-TAC
REFRESH-INTERVAL;VALUE=DURATION:PT1H
X-Robots-Tag:noindex
X-PUBLISHED-TTL:PT1H
BEGIN:VTIMEZONE
TZID:America/Toronto
BEGIN:DAYLIGHT
TZOFFSETFROM:-0500
TZOFFSETTO:-0400
TZNAME:EDT
DTSTART:20210314T070000
END:DAYLIGHT
BEGIN:STANDARD
TZOFFSETFROM:-0400
TZOFFSETTO:-0500
TZNAME:EST
DTSTART:20211107T060000
END:STANDARD
BEGIN:DAYLIGHT
TZOFFSETFROM:-0500
TZOFFSETTO:-0400
TZNAME:EDT
DTSTART:20220313T070000
END:DAYLIGHT
BEGIN:STANDARD
TZOFFSETFROM:-0400
TZOFFSETTO:-0500
TZNAME:EST
DTSTART:20221106T060000
END:STANDARD
BEGIN:DAYLIGHT
TZOFFSETFROM:-0500
TZOFFSETTO:-0400
TZNAME:EDT
DTSTART:20230312T070000
END:DAYLIGHT
BEGIN:STANDARD
TZOFFSETFROM:-0400
TZOFFSETTO:-0500
TZNAME:EST
DTSTART:20231105T060000
END:STANDARD
END:VTIMEZONE
BEGIN:VEVENT
DTSTART;TZID=America/Toronto:20221011T090000
DTEND;TZID=America/Toronto:20221011T090000
DTSTAMP:20260421T224554
CREATED:20231113T033931Z
LAST-MODIFIED:20231113T033931Z
UID:4796-1665478800-1665478800@g-tac.ca
SUMMARY:Brand Yourself on LinkedIn
DESCRIPTION:Why LinkedIn is important for your career growth?\nHow to improve your profile to get more notice on LinkedIn? \nAbout the Speaker:\nSashie Steenstra:\nWith over 20 years’ experience in post-secondary and non-profit settings\, Sashie’s career has focused on workforce development\, experiential learning\, curriculum design\, workshop facilitation\, business development and project management. She joined ICTC (Information and Communications Technology Council) in 2019 and applied a full spectrum of career transition guidance to the highly successful pilot EDGE UP (Energy to Digital Growth Education and Upskilling Project)\, a short-duration skills development program that helped pivot displaced mid-career professionals from the Oil and Gas industry into Calgary’s growing tech sector. In her current role as Manager\, iAdvance\, Sashie spearheads the strategic growth of iAdvance programming. She leads planning\, development\, coordination\, and implementation of program delivery.\n 
URL:https://g-tac.ca/event/brand-yourself-on-linkedin/
ATTACH;FMTTYPE=image/png:https://g-tac.ca/wp-content/uploads/2022/10/4.png
END:VEVENT
END:VCALENDAR