BEGIN:VCALENDAR
VERSION:2.0
PRODID:-//G-TAC - ECPv6.15.20//NONSGML v1.0//EN
CALSCALE:GREGORIAN
METHOD:PUBLISH
X-ORIGINAL-URL:https://g-tac.ca
X-WR-CALDESC:Events for G-TAC
REFRESH-INTERVAL;VALUE=DURATION:PT1H
X-Robots-Tag:noindex
X-PUBLISHED-TTL:PT1H
BEGIN:VTIMEZONE
TZID:America/Toronto
BEGIN:DAYLIGHT
TZOFFSETFROM:-0500
TZOFFSETTO:-0400
TZNAME:EDT
DTSTART:20210314T070000
END:DAYLIGHT
BEGIN:STANDARD
TZOFFSETFROM:-0400
TZOFFSETTO:-0500
TZNAME:EST
DTSTART:20211107T060000
END:STANDARD
BEGIN:DAYLIGHT
TZOFFSETFROM:-0500
TZOFFSETTO:-0400
TZNAME:EDT
DTSTART:20220313T070000
END:DAYLIGHT
BEGIN:STANDARD
TZOFFSETFROM:-0400
TZOFFSETTO:-0500
TZNAME:EST
DTSTART:20221106T060000
END:STANDARD
BEGIN:DAYLIGHT
TZOFFSETFROM:-0500
TZOFFSETTO:-0400
TZNAME:EDT
DTSTART:20230312T070000
END:DAYLIGHT
BEGIN:STANDARD
TZOFFSETFROM:-0400
TZOFFSETTO:-0500
TZNAME:EST
DTSTART:20231105T060000
END:STANDARD
END:VTIMEZONE
BEGIN:VEVENT
DTSTART;TZID=America/Toronto:20220928T083000
DTEND;TZID=America/Toronto:20220928T083000
DTSTAMP:20260421T224737
CREATED:20231113T033931Z
LAST-MODIFIED:20231113T033931Z
UID:4797-1664353800-1664353800@g-tac.ca
SUMMARY:Career Forum – 7 LIVE Webinars on Different Options For Your Next Career Move
DESCRIPTION:Ever wondering where to find the job that will unleash your passion and potentials?\nEver pondering re-launch your career to fulfill your career goals?\nEver thinking to grow your professional network?\nEver trying to find out the pathways to work in Canada via Global Talent Stream? \n \nWelcome to the Global Talent Alliance Canada(G-TAC)’s National digital platform. G-TAC is a premier provider of resources & connections pertaining to professionals developing their careers in Canada.\n12th National Virtual Career Expo will take place on Sept. 27 & 28\, 2022! This 2-day national event is all about jobs\, career options and professional networks.\nIn addition to apply for jobs and chat with company recruiters\, on 2nd day of the VCE12\, you can join the ‘Career Forum’ on LIVE channel to interact with subject matter experts to refresh your labour market information\, and stay abreast of the resources and support for your needs on upskilling or reskilling. Dream big. Start now. \n 
URL:https://g-tac.ca/event/career-forum-7-live-webinars-on-different-options-for-your-next-career-move/
END:VEVENT
END:VCALENDAR