BEGIN:VCALENDAR
VERSION:2.0
PRODID:-//G-TAC - ECPv6.15.20//NONSGML v1.0//EN
CALSCALE:GREGORIAN
METHOD:PUBLISH
X-ORIGINAL-URL:https://g-tac.ca
X-WR-CALDESC:Events for G-TAC
REFRESH-INTERVAL;VALUE=DURATION:PT1H
X-Robots-Tag:noindex
X-PUBLISHED-TTL:PT1H
BEGIN:VTIMEZONE
TZID:America/Toronto
BEGIN:DAYLIGHT
TZOFFSETFROM:-0500
TZOFFSETTO:-0400
TZNAME:EDT
DTSTART:20210314T070000
END:DAYLIGHT
BEGIN:STANDARD
TZOFFSETFROM:-0400
TZOFFSETTO:-0500
TZNAME:EST
DTSTART:20211107T060000
END:STANDARD
BEGIN:DAYLIGHT
TZOFFSETFROM:-0500
TZOFFSETTO:-0400
TZNAME:EDT
DTSTART:20220313T070000
END:DAYLIGHT
BEGIN:STANDARD
TZOFFSETFROM:-0400
TZOFFSETTO:-0500
TZNAME:EST
DTSTART:20221106T060000
END:STANDARD
BEGIN:DAYLIGHT
TZOFFSETFROM:-0500
TZOFFSETTO:-0400
TZNAME:EDT
DTSTART:20230312T070000
END:DAYLIGHT
BEGIN:STANDARD
TZOFFSETFROM:-0400
TZOFFSETTO:-0500
TZNAME:EST
DTSTART:20231105T060000
END:STANDARD
END:VTIMEZONE
BEGIN:VEVENT
DTSTART;TZID=America/Toronto:20220927T083000
DTEND;TZID=America/Toronto:20220927T083000
DTSTAMP:20260421T224737
CREATED:20231113T033945Z
LAST-MODIFIED:20231113T033945Z
UID:4798-1664267400-1664267400@g-tac.ca
SUMMARY:Discover Canada – 7 LIVE Webinars to Take You to Explore Opportunities across Canada
DESCRIPTION:Are you planning to start a new chapter in your life in Canada?\nAre you exploring about which city to raise your family and best utilize your skills and experience? \nWelcome to Global Talent Alliance Canada(G-TAC)’s National digital platform. G-TAC is a premier provider of resources & connections for professionals developing their careers in Canada.\nLeveraging this platform\, we host Canada’s largest online talent attraction and job fair – National Virtual Career Expo (VCE). The VCE12 happens on Sept. 27 & 28\, 2022. On 1st day of VCE12\, in addition to explore jobs and chat with recruiters from hiring companies\, job seekers can gain knowledge and insights on emerging labour market trend and relevant resources and support for career development and career transition on the LIVE Channel. There are 14 Live webinars during.\nThe 1st day is themed as ‘Discover Canada’ – from there\, you will learn from officers from municipalities and service providers that Canada offers a variety of life styles and more opportunities than you thought. And\, global talent matters! Come and find more for your next move. \n 
URL:https://g-tac.ca/event/discover-canada-7-live-webinars-to-take-you-to-explore-opportunities-across-canada/
END:VEVENT
BEGIN:VEVENT
DTSTART;TZID=America/Toronto:20220927T083000
DTEND;TZID=America/Toronto:20220928T000000
DTSTAMP:20260421T224737
CREATED:20231113T033945Z
LAST-MODIFIED:20231113T033945Z
UID:4799-1664267400-1664323200@g-tac.ca
SUMMARY:Register Now: G-TAC’s 12th National Virtual Career Expo
DESCRIPTION:Ever heard of skills and labour shortage in Canada? Ever wondering where to find the job that will unleash your passion and potentials? Ever pondering re-launch your career to fulfill your career goals?Welcome to join our 12th National Virtual Career Expo. It is Canada’s largest online talent attraction and job fair.\nYou can explore jobs Across Canada. And most of all\, you can chat with recruiters from hiring companied in real time. While you enjoy the perks of a virtual event\, you wont miss the benefits from human interactions.\nTo global talent aspire to move to Canada\, we have a message for you. Global talent matters! Canada wants top talent\, no matter where you are. The Government has initiated an immigration program – Global Talent Strategy\,  to speed up the process to bring global talent to Canadian employers.  Tens of thousands of talent from overseas have made their move to Canada through this program. At VCE12\, we are pleased to invite both employers and subject matter experts to help you gain more information about it and get prepared for your next move.\nVCE12 is more than a job fair. It will address your career aspirations and provide guidance for your career development or career transition. On the LIVE Channel\, there are 14 themed live presentations by subject matter experts to share their latest findings and advices regarding the emerging labour market trends\, the new on-demand skills sets\, to help you make informed decisions to on your career paths.\nDream big. Start small. Come and join G-TAC’s 12th National Virtual Career Expo on Sept. 27 & 28\, 2022!\n 
URL:https://g-tac.ca/event/register-now-g-tacs-12th-national-virtual-career-expo/
END:VEVENT
END:VCALENDAR