BEGIN:VCALENDAR
VERSION:2.0
PRODID:-//G-TAC - ECPv6.15.20//NONSGML v1.0//EN
CALSCALE:GREGORIAN
METHOD:PUBLISH
X-WR-CALNAME:G-TAC
X-ORIGINAL-URL:https://g-tac.ca
X-WR-CALDESC:Events for G-TAC
REFRESH-INTERVAL;VALUE=DURATION:PT1H
X-Robots-Tag:noindex
X-PUBLISHED-TTL:PT1H
BEGIN:VTIMEZONE
TZID:America/Toronto
BEGIN:DAYLIGHT
TZOFFSETFROM:-0500
TZOFFSETTO:-0400
TZNAME:EDT
DTSTART:20210314T070000
END:DAYLIGHT
BEGIN:STANDARD
TZOFFSETFROM:-0400
TZOFFSETTO:-0500
TZNAME:EST
DTSTART:20211107T060000
END:STANDARD
BEGIN:DAYLIGHT
TZOFFSETFROM:-0500
TZOFFSETTO:-0400
TZNAME:EDT
DTSTART:20220313T070000
END:DAYLIGHT
BEGIN:STANDARD
TZOFFSETFROM:-0400
TZOFFSETTO:-0500
TZNAME:EST
DTSTART:20221106T060000
END:STANDARD
BEGIN:DAYLIGHT
TZOFFSETFROM:-0500
TZOFFSETTO:-0400
TZNAME:EDT
DTSTART:20230312T070000
END:DAYLIGHT
BEGIN:STANDARD
TZOFFSETFROM:-0400
TZOFFSETTO:-0500
TZNAME:EST
DTSTART:20231105T060000
END:STANDARD
END:VTIMEZONE
BEGIN:VEVENT
DTSTART;TZID=America/Toronto:20220922T090000
DTEND;TZID=America/Toronto:20220922T090000
DTSTAMP:20260422T002608
CREATED:20231113T033945Z
LAST-MODIFIED:20231113T033945Z
UID:4800-1663837200-1663837200@g-tac.ca
SUMMARY:How to Write An Effective Resume
DESCRIPTION:What are “keywords” and how do I incorporate them in my resume?\nHow to write an interesting summary that will get the employers attention?\nWhat is the difference between a CV and a resume? \n \nJoin Caitlin Tessler\, the Lead Career Consultant at Global Talent Alliance Canada (G-TAC) to learn how to create a professional resume for the Canadian Labour Market. We will be discussing keywords from job descriptions and how to use them in your resume. You will learn how to write a summary of your skills- which is the first thing an employer reads on your resume. You will also learn the sections in a resume and proper format along with much more! There will be various examples so that you have the best help in writing your resume. There will also be time to ask questions at the end.\n \n 
URL:https://g-tac.ca/event/how-to-write-an-effective-resume-2/
ATTACH;FMTTYPE=image/png:https://g-tac.ca/wp-content/uploads/2022/08/6.png
END:VEVENT
END:VCALENDAR