BEGIN:VCALENDAR
VERSION:2.0
PRODID:-//G-TAC - ECPv6.15.20//NONSGML v1.0//EN
CALSCALE:GREGORIAN
METHOD:PUBLISH
X-WR-CALNAME:G-TAC
X-ORIGINAL-URL:https://g-tac.ca
X-WR-CALDESC:Events for G-TAC
REFRESH-INTERVAL;VALUE=DURATION:PT1H
X-Robots-Tag:noindex
X-PUBLISHED-TTL:PT1H
BEGIN:VTIMEZONE
TZID:America/Toronto
BEGIN:DAYLIGHT
TZOFFSETFROM:-0500
TZOFFSETTO:-0400
TZNAME:EDT
DTSTART:20210314T070000
END:DAYLIGHT
BEGIN:STANDARD
TZOFFSETFROM:-0400
TZOFFSETTO:-0500
TZNAME:EST
DTSTART:20211107T060000
END:STANDARD
BEGIN:DAYLIGHT
TZOFFSETFROM:-0500
TZOFFSETTO:-0400
TZNAME:EDT
DTSTART:20220313T070000
END:DAYLIGHT
BEGIN:STANDARD
TZOFFSETFROM:-0400
TZOFFSETTO:-0500
TZNAME:EST
DTSTART:20221106T060000
END:STANDARD
BEGIN:DAYLIGHT
TZOFFSETFROM:-0500
TZOFFSETTO:-0400
TZNAME:EDT
DTSTART:20230312T070000
END:DAYLIGHT
BEGIN:STANDARD
TZOFFSETFROM:-0400
TZOFFSETTO:-0500
TZNAME:EST
DTSTART:20231105T060000
END:STANDARD
END:VTIMEZONE
BEGIN:VEVENT
DTSTART;TZID=America/Toronto:20220908T090000
DTEND;TZID=America/Toronto:20220908T090000
DTSTAMP:20260422T002427
CREATED:20231113T033946Z
LAST-MODIFIED:20231113T033946Z
UID:4802-1662627600-1662627600@g-tac.ca
SUMMARY:Introduction of Job Search Strategy in Canada
DESCRIPTION:The pandemic has brought profound changes in our life and work. On one hand\, there is a wave of resignation and shortage of workers\, and on the other hand\, there are people\, in particular newcomers\, unable to find jobs relevant to their professional background\, or encounter bottlenecks in their career advancement. As a job seeker\, it is important to catch up on the new hiring trends and retune the job search strategy. In this webinar\, we will introduce common job search strategy in Canada. The topics include:\nTypes of job search methods in Canada\nWhat is ‘Application Tracking System’\, and how do you adapt to it when applying jobs\nHow to get referrals\nTop soft skills that employers look for in post-pandemic\nHow to develop your own job search plan to improve the effectiveness of your job search? \nAbout the speaker:\nAriane Guan\, a certified employment counsellor with over 10 years of experience helping newcomers find jobs. She is currently working at the University of Calgary as a Career Counsellor.\n \n 
URL:https://g-tac.ca/event/introduction-of-job-search-strategy-in-canada/
ATTACH;FMTTYPE=image/png:https://g-tac.ca/wp-content/uploads/2022/08/8.png
END:VEVENT
END:VCALENDAR