BEGIN:VCALENDAR
VERSION:2.0
PRODID:-//G-TAC - ECPv6.15.20//NONSGML v1.0//EN
CALSCALE:GREGORIAN
METHOD:PUBLISH
X-WR-CALNAME:G-TAC
X-ORIGINAL-URL:https://g-tac.ca
X-WR-CALDESC:Events for G-TAC
REFRESH-INTERVAL;VALUE=DURATION:PT1H
X-Robots-Tag:noindex
X-PUBLISHED-TTL:PT1H
BEGIN:VTIMEZONE
TZID:America/Toronto
BEGIN:DAYLIGHT
TZOFFSETFROM:-0500
TZOFFSETTO:-0400
TZNAME:EDT
DTSTART:20210314T070000
END:DAYLIGHT
BEGIN:STANDARD
TZOFFSETFROM:-0400
TZOFFSETTO:-0500
TZNAME:EST
DTSTART:20211107T060000
END:STANDARD
BEGIN:DAYLIGHT
TZOFFSETFROM:-0500
TZOFFSETTO:-0400
TZNAME:EDT
DTSTART:20220313T070000
END:DAYLIGHT
BEGIN:STANDARD
TZOFFSETFROM:-0400
TZOFFSETTO:-0500
TZNAME:EST
DTSTART:20221106T060000
END:STANDARD
BEGIN:DAYLIGHT
TZOFFSETFROM:-0500
TZOFFSETTO:-0400
TZNAME:EDT
DTSTART:20230312T070000
END:DAYLIGHT
BEGIN:STANDARD
TZOFFSETFROM:-0400
TZOFFSETTO:-0500
TZNAME:EST
DTSTART:20231105T060000
END:STANDARD
END:VTIMEZONE
BEGIN:VEVENT
DTSTART;TZID=America/Toronto:20220816T090000
DTEND;TZID=America/Toronto:20220816T090000
DTSTAMP:20260422T021424
CREATED:20231113T033951Z
LAST-MODIFIED:20231113T033951Z
UID:4805-1660640400-1660640400@g-tac.ca
SUMMARY:魁省医疗体系介绍
DESCRIPTION:您想了解魁省的健康卡提供哪些医疗服务及药物计划吗？\n您知道魁省健康卡对于居住时间的要求吗？\n您想了解在魁省以外发生的医疗费用如何申请报销吗？ \n加拿大福利制度非常完善，种类繁多。在医疗方面，各省都有比较完善的保障，以确保每个人都病有所医。在魁北克省，每个公民包括永久居民都有权享受由魁省健康卡（俗称太阳卡）提供的免费医疗服务。\nG-TAC很荣幸地邀请到蒙特利尔新移民服务机构CARI St-Laurent的新移民安居指导员Lixin Wang女士，为大家介绍魁省健康卡的相关信息，帮助您了解自己和家人可以享受的相关医疗服务和补贴。王女士有超过10年的魁省新移民安居辅导经验，热心提供专业服务，帮助新移民更快适应当地生活。 讲座将以普通话进行，敬请参加。\n 
URL:https://g-tac.ca/event/%e9%ad%81%e7%9c%81%e5%8c%bb%e7%96%97%e4%bd%93%e7%b3%bb%e4%bb%8b%e7%bb%8d/
ATTACH;FMTTYPE=image/png:https://g-tac.ca/wp-content/uploads/2022/07/ME-calendar-17.png
END:VEVENT
END:VCALENDAR