BEGIN:VCALENDAR
VERSION:2.0
PRODID:-//G-TAC - ECPv6.15.20//NONSGML v1.0//EN
CALSCALE:GREGORIAN
METHOD:PUBLISH
X-ORIGINAL-URL:https://g-tac.ca
X-WR-CALDESC:Events for G-TAC
REFRESH-INTERVAL;VALUE=DURATION:PT1H
X-Robots-Tag:noindex
X-PUBLISHED-TTL:PT1H
BEGIN:VTIMEZONE
TZID:America/Toronto
BEGIN:DAYLIGHT
TZOFFSETFROM:-0500
TZOFFSETTO:-0400
TZNAME:EDT
DTSTART:20210314T070000
END:DAYLIGHT
BEGIN:STANDARD
TZOFFSETFROM:-0400
TZOFFSETTO:-0500
TZNAME:EST
DTSTART:20211107T060000
END:STANDARD
BEGIN:DAYLIGHT
TZOFFSETFROM:-0500
TZOFFSETTO:-0400
TZNAME:EDT
DTSTART:20220313T070000
END:DAYLIGHT
BEGIN:STANDARD
TZOFFSETFROM:-0400
TZOFFSETTO:-0500
TZNAME:EST
DTSTART:20221106T060000
END:STANDARD
BEGIN:DAYLIGHT
TZOFFSETFROM:-0500
TZOFFSETTO:-0400
TZNAME:EDT
DTSTART:20230312T070000
END:DAYLIGHT
BEGIN:STANDARD
TZOFFSETFROM:-0400
TZOFFSETTO:-0500
TZNAME:EST
DTSTART:20231105T060000
END:STANDARD
END:VTIMEZONE
BEGIN:VEVENT
DTSTART;TZID=America/Toronto:20220811T090000
DTEND;TZID=America/Toronto:20220811T090000
DTSTAMP:20260422T021520
CREATED:20231113T033952Z
LAST-MODIFIED:20231113T033952Z
UID:4807-1660208400-1660208400@g-tac.ca
SUMMARY:Overview Of Your Post-Secondary Education Options In Canada
DESCRIPTION:– What are the differences between Canadian universities and colleges?– What are the bridging programs and how can internationally trained professionals benefit for them?\nIn this webinar\, Next Stop Canada Youth Information and Referral Specialists\, Kasthuri Jeyaraj and Kathleen Velasco\, will provide an overview of your post-secondary education options in Canada. They will give some insight into the post-secondary education system\, including the distinction between Canadian universities and colleges\, the credentials that can be acquired\, as well as bridging programs\, career training and much more.\nAbout the Speakers: \nKathleen Velasco is a Certified Youth Information and Referral Specialist at Next Stop Canada. Based out of Toronto\, Ontario\, Kathleen works with pre-arrival immigrant youth\, adults\, and families to help them prepare for life in Canada. In addition to information and referral provision\, Kathleen helps co-coordinate the Next Stop Canada Youth Program. She has a passion for contributing to the development of a society in which all individuals feel welcomed\, included\, and have access to opportunities to shine. \nKasthuri Jeyaraj is a Certified Youth Information and Referral Specialist at Next Stop Canada. In her current role\, she supports pre-arrival youth and their families to prepare for life in Canada. Kasthuri has been working with youth for over 7 years with a focus on employment and newcomer programs. As a previous newcomer herself\, she has a passion to use that experience and the challenges she and her family faced to help support other newcomer youth and their families.\n 
URL:https://g-tac.ca/event/overview-of-your-post-secondary-education-options-in-canada/
ATTACH;FMTTYPE=image/png:https://g-tac.ca/wp-content/uploads/2022/06/ME-calendar-8.png
END:VEVENT
END:VCALENDAR