BEGIN:VCALENDAR
VERSION:2.0
PRODID:-//G-TAC - ECPv6.15.20//NONSGML v1.0//EN
CALSCALE:GREGORIAN
METHOD:PUBLISH
X-WR-CALNAME:G-TAC
X-ORIGINAL-URL:https://g-tac.ca
X-WR-CALDESC:Events for G-TAC
REFRESH-INTERVAL;VALUE=DURATION:PT1H
X-Robots-Tag:noindex
X-PUBLISHED-TTL:PT1H
BEGIN:VTIMEZONE
TZID:America/Toronto
BEGIN:DAYLIGHT
TZOFFSETFROM:-0500
TZOFFSETTO:-0400
TZNAME:EDT
DTSTART:20210314T070000
END:DAYLIGHT
BEGIN:STANDARD
TZOFFSETFROM:-0400
TZOFFSETTO:-0500
TZNAME:EST
DTSTART:20211107T060000
END:STANDARD
BEGIN:DAYLIGHT
TZOFFSETFROM:-0500
TZOFFSETTO:-0400
TZNAME:EDT
DTSTART:20220313T070000
END:DAYLIGHT
BEGIN:STANDARD
TZOFFSETFROM:-0400
TZOFFSETTO:-0500
TZNAME:EST
DTSTART:20221106T060000
END:STANDARD
BEGIN:DAYLIGHT
TZOFFSETFROM:-0500
TZOFFSETTO:-0400
TZNAME:EDT
DTSTART:20230312T070000
END:DAYLIGHT
BEGIN:STANDARD
TZOFFSETFROM:-0400
TZOFFSETTO:-0500
TZNAME:EST
DTSTART:20231105T060000
END:STANDARD
END:VTIMEZONE
BEGIN:VEVENT
DTSTART;TZID=America/Toronto:20220804T090000
DTEND;TZID=America/Toronto:20220804T090000
DTSTAMP:20260422T021426
CREATED:20231113T034007Z
LAST-MODIFIED:20231113T034007Z
UID:4809-1659603600-1659603600@g-tac.ca
SUMMARY:How Does Banking System Work In Canada?
DESCRIPTION:Topics to Cover:-Types of bank accounts in Canada\n-Why credit history is so important in Canada?\n-Desjardins offers\nAbout the Speakers:  \nYunzhu’s bio: Yunzhu Huang\, Business strategies advisor with 4+ years banking experiences and 8 years customer services experiences. Master in administration and evaluation in education from Université Laval. Specialize in personal financial services (mortgages & investments) and business development. \nMohamed’s bio: Mohamed KONÉ\, B.B.A Finance\, Client relation Associate with Desjardins since 2021\, in the banking industry since 2016 with a strong cultural background in developing social skills and behaviors around diversity.\n  \n 
URL:https://g-tac.ca/event/how-does-banking-system-work-in-canada/
ATTACH;FMTTYPE=image/png:https://g-tac.ca/wp-content/uploads/2021/10/10.png
END:VEVENT
END:VCALENDAR