BEGIN:VCALENDAR
VERSION:2.0
PRODID:-//G-TAC - ECPv6.15.20//NONSGML v1.0//EN
CALSCALE:GREGORIAN
METHOD:PUBLISH
X-ORIGINAL-URL:https://g-tac.ca
X-WR-CALDESC:Events for G-TAC
REFRESH-INTERVAL;VALUE=DURATION:PT1H
X-Robots-Tag:noindex
X-PUBLISHED-TTL:PT1H
BEGIN:VTIMEZONE
TZID:America/Toronto
BEGIN:DAYLIGHT
TZOFFSETFROM:-0500
TZOFFSETTO:-0400
TZNAME:EDT
DTSTART:20210314T070000
END:DAYLIGHT
BEGIN:STANDARD
TZOFFSETFROM:-0400
TZOFFSETTO:-0500
TZNAME:EST
DTSTART:20211107T060000
END:STANDARD
BEGIN:DAYLIGHT
TZOFFSETFROM:-0500
TZOFFSETTO:-0400
TZNAME:EDT
DTSTART:20220313T070000
END:DAYLIGHT
BEGIN:STANDARD
TZOFFSETFROM:-0400
TZOFFSETTO:-0500
TZNAME:EST
DTSTART:20221106T060000
END:STANDARD
BEGIN:DAYLIGHT
TZOFFSETFROM:-0500
TZOFFSETTO:-0400
TZNAME:EDT
DTSTART:20230312T070000
END:DAYLIGHT
BEGIN:STANDARD
TZOFFSETFROM:-0400
TZOFFSETTO:-0500
TZNAME:EST
DTSTART:20231105T060000
END:STANDARD
END:VTIMEZONE
BEGIN:VEVENT
DTSTART;TZID=America/Toronto:20220609T090000
DTEND;TZID=America/Toronto:20220609T090000
DTSTAMP:20260422T072834
CREATED:20231113T034020Z
LAST-MODIFIED:20231113T034020Z
UID:4823-1654765200-1654765200@g-tac.ca
SUMMARY:Discover Living in Sarnia-Lambton\, Ontario Employer Spotlight: Pathways Health Centre for Children
DESCRIPTION:– Learn about the Sarnia-Lambton community and discover living in the region– Meet with employer – Pathways Health Centre for Children and hear about exciting job\nopportunities in the healthcare sector\nWebinar Description: \nMeet with Cari Meloche\, Economic Development Officer from the Sarnia-Lambton Economic Partnership to offer a glimpse of why Sarnia-Lambton is a great place to live\, work\, and play.\nThe community offers an appealing mix of big city amenities and small-town friendliness while being surrounded by green farmland and clean sandy beaches and only 3-hours from Greater Toronto Area. Hear about the excellent schools and recreation facilities\, and a superb health care system. Whatever your lifestyle includes\, there is something for you in Sarnia-Lambton.\nHear from Susan Paulley\, Human Resources with Pathways Health Centre for Children.\nPathways Health Centre for Children is a family-centred community agency serving children and youth with physical\, evelopmental and communication needs and their families as well as adults for selected specialized services in Lambton County. The Centre provides a full range of family-centred rehabilitation and support services.\nLearn more about job opportunities such as: Speech Language Pathologist\, Physiotherapist\, Occupational Therapist.
URL:https://g-tac.ca/event/discover-living-in-sarnia-lambton-ontario-employer-spotlight-pathways-health-centre-for-children/
ATTACH;FMTTYPE=image/png:https://g-tac.ca/wp-content/uploads/2022/05/5-1.png
END:VEVENT
END:VCALENDAR